BEGIN:VCALENDAR
VERSION:2.0
PRODID:-//Shekinah Revival Ministries - ECPv6.15.18//NONSGML v1.0//EN
CALSCALE:GREGORIAN
METHOD:PUBLISH
X-ORIGINAL-URL:https://shekinahrevivalministries.com
X-WR-CALDESC:Events for Shekinah Revival Ministries
REFRESH-INTERVAL;VALUE=DURATION:PT1H
X-Robots-Tag:noindex
X-PUBLISHED-TTL:PT1H
BEGIN:VTIMEZONE
TZID:America/New_York
BEGIN:DAYLIGHT
TZOFFSETFROM:-0500
TZOFFSETTO:-0400
TZNAME:EDT
DTSTART:20220313T070000
END:DAYLIGHT
BEGIN:STANDARD
TZOFFSETFROM:-0400
TZOFFSETTO:-0500
TZNAME:EST
DTSTART:20221106T060000
END:STANDARD
BEGIN:DAYLIGHT
TZOFFSETFROM:-0500
TZOFFSETTO:-0400
TZNAME:EDT
DTSTART:20230312T070000
END:DAYLIGHT
BEGIN:STANDARD
TZOFFSETFROM:-0400
TZOFFSETTO:-0500
TZNAME:EST
DTSTART:20231105T060000
END:STANDARD
BEGIN:DAYLIGHT
TZOFFSETFROM:-0500
TZOFFSETTO:-0400
TZNAME:EDT
DTSTART:20240310T070000
END:DAYLIGHT
BEGIN:STANDARD
TZOFFSETFROM:-0400
TZOFFSETTO:-0500
TZNAME:EST
DTSTART:20241103T060000
END:STANDARD
END:VTIMEZONE
BEGIN:VEVENT
DTSTART;TZID=America/New_York:20230225T090000
DTEND;TZID=America/New_York:20230225T110000
DTSTAMP:20260424T223530
CREATED:20230130T191209Z
LAST-MODIFIED:20230219T233701Z
UID:3204-1677315600-1677322800@shekinahrevivalministries.com
SUMMARY:Men's Breakfast Gathering
DESCRIPTION:
URL:https://shekinahrevivalministries.com/event/mens-breakfast-gathering-3/
LOCATION:Shekinah Revival Ministries\, 1941 Washington Ave.\, Holland\, MI\, 49423\, United States
ATTACH;FMTTYPE=image/png:https://shekinahrevivalministries.com/wp-content/uploads/2023/01/Mens-Breakfast-Feb-25-new-date.png
END:VEVENT
END:VCALENDAR