BEGIN:VCALENDAR
VERSION:2.0
PRODID:-//Shekinah Revival Ministries - ECPv6.15.18//NONSGML v1.0//EN
CALSCALE:GREGORIAN
METHOD:PUBLISH
X-WR-CALNAME:Shekinah Revival Ministries
X-ORIGINAL-URL:https://shekinahrevivalministries.com
X-WR-CALDESC:Events for Shekinah Revival Ministries
REFRESH-INTERVAL;VALUE=DURATION:PT1H
X-Robots-Tag:noindex
X-PUBLISHED-TTL:PT1H
BEGIN:VTIMEZONE
TZID:America/New_York
BEGIN:DAYLIGHT
TZOFFSETFROM:-0500
TZOFFSETTO:-0400
TZNAME:EDT
DTSTART:20230312T070000
END:DAYLIGHT
BEGIN:STANDARD
TZOFFSETFROM:-0400
TZOFFSETTO:-0500
TZNAME:EST
DTSTART:20231105T060000
END:STANDARD
BEGIN:DAYLIGHT
TZOFFSETFROM:-0500
TZOFFSETTO:-0400
TZNAME:EDT
DTSTART:20240310T070000
END:DAYLIGHT
BEGIN:STANDARD
TZOFFSETFROM:-0400
TZOFFSETTO:-0500
TZNAME:EST
DTSTART:20241103T060000
END:STANDARD
BEGIN:DAYLIGHT
TZOFFSETFROM:-0500
TZOFFSETTO:-0400
TZNAME:EDT
DTSTART:20250309T070000
END:DAYLIGHT
BEGIN:STANDARD
TZOFFSETFROM:-0400
TZOFFSETTO:-0500
TZNAME:EST
DTSTART:20251102T060000
END:STANDARD
END:VTIMEZONE
BEGIN:VEVENT
DTSTART;TZID=America/New_York:20241214T100000
DTEND;TZID=America/New_York:20241214T140000
DTSTAMP:20260423T093924
CREATED:20241202T142504Z
LAST-MODIFIED:20241202T142504Z
UID:4437-1734170400-1734184800@shekinahrevivalministries.com
SUMMARY:Date Day Childcare
DESCRIPTION:
URL:https://shekinahrevivalministries.com/event/date-day-childcare-2/
LOCATION:Shekinah Revival Ministries\, 1941 Washington Ave.\, Holland\, MI\, 49423\, United States
ATTACH;FMTTYPE=image/jpeg:https://shekinahrevivalministries.com/wp-content/uploads/2024/12/Date-Day-Childcare-December-14-new.jpg
END:VEVENT
BEGIN:VEVENT
DTSTART;TZID=America/New_York:20241214T110000
DTEND;TZID=America/New_York:20241214T130000
DTSTAMP:20260423T093924
CREATED:20241125T211709Z
LAST-MODIFIED:20241125T211709Z
UID:4420-1734174000-1734181200@shekinahrevivalministries.com
SUMMARY:Seniors 55+ Christmas Luncheon
DESCRIPTION:All food is provided\, sign up at the narthex!
URL:https://shekinahrevivalministries.com/event/seniors-55-christmas-luncheon-2/
LOCATION:Shekinah Revival Ministries\, 1941 Washington Ave.\, Holland\, MI\, 49423\, United States
ATTACH;FMTTYPE=image/png:https://shekinahrevivalministries.com/wp-content/uploads/2024/11/SHARE-LUNCHEON-DEC-14-1.png
ORGANIZER;CN="Pastor Will Dilbert":MAILTO:pastorwill@liftingjesushigher.org
END:VEVENT
END:VCALENDAR