BEGIN:VCALENDAR
VERSION:2.0
PRODID:-//Shekinah Revival Ministries - ECPv6.15.18//NONSGML v1.0//EN
CALSCALE:GREGORIAN
METHOD:PUBLISH
X-WR-CALNAME:Shekinah Revival Ministries
X-ORIGINAL-URL:https://shekinahrevivalministries.com
X-WR-CALDESC:Events for Shekinah Revival Ministries
REFRESH-INTERVAL;VALUE=DURATION:PT1H
X-Robots-Tag:noindex
X-PUBLISHED-TTL:PT1H
BEGIN:VTIMEZONE
TZID:America/New_York
BEGIN:DAYLIGHT
TZOFFSETFROM:-0500
TZOFFSETTO:-0400
TZNAME:EDT
DTSTART:20220313T070000
END:DAYLIGHT
BEGIN:STANDARD
TZOFFSETFROM:-0400
TZOFFSETTO:-0500
TZNAME:EST
DTSTART:20221106T060000
END:STANDARD
BEGIN:DAYLIGHT
TZOFFSETFROM:-0500
TZOFFSETTO:-0400
TZNAME:EDT
DTSTART:20230312T070000
END:DAYLIGHT
BEGIN:STANDARD
TZOFFSETFROM:-0400
TZOFFSETTO:-0500
TZNAME:EST
DTSTART:20231105T060000
END:STANDARD
BEGIN:DAYLIGHT
TZOFFSETFROM:-0500
TZOFFSETTO:-0400
TZNAME:EDT
DTSTART:20240310T070000
END:DAYLIGHT
BEGIN:STANDARD
TZOFFSETFROM:-0400
TZOFFSETTO:-0500
TZNAME:EST
DTSTART:20241103T060000
END:STANDARD
END:VTIMEZONE
BEGIN:VEVENT
DTSTART;TZID=America/New_York:20231031T180000
DTEND;TZID=America/New_York:20231031T200000
DTSTAMP:20260419T093938
CREATED:20231016T134938Z
LAST-MODIFIED:20231016T134938Z
UID:3676-1698775200-1698782400@shekinahrevivalministries.com
SUMMARY:Hallelujah Night
DESCRIPTION:
URL:https://shekinahrevivalministries.com/event/hallelujah-night-2/
LOCATION:Rollxscape Skating Center\, 12521 James St\, Holland\, MI\, 49424\, United States
ATTACH;FMTTYPE=image/png:https://shekinahrevivalministries.com/wp-content/uploads/2023/10/Hallelujah-Night-2023-1.png
END:VEVENT
BEGIN:VEVENT
DTSTART;TZID=America/New_York:20231015T000000
DTEND;TZID=America/New_York:20231015T000000
DTSTAMP:20260419T093938
CREATED:20230925T132105Z
LAST-MODIFIED:20230925T132136Z
UID:3643-1697328000-1697328000@shekinahrevivalministries.com
SUMMARY:Home Life Group - October
DESCRIPTION:would love to have you join us in our small groups for food and fellowship
URL:https://shekinahrevivalministries.com/event/home-life-group-september-2-2/
LOCATION:MI
ATTACH;FMTTYPE=image/png:https://shekinahrevivalministries.com/wp-content/uploads/2023/09/OCTOBER-HLG.png
ORGANIZER;CN="Pastor Will Dilbert":MAILTO:pastorwill@liftingjesushigher.org
END:VEVENT
BEGIN:VEVENT
DTSTART;TZID=America/New_York:20231013T190000
DTEND;TZID=America/New_York:20231013T210000
DTSTAMP:20260419T093938
CREATED:20230925T132523Z
LAST-MODIFIED:20230925T132523Z
UID:3646-1697223600-1697230800@shekinahrevivalministries.com
SUMMARY:Healing Service
DESCRIPTION:
URL:https://shekinahrevivalministries.com/event/healing-service-9-2/
LOCATION:Shekinah Revival Ministries\, 1941 Washington Ave.\, Holland\, MI\, 49423\, United States
ATTACH;FMTTYPE=image/png:https://shekinahrevivalministries.com/wp-content/uploads/2023/09/Friday-Night-Healing-Services-Oct-13.png
ORGANIZER;CN="Pastor Will Dilbert":MAILTO:pastorwill@liftingjesushigher.org
END:VEVENT
BEGIN:VEVENT
DTSTART;TZID=America/New_York:20231008T180000
DTEND;TZID=America/New_York:20231008T200000
DTSTAMP:20260419T093938
CREATED:20230918T180124Z
LAST-MODIFIED:20230918T180124Z
UID:3628-1696788000-1696795200@shekinahrevivalministries.com
SUMMARY:Family Prophetic Night
DESCRIPTION:
URL:https://shekinahrevivalministries.com/event/family-prophetic-night-2/
LOCATION:Shekinah Revival Ministries\, 1941 Washington Ave.\, Holland\, MI\, 49423\, United States
ATTACH;FMTTYPE=image/png:https://shekinahrevivalministries.com/wp-content/uploads/2023/09/Family-Prophetic-Night-OCT-8.png
END:VEVENT
BEGIN:VEVENT
DTSTART;TZID=America/New_York:20231005T150000
DTEND;TZID=America/New_York:20231005T160000
DTSTAMP:20260419T093938
CREATED:20230918T180335Z
LAST-MODIFIED:20230918T180335Z
UID:3633-1696518000-1696521600@shekinahrevivalministries.com
SUMMARY:October Food For Families
DESCRIPTION:
URL:https://shekinahrevivalministries.com/event/october-food-for-families/
LOCATION:Shekinah Revival Ministries\, 1941 Washington Ave.\, Holland\, MI\, 49423\, United States
ATTACH;FMTTYPE=image/png:https://shekinahrevivalministries.com/wp-content/uploads/2023/09/OCTOBER-FFF-2023.png
END:VEVENT
BEGIN:VEVENT
DTSTART;TZID=America/New_York:20231005T110000
DTEND;TZID=America/New_York:20231005T130000
DTSTAMP:20260419T093938
CREATED:20230925T132941Z
LAST-MODIFIED:20230925T132941Z
UID:3654-1696503600-1696510800@shekinahrevivalministries.com
SUMMARY:Senior Ministry “SHARE”
DESCRIPTION:
URL:https://shekinahrevivalministries.com/event/senior-ministry-share-11-2/
LOCATION:Shekinah Revival Ministries\, 1941 Washington Ave.\, Holland\, MI\, 49423\, United States
ATTACH;FMTTYPE=image/jpeg:https://shekinahrevivalministries.com/wp-content/uploads/2023/09/OCT-2023-SHARE-POSTER.jpg
ORGANIZER;CN="Pastor Will Dilbert":MAILTO:pastorwill@liftingjesushigher.org
END:VEVENT
BEGIN:VEVENT
DTSTART;TZID=America/New_York:20231002T183000
DTEND;TZID=America/New_York:20231002T203000
DTSTAMP:20260419T093938
CREATED:20230925T132720Z
LAST-MODIFIED:20230925T132720Z
UID:3649-1696271400-1696278600@shekinahrevivalministries.com
SUMMARY:Intercessory Gathering
DESCRIPTION:
URL:https://shekinahrevivalministries.com/event/intercessory-gathering-9-2/
LOCATION:Shekinah Revival Ministries\, 1941 Washington Ave.\, Holland\, MI\, 49423\, United States
ATTACH;FMTTYPE=image/png:https://shekinahrevivalministries.com/wp-content/uploads/2023/09/Intercessory-Gathering-October-2.png
ORGANIZER;CN="Pastor Will Dilbert":MAILTO:pastorwill@liftingjesushigher.org
END:VEVENT
BEGIN:VEVENT
DTSTART;TZID=America/New_York:20230926T183000
DTEND;TZID=America/New_York:20230926T203000
DTSTAMP:20260419T093938
CREATED:20230918T180526Z
LAST-MODIFIED:20230918T180526Z
UID:3635-1695753000-1695760200@shekinahrevivalministries.com
SUMMARY:Ladies Event
DESCRIPTION:
URL:https://shekinahrevivalministries.com/event/ladies-event/
LOCATION:Shekinah Revival Ministries\, 1941 Washington Ave.\, Holland\, MI\, 49423\, United States
ATTACH;FMTTYPE=image/png:https://shekinahrevivalministries.com/wp-content/uploads/2023/09/Ladies-Event-SEPT-26.png
END:VEVENT
BEGIN:VEVENT
DTSTART;VALUE=DATE:20230924
DTEND;VALUE=DATE:20230925
DTSTAMP:20260419T093938
CREATED:20230821T130005Z
LAST-MODIFIED:20230821T130005Z
UID:3585-1695513600-1695599999@shekinahrevivalministries.com
SUMMARY:Prophetess Gina Gholston
DESCRIPTION:
URL:https://shekinahrevivalministries.com/event/prophetess-gina-gholston/
LOCATION:Shekinah Revival Ministries\, 1941 Washington Ave.\, Holland\, MI\, 49423\, United States
ATTACH;FMTTYPE=image/png:https://shekinahrevivalministries.com/wp-content/uploads/2023/08/Gina-Gholston-PosteR-SEPT-24.png
END:VEVENT
BEGIN:VEVENT
DTSTART;VALUE=DATE:20230917
DTEND;VALUE=DATE:20230918
DTSTAMP:20260419T093938
CREATED:20230904T125637Z
LAST-MODIFIED:20230904T125637Z
UID:3601-1694908800-1694995199@shekinahrevivalministries.com
SUMMARY:Home Life Group - September
DESCRIPTION:would love to have you join us in our small groups for food and fellowship
URL:https://shekinahrevivalministries.com/event/home-life-group-september-2/
LOCATION:MI
ATTACH;FMTTYPE=image/png:https://shekinahrevivalministries.com/wp-content/uploads/2023/09/HLG-SEPTEMBER-2023.png
ORGANIZER;CN="Pastor Will Dilbert":MAILTO:pastorwill@liftingjesushigher.org
END:VEVENT
BEGIN:VEVENT
DTSTART;TZID=America/New_York:20230916T090000
DTEND;TZID=America/New_York:20230916T120000
DTSTAMP:20260419T093938
CREATED:20230814T122018Z
LAST-MODIFIED:20230814T122018Z
UID:3573-1694854800-1694865600@shekinahrevivalministries.com
SUMMARY:Intercessory Breakfast
DESCRIPTION:
URL:https://shekinahrevivalministries.com/event/intercessory-breakfast/
LOCATION:Shekinah Revival Ministries\, 1941 Washington Ave.\, Holland\, MI\, 49423\, United States
ATTACH;FMTTYPE=image/png:https://shekinahrevivalministries.com/wp-content/uploads/2023/08/Intercessory-Breakfast-Poster-Sept-16.png
ORGANIZER;CN="Pastor Will Dilbert":MAILTO:pastorwill@liftingjesushigher.org
END:VEVENT
BEGIN:VEVENT
DTSTART;TZID=America/New_York:20230907T150000
DTEND;TZID=America/New_York:20230907T163000
DTSTAMP:20260419T093938
CREATED:20230821T125251Z
LAST-MODIFIED:20230821T125251Z
UID:3581-1694098800-1694104200@shekinahrevivalministries.com
SUMMARY:Food For Families
DESCRIPTION:
URL:https://shekinahrevivalministries.com/event/food-for-families-11/
LOCATION:Shekinah Revival Ministries\, 1941 Washington Ave.\, Holland\, MI\, 49423\, United States
ATTACH;FMTTYPE=image/png:https://shekinahrevivalministries.com/wp-content/uploads/2023/08/SEPTEMBER-FFF-2023.png
END:VEVENT
BEGIN:VEVENT
DTSTART;TZID=America/New_York:20230827T100000
DTEND;TZID=America/New_York:20230827T123000
DTSTAMP:20260419T093938
CREATED:20230724T133200Z
LAST-MODIFIED:20230724T133200Z
UID:3546-1693130400-1693139400@shekinahrevivalministries.com
SUMMARY:Sunday Service at Gull Lake
DESCRIPTION:
URL:https://shekinahrevivalministries.com/event/sunday-service-at-gull-lake/
LOCATION:Gull Lake Ministries\, 1800 Burlington Dr\, Hickory Corners\, MI\, 49060\, United States
ATTACH;FMTTYPE=image/png:https://shekinahrevivalministries.com/wp-content/uploads/2023/07/Sunday-Service-at-Gull-Lake.png
END:VEVENT
BEGIN:VEVENT
DTSTART;VALUE=DATE:20230823
DTEND;VALUE=DATE:20230828
DTSTAMP:20260419T093938
CREATED:20230522T123906Z
LAST-MODIFIED:20230522T124040Z
UID:3427-1692748800-1693180799@shekinahrevivalministries.com
SUMMARY:Church Camp 2023
DESCRIPTION:
URL:https://shekinahrevivalministries.com/event/church-camp-2023/
LOCATION:Gull Lake Ministries\, 1800 Burlington Dr\, Hickory Corners\, MI\, 49060\, United States
ATTACH;FMTTYPE=image/png:https://shekinahrevivalministries.com/wp-content/uploads/2023/05/CAMP-POSTER.png
END:VEVENT
BEGIN:VEVENT
DTSTART;TZID=America/New_York:20230820T180000
DTEND;TZID=America/New_York:20230820T200000
DTSTAMP:20260419T093938
CREATED:20230626T165704Z
LAST-MODIFIED:20230626T165704Z
UID:3493-1692554400-1692561600@shekinahrevivalministries.com
SUMMARY:Prophets Kathy & Charity Campbell
DESCRIPTION:
URL:https://shekinahrevivalministries.com/event/prophets-kathy-charity-campbell-2/
LOCATION:Shekinah Revival Ministries\, 1941 Washington Ave.\, Holland\, MI\, 49423\, United States
ATTACH;FMTTYPE=image/png:https://shekinahrevivalministries.com/wp-content/uploads/2023/06/KATHY-CAMPBELL-POSTER.png
END:VEVENT
BEGIN:VEVENT
DTSTART;TZID=America/New_York:20230817T110000
DTEND;TZID=America/New_York:20230817T130000
DTSTAMP:20260419T093938
CREATED:20230716T223335Z
LAST-MODIFIED:20230807T141513Z
UID:3535-1692270000-1692277200@shekinahrevivalministries.com
SUMMARY:Senior Ministry “SHARE”
DESCRIPTION:
URL:https://shekinahrevivalministries.com/event/senior-ministry-share-11/
LOCATION:Shekinah Revival Ministries\, 1941 Washington Ave.\, Holland\, MI\, 49423\, United States
ATTACH;FMTTYPE=image/png:https://shekinahrevivalministries.com/wp-content/uploads/2023/07/SHARE-EVENT-AUG-17-NEW.png
ORGANIZER;CN="Pastor Will Dilbert":MAILTO:pastorwill@liftingjesushigher.org
END:VEVENT
BEGIN:VEVENT
DTSTART;TZID=America/New_York:20230811T190000
DTEND;TZID=America/New_York:20230811T210000
DTSTAMP:20260419T093938
CREATED:20230724T133536Z
LAST-MODIFIED:20230724T133536Z
UID:3549-1691780400-1691787600@shekinahrevivalministries.com
SUMMARY:Healing Service
DESCRIPTION:
URL:https://shekinahrevivalministries.com/event/healing-service-9/
LOCATION:Shekinah Revival Ministries\, 1941 Washington Ave.\, Holland\, MI\, 49423\, United States
ATTACH;FMTTYPE=image/png:https://shekinahrevivalministries.com/wp-content/uploads/2023/07/Friday-Night-Healing-services-Aug-11.png
ORGANIZER;CN="Pastor Will Dilbert":MAILTO:pastorwill@liftingjesushigher.org
END:VEVENT
BEGIN:VEVENT
DTSTART;TZID=America/New_York:20230806T180000
DTEND;TZID=America/New_York:20230806T200000
DTSTAMP:20260419T093938
CREATED:20230724T132934Z
LAST-MODIFIED:20230724T132934Z
UID:3543-1691344800-1691352000@shekinahrevivalministries.com
SUMMARY:Water Baptism
DESCRIPTION:
URL:https://shekinahrevivalministries.com/event/water-baptism-2/
LOCATION:Shekinah Revival Ministries\, 1941 Washington Ave.\, Holland\, MI\, 49423\, United States
ATTACH;FMTTYPE=image/png:https://shekinahrevivalministries.com/wp-content/uploads/2023/07/water-baptism-Aug-6.png
END:VEVENT
BEGIN:VEVENT
DTSTART;TZID=America/New_York:20230801T150000
DTEND;TZID=America/New_York:20230801T153000
DTSTAMP:20260419T093938
CREATED:20230716T222918Z
LAST-MODIFIED:20230716T222918Z
UID:3531-1690902000-1690903800@shekinahrevivalministries.com
SUMMARY:Food For Families
DESCRIPTION:
URL:https://shekinahrevivalministries.com/event/food-for-families-10/
LOCATION:Shekinah Revival Ministries\, 1941 Washington Ave.\, Holland\, MI\, 49423\, United States
ATTACH;FMTTYPE=image/png:https://shekinahrevivalministries.com/wp-content/uploads/2023/07/AUGUST-FFF-2023.png
END:VEVENT
BEGIN:VEVENT
DTSTART;TZID=America/New_York:20230725T183000
DTEND;TZID=America/New_York:20230725T200000
DTSTAMP:20260419T093938
CREATED:20230703T151747Z
LAST-MODIFIED:20230703T151833Z
UID:3510-1690309800-1690315200@shekinahrevivalministries.com
SUMMARY:Women's Event
DESCRIPTION:
URL:https://shekinahrevivalministries.com/event/womens-event-4/
LOCATION:Shekinah Revival Ministries\, 1941 Washington Ave.\, Holland\, MI\, 49423\, United States
ATTACH;FMTTYPE=image/png:https://shekinahrevivalministries.com/wp-content/uploads/2023/07/Womens-Event-July-25-.png
END:VEVENT
BEGIN:VEVENT
DTSTART;VALUE=DATE:20230716
DTEND;VALUE=DATE:20230717
DTSTAMP:20260419T093938
CREATED:20230703T151517Z
LAST-MODIFIED:20230703T151517Z
UID:3504-1689465600-1689551999@shekinahrevivalministries.com
SUMMARY:Home Life Group - July
DESCRIPTION:would love to have you join us in our small groups for food and fellowship
URL:https://shekinahrevivalministries.com/event/home-life-group-july-2/
LOCATION:MI
ATTACH;FMTTYPE=image/png:https://shekinahrevivalministries.com/wp-content/uploads/2023/07/HLG-JULY-2023.png
ORGANIZER;CN="Pastor Will Dilbert":MAILTO:pastorwill@liftingjesushigher.org
END:VEVENT
BEGIN:VEVENT
DTSTART;TZID=America/New_York:20230714T190000
DTEND;TZID=America/New_York:20230714T210000
DTSTAMP:20260419T093938
CREATED:20230703T151627Z
LAST-MODIFIED:20230703T151627Z
UID:3507-1689361200-1689368400@shekinahrevivalministries.com
SUMMARY:Healing Service
DESCRIPTION:
URL:https://shekinahrevivalministries.com/event/healing-service-8/
LOCATION:Shekinah Revival Ministries\, 1941 Washington Ave.\, Holland\, MI\, 49423\, United States
ATTACH;FMTTYPE=image/png:https://shekinahrevivalministries.com/wp-content/uploads/2023/07/Friday-Night-Healing-services-July-14.png
ORGANIZER;CN="Pastor Will Dilbert":MAILTO:pastorwill@liftingjesushigher.org
END:VEVENT
BEGIN:VEVENT
DTSTART;TZID=America/New_York:20230709T180000
DTEND;TZID=America/New_York:20230709T200000
DTSTAMP:20260419T093938
CREATED:20230703T151329Z
LAST-MODIFIED:20230703T151329Z
UID:3501-1688925600-1688932800@shekinahrevivalministries.com
SUMMARY:Family Prophetic Night
DESCRIPTION:
URL:https://shekinahrevivalministries.com/event/family-prophetic-night/
LOCATION:Shekinah Revival Ministries\, 1941 Washington Ave.\, Holland\, MI\, 49423\, United States
ATTACH;FMTTYPE=image/png:https://shekinahrevivalministries.com/wp-content/uploads/2023/07/Family-Prophetic-Night-July-9.png
END:VEVENT
BEGIN:VEVENT
DTSTART;TZID=America/New_York:20230708T090000
DTEND;TZID=America/New_York:20230708T103000
DTSTAMP:20260419T093938
CREATED:20230612T124847Z
LAST-MODIFIED:20230612T124847Z
UID:3473-1688806800-1688812200@shekinahrevivalministries.com
SUMMARY:Men's Breakfast
DESCRIPTION:
URL:https://shekinahrevivalministries.com/event/mens-breakfast/
LOCATION:Shekinah Revival Ministries\, 1941 Washington Ave.\, Holland\, MI\, 49423\, United States
ATTACH;FMTTYPE=image/png:https://shekinahrevivalministries.com/wp-content/uploads/2023/06/MENS-BREAKFAST-JULY-8.png
END:VEVENT
BEGIN:VEVENT
DTSTART;TZID=America/New_York:20230706T150000
DTEND;TZID=America/New_York:20230706T163000
DTSTAMP:20260419T093938
CREATED:20230612T124735Z
LAST-MODIFIED:20230612T124735Z
UID:3469-1688655600-1688661000@shekinahrevivalministries.com
SUMMARY:Food For Families
DESCRIPTION:
URL:https://shekinahrevivalministries.com/event/food-for-families-9/
LOCATION:Shekinah Revival Ministries\, 1941 Washington Ave.\, Holland\, MI\, 49423\, United States
ATTACH;FMTTYPE=image/png:https://shekinahrevivalministries.com/wp-content/uploads/2023/06/JULY-FFF-2023.png
ORGANIZER;CN="Pastor Will Dilbert":MAILTO:pastorwill@liftingjesushigher.org
END:VEVENT
BEGIN:VEVENT
DTSTART;TZID=America/New_York:20230625T180000
DTEND;TZID=America/New_York:20230625T193000
DTSTAMP:20260419T093938
CREATED:20230530T144941Z
LAST-MODIFIED:20230530T144941Z
UID:3439-1687716000-1687721400@shekinahrevivalministries.com
SUMMARY:2023 Graduates
DESCRIPTION:
URL:https://shekinahrevivalministries.com/event/2023-graduates/
LOCATION:Shekinah Revival Ministries\, 1941 Washington Ave.\, Holland\, MI\, 49423\, United States
ATTACH;FMTTYPE=image/png:https://shekinahrevivalministries.com/wp-content/uploads/2023/05/graduate-service-june-25.png
ORGANIZER;CN="Pastor Will Dilbert":MAILTO:pastorwill@liftingjesushigher.org
END:VEVENT
BEGIN:VEVENT
DTSTART;TZID=America/New_York:20230618T120000
DTEND;TZID=America/New_York:20230618T140000
DTSTAMP:20260419T093938
CREATED:20230605T134425Z
LAST-MODIFIED:20230605T135731Z
UID:3450-1687089600-1687096800@shekinahrevivalministries.com
SUMMARY:Home Life Group - June
DESCRIPTION:would love to have you join us in our small groups for food and fellowship
URL:https://shekinahrevivalministries.com/event/home-life-group-june-2/
LOCATION:Shekinah Revival Ministries\, 1941 Washington Ave.\, Holland\, MI\, 49423\, United States
ATTACH;FMTTYPE=image/png:https://shekinahrevivalministries.com/wp-content/uploads/2023/06/JUNE-2023.png
ORGANIZER;CN="Pastor Will Dilbert":MAILTO:pastorwill@liftingjesushigher.org
END:VEVENT
BEGIN:VEVENT
DTSTART;TZID=America/New_York:20230605T183000
DTEND;TZID=America/New_York:20230605T203000
DTSTAMP:20260419T093938
CREATED:20230530T143957Z
LAST-MODIFIED:20230530T145245Z
UID:3436-1685989800-1685997000@shekinahrevivalministries.com
SUMMARY:Intercessory Gathering
DESCRIPTION:
URL:https://shekinahrevivalministries.com/event/intercessory-gathering-9/
LOCATION:Shekinah Revival Ministries\, 1941 Washington Ave.\, Holland\, MI\, 49423\, United States
ATTACH;FMTTYPE=image/png:https://shekinahrevivalministries.com/wp-content/uploads/2023/05/Intercessory-Gathering-June-5.png
ORGANIZER;CN="Pastor Will Dilbert":MAILTO:pastorwill@liftingjesushigher.org
END:VEVENT
BEGIN:VEVENT
DTSTART;TZID=America/New_York:20230603T090000
DTEND;TZID=America/New_York:20230603T120000
DTSTAMP:20260419T093938
CREATED:20230327T124708Z
LAST-MODIFIED:20230412T180743Z
UID:3342-1685782800-1685793600@shekinahrevivalministries.com
SUMMARY:Walk-A-Thon
DESCRIPTION:Raise pledges toward your camp fees \n 
URL:https://shekinahrevivalministries.com/event/walk-a-thon-2/
LOCATION:Van Raalte Farms Park\, 1076 E. 16th St\, Holland\, MI\, 49423\, United States
ATTACH;FMTTYPE=image/png:https://shekinahrevivalministries.com/wp-content/uploads/2023/03/Walkathon-2023-june-3.png
END:VEVENT
BEGIN:VEVENT
DTSTART;VALUE=DATE:20230521
DTEND;VALUE=DATE:20230522
DTSTAMP:20260419T093938
CREATED:20230424T130634Z
LAST-MODIFIED:20230424T130634Z
UID:3388-1684627200-1684713599@shekinahrevivalministries.com
SUMMARY:Home Life Group - May\, 2023
DESCRIPTION:would love to have you join us in our small groups for praise & worship\, food and fellowship
URL:https://shekinahrevivalministries.com/event/home-life-group-may-2023/
LOCATION:Shekinah Revival Ministries\, 1941 Washington Ave.\, Holland\, MI\, 49423\, United States
ATTACH;FMTTYPE=image/png:https://shekinahrevivalministries.com/wp-content/uploads/2023/04/HLG-MAY-2023.png
ORGANIZER;CN="Pastor Will Dilbert":MAILTO:pastorwill@liftingjesushigher.org
END:VEVENT
END:VCALENDAR