BEGIN:VCALENDAR
VERSION:2.0
PRODID:-//Shekinah Revival Ministries - ECPv6.15.18//NONSGML v1.0//EN
CALSCALE:GREGORIAN
METHOD:PUBLISH
X-WR-CALNAME:Shekinah Revival Ministries
X-ORIGINAL-URL:https://shekinahrevivalministries.com
X-WR-CALDESC:Events for Shekinah Revival Ministries
REFRESH-INTERVAL;VALUE=DURATION:PT1H
X-Robots-Tag:noindex
X-PUBLISHED-TTL:PT1H
BEGIN:VTIMEZONE
TZID:America/New_York
BEGIN:DAYLIGHT
TZOFFSETFROM:-0500
TZOFFSETTO:-0400
TZNAME:EDT
DTSTART:20210314T070000
END:DAYLIGHT
BEGIN:STANDARD
TZOFFSETFROM:-0400
TZOFFSETTO:-0500
TZNAME:EST
DTSTART:20211107T060000
END:STANDARD
BEGIN:DAYLIGHT
TZOFFSETFROM:-0500
TZOFFSETTO:-0400
TZNAME:EDT
DTSTART:20220313T070000
END:DAYLIGHT
BEGIN:STANDARD
TZOFFSETFROM:-0400
TZOFFSETTO:-0500
TZNAME:EST
DTSTART:20221106T060000
END:STANDARD
BEGIN:DAYLIGHT
TZOFFSETFROM:-0500
TZOFFSETTO:-0400
TZNAME:EDT
DTSTART:20230312T070000
END:DAYLIGHT
BEGIN:STANDARD
TZOFFSETFROM:-0400
TZOFFSETTO:-0500
TZNAME:EST
DTSTART:20231105T060000
END:STANDARD
END:VTIMEZONE
BEGIN:VEVENT
DTSTART;TZID=America/New_York:20221206T133000
DTEND;TZID=America/New_York:20221206T153000
DTSTAMP:20260419T190011
CREATED:20221121T191638Z
LAST-MODIFIED:20221121T191638Z
UID:3004-1670333400-1670340600@shekinahrevivalministries.com
SUMMARY:Women's Event
DESCRIPTION:
URL:https://shekinahrevivalministries.com/event/womens-event-2/
LOCATION:Shekinah Revival Ministries\, 1941 Washington Ave.\, Holland\, MI\, 49423\, United States
ATTACH;FMTTYPE=image/png:https://shekinahrevivalministries.com/wp-content/uploads/2022/11/WOMENS-EVENT-DEC-6.png
END:VEVENT
BEGIN:VEVENT
DTSTART;VALUE=DATE:20221203
DTEND;VALUE=DATE:20221205
DTSTAMP:20260419T190011
CREATED:20221023T225727Z
LAST-MODIFIED:20221023T225727Z
UID:2941-1670094000-1670180399@shekinahrevivalministries.com
SUMMARY:Apostle Tony Kemp
DESCRIPTION:
URL:https://shekinahrevivalministries.com/event/apostle-tony-kemp-4/
LOCATION:Shekinah Revival Ministries\, 1941 Washington Ave.\, Holland\, MI\, 49423\, United States
ATTACH;FMTTYPE=image/png:https://shekinahrevivalministries.com/wp-content/uploads/2022/10/Tony-Kemp-Poster-DEC-4.png
END:VEVENT
BEGIN:VEVENT
DTSTART;TZID=America/New_York:20221201T070000
DTEND;TZID=America/New_York:20221201T090000
DTSTAMP:20260419T190011
CREATED:20221121T191432Z
LAST-MODIFIED:20221121T191432Z
UID:3001-1669878000-1669885200@shekinahrevivalministries.com
SUMMARY:Senior Ministry "SHARE"
DESCRIPTION:
URL:https://shekinahrevivalministries.com/event/senior-ministry-share-8/
LOCATION:Shekinah Revival Ministries\, 1941 Washington Ave.\, Holland\, MI\, 49423\, United States
ATTACH;FMTTYPE=image/png:https://shekinahrevivalministries.com/wp-content/uploads/2022/11/CHRISMAS-LUNCHEON-SHARE-DEC-1.png
ORGANIZER;CN="Pastor Will Dilbert":MAILTO:pastorwill@liftingjesushigher.org
END:VEVENT
BEGIN:VEVENT
DTSTART;TZID=America/New_York:20221120T070000
DTEND;TZID=America/New_York:20221120T080000
DTSTAMP:20260419T190011
CREATED:20221107T184642Z
LAST-MODIFIED:20221107T184642Z
UID:2977-1668927600-1668931200@shekinahrevivalministries.com
SUMMARY:Meet & Greet the Pastors
DESCRIPTION:
URL:https://shekinahrevivalministries.com/event/meet-greet-the-pastors/
LOCATION:Shekinah Revival Ministries\, 1941 Washington Ave.\, Holland\, MI\, 49423\, United States
ATTACH;FMTTYPE=image/png:https://shekinahrevivalministries.com/wp-content/uploads/2022/11/MEET__GREET_2022_2.png
ORGANIZER;CN="Pastor Will Dilbert":MAILTO:pastorwill@liftingjesushigher.org
END:VEVENT
BEGIN:VEVENT
DTSTART;TZID=America/New_York:20221111T140000
DTEND;TZID=America/New_York:20221111T160000
DTSTAMP:20260419T190011
CREATED:20221023T230439Z
LAST-MODIFIED:20221031T180133Z
UID:2950-1668175200-1668182400@shekinahrevivalministries.com
SUMMARY:Healing Service
DESCRIPTION:
URL:https://shekinahrevivalministries.com/event/healing-service/
LOCATION:Shekinah Revival Ministries\, 1941 Washington Ave.\, Holland\, MI\, 49423\, United States
ATTACH;FMTTYPE=image/png:https://shekinahrevivalministries.com/wp-content/uploads/2022/10/healing-service-nov-11-2.png
ORGANIZER;CN="Pastor Will Dilbert":MAILTO:pastorwill@liftingjesushigher.org
END:VEVENT
BEGIN:VEVENT
DTSTART;TZID=America/New_York:20221110T100000
DTEND;TZID=America/New_York:20221110T113000
DTSTAMP:20260419T190011
CREATED:20221023T230210Z
LAST-MODIFIED:20221107T184506Z
UID:2944-1668074400-1668079800@shekinahrevivalministries.com
SUMMARY:Food For Families
DESCRIPTION:
URL:https://shekinahrevivalministries.com/event/food-for-families-4/
LOCATION:Shekinah Revival Ministries\, 1941 Washington Ave.\, Holland\, MI\, 49423\, United States
ATTACH;FMTTYPE=image/png:https://shekinahrevivalministries.com/wp-content/uploads/2022/10/Food_For_Families_rescheduled.png
ORGANIZER;CN="Pastor Will Dilbert":MAILTO:pastorwill@liftingjesushigher.org
END:VEVENT
BEGIN:VEVENT
DTSTART;TZID=America/New_York:20221110T060000
DTEND;TZID=America/New_York:20221110T080000
DTSTAMP:20260419T190011
CREATED:20221023T230325Z
LAST-MODIFIED:20221107T184405Z
UID:2947-1668060000-1668067200@shekinahrevivalministries.com
SUMMARY:Senior Ministry "SHARE"
DESCRIPTION:
URL:https://shekinahrevivalministries.com/event/senior-ministry-share-7/
LOCATION:Shekinah Revival Ministries\, 1941 Washington Ave.\, Holland\, MI\, 49423\, United States
ATTACH;FMTTYPE=image/jpeg:https://shekinahrevivalministries.com/wp-content/uploads/2022/10/SHARE_rescheduling_jpeg.jpg
ORGANIZER;CN="Pastor Will Dilbert":MAILTO:pastorwill@liftingjesushigher.org
END:VEVENT
BEGIN:VEVENT
DTSTART;TZID=America/New_York:20221031T133000
DTEND;TZID=America/New_York:20221031T143000
DTSTAMP:20260419T190011
CREATED:20221009T230327Z
LAST-MODIFIED:20221009T230327Z
UID:2893-1667223000-1667226600@shekinahrevivalministries.com
SUMMARY:Hallelujah Night
DESCRIPTION:
URL:https://shekinahrevivalministries.com/event/hallelujah-night/
LOCATION:Rollxscape Skating Center\, 12521 James St\, Holland\, MI\, 49424\, United States
ATTACH;FMTTYPE=image/png:https://shekinahrevivalministries.com/wp-content/uploads/2022/10/Hallelujah-Night-2022.png
END:VEVENT
BEGIN:VEVENT
DTSTART;VALUE=DATE:20221027
DTEND;VALUE=DATE:20221030
DTSTAMP:20260419T190011
CREATED:20220927T024137Z
LAST-MODIFIED:20220927T024137Z
UID:2878-1666900800-1667073599@shekinahrevivalministries.com
SUMMARY:Marriage Conference
DESCRIPTION:
URL:https://shekinahrevivalministries.com/event/marriage-conference/
LOCATION:Maranatha Bible & Missionary Confernce\, 4759 Lake Harbor Rd\, Muskegon\, MI\, 49441\, United States
ATTACH;FMTTYPE=image/png:https://shekinahrevivalministries.com/wp-content/uploads/2022/09/Marriage-Conference-Oct-28-29.png
END:VEVENT
BEGIN:VEVENT
DTSTART;TZID=America/New_York:20221024T143000
DTEND;TZID=America/New_York:20221024T163000
DTSTAMP:20260419T190011
CREATED:20221009T230704Z
LAST-MODIFIED:20221009T230807Z
UID:2898-1666621800-1666629000@shekinahrevivalministries.com
SUMMARY:Intercessory Gathering
DESCRIPTION:
URL:https://shekinahrevivalministries.com/event/intercessory-gathering-4/
LOCATION:Shekinah Revival Ministries\, 1941 Washington Ave.\, Holland\, MI\, 49423\, United States
ATTACH;FMTTYPE=image/png:https://shekinahrevivalministries.com/wp-content/uploads/2022/10/Intercessory-Gathering-Oct-24.png
ORGANIZER;CN="Pastor Will Dilbert":MAILTO:pastorwill@liftingjesushigher.org
END:VEVENT
BEGIN:VEVENT
DTSTART;TZID=America/New_York:20221016T080000
DTEND;TZID=America/New_York:20221016T100000
DTSTAMP:20260419T190011
CREATED:20220927T023411Z
LAST-MODIFIED:20220927T023411Z
UID:2868-1665907200-1665914400@shekinahrevivalministries.com
SUMMARY:Home Life Group - October\, 2022
DESCRIPTION:would love to have you join us in our small groups for praise & worship\, food and fellowship
URL:https://shekinahrevivalministries.com/event/home-life-group-october-2022/
LOCATION:Shekinah Revival Ministries\, 1941 Washington Ave.\, Holland\, MI\, 49423\, United States
ATTACH;FMTTYPE=image/png:https://shekinahrevivalministries.com/wp-content/uploads/2022/09/HLG-OCT-2022.png
ORGANIZER;CN="Pastor Will Dilbert":MAILTO:pastorwill@liftingjesushigher.org
END:VEVENT
BEGIN:VEVENT
DTSTART;TZID=America/New_York:20221009T053000
DTEND;TZID=America/New_York:20221009T073000
DTSTAMP:20260419T190011
CREATED:20220905T222754Z
LAST-MODIFIED:20220905T222754Z
UID:2830-1665293400-1665300600@shekinahrevivalministries.com
SUMMARY:Steve Swanson
DESCRIPTION:
URL:https://shekinahrevivalministries.com/event/steve-swanson/
LOCATION:Shekinah Revival Ministries\, 1941 Washington Ave.\, Holland\, MI\, 49423\, United States
ATTACH;FMTTYPE=image/png:https://shekinahrevivalministries.com/wp-content/uploads/2022/09/steve-swanson.png
END:VEVENT
BEGIN:VEVENT
DTSTART;TZID=America/New_York:20221008T050000
DTEND;TZID=America/New_York:20221008T090000
DTSTAMP:20260419T190011
CREATED:20220912T174300Z
LAST-MODIFIED:20220912T174300Z
UID:2853-1665205200-1665219600@shekinahrevivalministries.com
SUMMARY:Deliverance - Saturday School
DESCRIPTION:
URL:https://shekinahrevivalministries.com/event/deliverance-saturday-school/
LOCATION:Shekinah Revival Ministries\, 1941 Washington Ave.\, Holland\, MI\, 49423\, United States
ATTACH;FMTTYPE=image/png:https://shekinahrevivalministries.com/wp-content/uploads/2022/09/Pigs-in-the-Parlor-Saturday-School-oct-8.png
END:VEVENT
BEGIN:VEVENT
DTSTART;TZID=America/New_York:20221006T110000
DTEND;TZID=America/New_York:20221006T123000
DTSTAMP:20260419T190011
CREATED:20220927T023702Z
LAST-MODIFIED:20220927T023702Z
UID:2875-1665054000-1665059400@shekinahrevivalministries.com
SUMMARY:Food For Families
DESCRIPTION:
URL:https://shekinahrevivalministries.com/event/food-for-families-3/
LOCATION:Shekinah Revival Ministries\, 1941 Washington Ave.\, Holland\, MI\, 49423\, United States
ATTACH;FMTTYPE=image/png:https://shekinahrevivalministries.com/wp-content/uploads/2022/09/OCT-FFF-2022.png
ORGANIZER;CN="Pastor Will Dilbert":MAILTO:pastorwill@liftingjesushigher.org
END:VEVENT
BEGIN:VEVENT
DTSTART;TZID=America/New_York:20221006T070000
DTEND;TZID=America/New_York:20221006T090000
DTSTAMP:20260419T190011
CREATED:20220927T023520Z
LAST-MODIFIED:20220927T023520Z
UID:2872-1665039600-1665046800@shekinahrevivalministries.com
SUMMARY:Senior Ministry "SHARE"
DESCRIPTION:
URL:https://shekinahrevivalministries.com/event/senior-ministry-share-6/
LOCATION:Shekinah Revival Ministries\, 1941 Washington Ave.\, Holland\, MI\, 49423\, United States
ATTACH;FMTTYPE=image/png:https://shekinahrevivalministries.com/wp-content/uploads/2022/09/Senior-Ministry-OCT-6.png
ORGANIZER;CN="Pastor Will Dilbert":MAILTO:pastorwill@liftingjesushigher.org
END:VEVENT
BEGIN:VEVENT
DTSTART;TZID=America/New_York:20221002T140000
DTEND;TZID=America/New_York:20221002T160000
DTSTAMP:20260419T190011
CREATED:20220829T171657Z
LAST-MODIFIED:20220829T171657Z
UID:2819-1664719200-1664726400@shekinahrevivalministries.com
SUMMARY:Apostle Barbara Yoder
DESCRIPTION:The Breaker Anointing
URL:https://shekinahrevivalministries.com/event/apostle-barbara-yoder/
LOCATION:Shekinah Revival Ministries\, 1941 Washington Ave.\, Holland\, MI\, 49423\, United States
ATTACH;FMTTYPE=image/png:https://shekinahrevivalministries.com/wp-content/uploads/2022/08/Barbara-Yoder-2022-UPDATED.png
END:VEVENT
BEGIN:VEVENT
DTSTART;TZID=America/New_York:20220927T143000
DTEND;TZID=America/New_York:20220927T163000
DTSTAMP:20260419T190011
CREATED:20220905T222441Z
LAST-MODIFIED:20220905T222441Z
UID:2824-1664289000-1664296200@shekinahrevivalministries.com
SUMMARY:Women's Event
DESCRIPTION:
URL:https://shekinahrevivalministries.com/event/womens-event/
LOCATION:Shekinah Revival Ministries\, 1941 Washington Ave.\, Holland\, MI\, 49423\, United States
ATTACH;FMTTYPE=image/png:https://shekinahrevivalministries.com/wp-content/uploads/2022/09/WOMENS-EVENT-SEPT-27.png
END:VEVENT
BEGIN:VEVENT
DTSTART;TZID=America/New_York:20220918T080000
DTEND;TZID=America/New_York:20220918T100000
DTSTAMP:20260419T190011
CREATED:20220905T222636Z
LAST-MODIFIED:20220905T222636Z
UID:2827-1663488000-1663495200@shekinahrevivalministries.com
SUMMARY:Home Life Group - September\, 2022
DESCRIPTION:would love to have you join us in our small groups for praise & worship\, food and fellowship
URL:https://shekinahrevivalministries.com/event/home-life-group-september-2022/
LOCATION:Shekinah Revival Ministries\, 1941 Washington Ave.\, Holland\, MI\, 49423\, United States
ATTACH;FMTTYPE=image/png:https://shekinahrevivalministries.com/wp-content/uploads/2022/09/HLG-SEP-2022.png
ORGANIZER;CN="Pastor Will Dilbert":MAILTO:pastorwill@liftingjesushigher.org
END:VEVENT
BEGIN:VEVENT
DTSTART;TZID=America/New_York:20220917T050000
DTEND;TZID=America/New_York:20220917T090000
DTSTAMP:20260419T190011
CREATED:20220815T165345Z
LAST-MODIFIED:20220815T165345Z
UID:2809-1663390800-1663405200@shekinahrevivalministries.com
SUMMARY:School of Supernatural Evangelism
DESCRIPTION:
URL:https://shekinahrevivalministries.com/event/school-of-supernatural-evangelism/
LOCATION:Shekinah Revival Ministries\, 1941 Washington Ave.\, Holland\, MI\, 49423\, United States
ATTACH;FMTTYPE=image/png:https://shekinahrevivalministries.com/wp-content/uploads/2022/08/School-of-Supernatural-Evangelism-sept-17.png
ORGANIZER;CN="Pastor Will Dilbert":MAILTO:pastorwill@liftingjesushigher.org
END:VEVENT
BEGIN:VEVENT
DTSTART;TZID=America/New_York:20220910T050000
DTEND;TZID=America/New_York:20220910T070000
DTSTAMP:20260419T190011
CREATED:20220815T165156Z
LAST-MODIFIED:20220815T165156Z
UID:2806-1662786000-1662793200@shekinahrevivalministries.com
SUMMARY:Merge Breakfast
DESCRIPTION:
URL:https://shekinahrevivalministries.com/event/merge-breakfast/
LOCATION:Shekinah Revival Ministries\, 1941 Washington Ave.\, Holland\, MI\, 49423\, United States
ATTACH;FMTTYPE=image/png:https://shekinahrevivalministries.com/wp-content/uploads/2022/08/Merge-Breakfast-SEPT-10-2022.png
END:VEVENT
BEGIN:VEVENT
DTSTART;TZID=America/New_York:20220830T143000
DTEND;TZID=America/New_York:20220830T163000
DTSTAMP:20260419T190011
CREATED:20220718T163248Z
LAST-MODIFIED:20220718T163248Z
UID:2770-1661869800-1661877000@shekinahrevivalministries.com
SUMMARY:Building a Strong Foundation (Week 5)
DESCRIPTION:
URL:https://shekinahrevivalministries.com/event/building-a-strong-foundation-week-5/
LOCATION:Zoom Event
ATTACH;FMTTYPE=image/png:https://shekinahrevivalministries.com/wp-content/uploads/2022/07/1.png
ORGANIZER;CN="Pastor Will Dilbert":MAILTO:pastorwill@liftingjesushigher.org
END:VEVENT
BEGIN:VEVENT
DTSTART;VALUE=DATE:20220823
DTEND;VALUE=DATE:20220829
DTSTAMP:20260419T190011
CREATED:20220531T171140Z
LAST-MODIFIED:20220531T171140Z
UID:2669-1661284800-1661716799@shekinahrevivalministries.com
SUMMARY:Church Camp 2022
DESCRIPTION:
URL:https://shekinahrevivalministries.com/event/church-camp-2022/
LOCATION:Gull Lake Ministries\, 1800 Burlington Dr\, Hickory Corners\, MI\, 49060\, United States
ATTACH;FMTTYPE=image/jpeg:https://shekinahrevivalministries.com/wp-content/uploads/2022/05/Church-Camp-2022.jpg
END:VEVENT
BEGIN:VEVENT
DTSTART;TZID=America/New_York:20220823T143000
DTEND;TZID=America/New_York:20220823T163000
DTSTAMP:20260419T190011
CREATED:20220718T163206Z
LAST-MODIFIED:20220718T163206Z
UID:2768-1661265000-1661272200@shekinahrevivalministries.com
SUMMARY:Building a Strong Foundation (Week 4)
DESCRIPTION:
URL:https://shekinahrevivalministries.com/event/building-a-strong-foundation-week-4-2/
LOCATION:Zoom Event
ATTACH;FMTTYPE=image/png:https://shekinahrevivalministries.com/wp-content/uploads/2022/07/1.png
ORGANIZER;CN="Pastor Will Dilbert":MAILTO:pastorwill@liftingjesushigher.org
END:VEVENT
BEGIN:VEVENT
DTSTART;VALUE=DATE:20220820
DTEND;VALUE=DATE:20220822
DTSTAMP:20260419T190011
CREATED:20220718T165111Z
LAST-MODIFIED:20220718T165111Z
UID:2772-1661025600-1661111999@shekinahrevivalministries.com
SUMMARY:Kathy & Charity Campbell
DESCRIPTION:
URL:https://shekinahrevivalministries.com/event/kathy-charity-campbell/
LOCATION:Shekinah Revival Ministries\, 1941 Washington Ave.\, Holland\, MI\, 49423\, United States
ATTACH;FMTTYPE=image/png:https://shekinahrevivalministries.com/wp-content/uploads/2022/07/KATHY-CHARITY-CAMPBELL.png
END:VEVENT
BEGIN:VEVENT
DTSTART;TZID=America/New_York:20220816T143000
DTEND;TZID=America/New_York:20220816T163000
DTSTAMP:20260419T190011
CREATED:20220718T163128Z
LAST-MODIFIED:20220718T163128Z
UID:2766-1660660200-1660667400@shekinahrevivalministries.com
SUMMARY:Building a Strong Foundation (Week 3)
DESCRIPTION:
URL:https://shekinahrevivalministries.com/event/building-a-strong-foundation-week-3-2/
LOCATION:Zoom Event
ATTACH;FMTTYPE=image/png:https://shekinahrevivalministries.com/wp-content/uploads/2022/07/1.png
ORGANIZER;CN="Pastor Will Dilbert":MAILTO:pastorwill@liftingjesushigher.org
END:VEVENT
BEGIN:VEVENT
DTSTART;TZID=America/New_York:20220809T143000
DTEND;TZID=America/New_York:20220809T163000
DTSTAMP:20260419T190011
CREATED:20220718T163053Z
LAST-MODIFIED:20220718T163053Z
UID:2764-1660055400-1660062600@shekinahrevivalministries.com
SUMMARY:Building a Strong Foundation (Week 2)
DESCRIPTION:
URL:https://shekinahrevivalministries.com/event/building-a-strong-foundation-week-2-2/
LOCATION:Zoom Event
ATTACH;FMTTYPE=image/png:https://shekinahrevivalministries.com/wp-content/uploads/2022/07/1.png
ORGANIZER;CN="Pastor Will Dilbert":MAILTO:pastorwill@liftingjesushigher.org
END:VEVENT
BEGIN:VEVENT
DTSTART;TZID=America/New_York:20220808T143000
DTEND;TZID=America/New_York:20220808T163000
DTSTAMP:20260419T190011
CREATED:20220801T171630Z
LAST-MODIFIED:20220801T171630Z
UID:2786-1659969000-1659976200@shekinahrevivalministries.com
SUMMARY:Intercessory Gathering
DESCRIPTION:
URL:https://shekinahrevivalministries.com/event/intercessory-gathering-3/
LOCATION:Shekinah Revival Ministries\, 1941 Washington Ave.\, Holland\, MI\, 49423\, United States
ATTACH;FMTTYPE=image/png:https://shekinahrevivalministries.com/wp-content/uploads/2022/08/Intercessory-Gathering-Aug-8.png
ORGANIZER;CN="Pastor Will Dilbert":MAILTO:pastorwill@liftingjesushigher.org
END:VEVENT
BEGIN:VEVENT
DTSTART;TZID=America/New_York:20220804T070000
DTEND;TZID=America/New_York:20220804T090000
DTSTAMP:20260419T190011
CREATED:20220801T171800Z
LAST-MODIFIED:20220801T171800Z
UID:2789-1659596400-1659603600@shekinahrevivalministries.com
SUMMARY:Senior Ministry "SHARE"
DESCRIPTION:
URL:https://shekinahrevivalministries.com/event/senior-ministry-share-5/
LOCATION:Shekinah Revival Ministries\, 1941 Washington Ave.\, Holland\, MI\, 49423\, United States
ATTACH;FMTTYPE=image/png:https://shekinahrevivalministries.com/wp-content/uploads/2022/08/Senior-Ministry-AUG-4.png
ORGANIZER;CN="Pastor Will Dilbert":MAILTO:pastorwill@liftingjesushigher.org
END:VEVENT
BEGIN:VEVENT
DTSTART;TZID=America/New_York:20220802T143000
DTEND;TZID=America/New_York:20220802T163000
DTSTAMP:20260419T190011
CREATED:20220718T005329Z
LAST-MODIFIED:20220718T162643Z
UID:2751-1659450600-1659457800@shekinahrevivalministries.com
SUMMARY:Building a Strong Foundation
DESCRIPTION:sign-up to this class below through breeze or in the narthex at church \nhttps://shekinah.breezechms.com/form/a05c2a
URL:https://shekinahrevivalministries.com/event/building-a-strong-foundation-2/
LOCATION:Zoom Event
ATTACH;FMTTYPE=image/png:https://shekinahrevivalministries.com/wp-content/uploads/2022/07/1.png
ORGANIZER;CN="Pastor Will Dilbert":MAILTO:pastorwill@liftingjesushigher.org
END:VEVENT
BEGIN:VEVENT
DTSTART;TZID=America/New_York:20220716T050000
DTEND;TZID=America/New_York:20220716T070000
DTSTAMP:20260419T190011
CREATED:20220627T223622Z
LAST-MODIFIED:20220627T223622Z
UID:2717-1657947600-1657954800@shekinahrevivalministries.com
SUMMARY:Men's Breakfast Gathering
DESCRIPTION:
URL:https://shekinahrevivalministries.com/event/mens-breakfast-gathering-2/
LOCATION:Shekinah Revival Ministries\, 1941 Washington Ave.\, Holland\, MI\, 49423\, United States
ATTACH;FMTTYPE=image/png:https://shekinahrevivalministries.com/wp-content/uploads/2022/06/MENS-PRAYER-GATHERING.png
END:VEVENT
END:VCALENDAR