BEGIN:VCALENDAR
VERSION:2.0
PRODID:-//Shekinah Revival Ministries - ECPv6.15.18//NONSGML v1.0//EN
CALSCALE:GREGORIAN
METHOD:PUBLISH
X-WR-CALNAME:Shekinah Revival Ministries
X-ORIGINAL-URL:https://shekinahrevivalministries.com
X-WR-CALDESC:Events for Shekinah Revival Ministries
REFRESH-INTERVAL;VALUE=DURATION:PT1H
X-Robots-Tag:noindex
X-PUBLISHED-TTL:PT1H
BEGIN:VTIMEZONE
TZID:America/New_York
BEGIN:DAYLIGHT
TZOFFSETFROM:-0500
TZOFFSETTO:-0400
TZNAME:EDT
DTSTART:20200308T070000
END:DAYLIGHT
BEGIN:STANDARD
TZOFFSETFROM:-0400
TZOFFSETTO:-0500
TZNAME:EST
DTSTART:20201101T060000
END:STANDARD
BEGIN:DAYLIGHT
TZOFFSETFROM:-0500
TZOFFSETTO:-0400
TZNAME:EDT
DTSTART:20210314T070000
END:DAYLIGHT
BEGIN:STANDARD
TZOFFSETFROM:-0400
TZOFFSETTO:-0500
TZNAME:EST
DTSTART:20211107T060000
END:STANDARD
BEGIN:DAYLIGHT
TZOFFSETFROM:-0500
TZOFFSETTO:-0400
TZNAME:EDT
DTSTART:20220313T070000
END:DAYLIGHT
BEGIN:STANDARD
TZOFFSETFROM:-0400
TZOFFSETTO:-0500
TZNAME:EST
DTSTART:20221106T060000
END:STANDARD
BEGIN:DAYLIGHT
TZOFFSETFROM:-0500
TZOFFSETTO:-0400
TZNAME:EDT
DTSTART:20230312T070000
END:DAYLIGHT
BEGIN:STANDARD
TZOFFSETFROM:-0400
TZOFFSETTO:-0500
TZNAME:EST
DTSTART:20231105T060000
END:STANDARD
END:VTIMEZONE
BEGIN:VEVENT
DTSTART;TZID=America/New_York:20220619T080000
DTEND;TZID=America/New_York:20220619T100000
DTSTAMP:20260420T004441
CREATED:20220613T183509Z
LAST-MODIFIED:20220613T183509Z
UID:2693-1655625600-1655632800@shekinahrevivalministries.com
SUMMARY:Home Life Group - June\, 2022
DESCRIPTION:would love to have you join us in our small groups for praise & worship\, food and fellowship
URL:https://shekinahrevivalministries.com/event/home-life-group-june-2022/
LOCATION:Shekinah Revival Ministries\, 1941 Washington Ave.\, Holland\, MI\, 49423\, United States
ATTACH;FMTTYPE=image/png:https://shekinahrevivalministries.com/wp-content/uploads/2022/06/HLG-JUN-2022.png
END:VEVENT
BEGIN:VEVENT
DTSTART;TZID=America/New_York:20220614T143000
DTEND;TZID=America/New_York:20220614T163000
DTSTAMP:20260420T004441
CREATED:20220523T200814Z
LAST-MODIFIED:20220531T172037Z
UID:2589-1655217000-1655224200@shekinahrevivalministries.com
SUMMARY:Building a Strong Foundation (Week 2)
DESCRIPTION:
URL:https://shekinahrevivalministries.com/event/building-a-strong-foundation-week-2/
LOCATION:Shekinah Revival Ministries\, 1941 Washington Ave.\, Holland\, MI\, 49423\, United States
ATTACH;FMTTYPE=image/png:https://shekinahrevivalministries.com/wp-content/uploads/2022/05/building-a-strong-foundation.png
ORGANIZER;CN="Pastor Will Dilbert":MAILTO:pastorwill@liftingjesushigher.org
END:VEVENT
BEGIN:VEVENT
DTSTART;TZID=America/New_York:20220612T124500
DTEND;TZID=America/New_York:20220612T133000
DTSTAMP:20260420T004441
CREATED:20220523T200348Z
LAST-MODIFIED:20220523T200348Z
UID:2581-1655037900-1655040600@shekinahrevivalministries.com
SUMMARY:Banner Waving Class
DESCRIPTION:
URL:https://shekinahrevivalministries.com/event/banner-waving-class/
LOCATION:Shekinah Revival Ministries\, 1941 Washington Ave.\, Holland\, MI\, 49423\, United States
ATTACH;FMTTYPE=image/png:https://shekinahrevivalministries.com/wp-content/uploads/2022/05/Banner-Waving-Class-JUNE-12.png
END:VEVENT
BEGIN:VEVENT
DTSTART;TZID=America/New_York:20220611T060000
DTEND;TZID=America/New_York:20220611T080000
DTSTAMP:20260420T004441
CREATED:20220523T203950Z
LAST-MODIFIED:20220531T170354Z
UID:2595-1654927200-1654934400@shekinahrevivalministries.com
SUMMARY:Senior Ministry "SHARE"
DESCRIPTION:
URL:https://shekinahrevivalministries.com/event/senior-ministry-share-3/
LOCATION:Shekinah Revival Ministries\, 1941 Washington Ave.\, Holland\, MI\, 49423\, United States
ATTACH;FMTTYPE=image/png:https://shekinahrevivalministries.com/wp-content/uploads/2022/05/updated-SHARE-poster.png
ORGANIZER;CN="Pastor Will Dilbert":MAILTO:pastorwill@liftingjesushigher.org
END:VEVENT
BEGIN:VEVENT
DTSTART;TZID=America/New_York:20220609T140000
DTEND;TZID=America/New_York:20220609T150000
DTSTAMP:20260420T004441
CREATED:20220523T194231Z
LAST-MODIFIED:20220531T171957Z
UID:2578-1654783200-1654786800@shekinahrevivalministries.com
SUMMARY:Men's Prayer Gathering
DESCRIPTION:
URL:https://shekinahrevivalministries.com/event/mens-prayer-gathering/
LOCATION:Shekinah Revival Ministries\, 1941 Washington Ave.\, Holland\, MI\, 49423\, United States
ATTACH;FMTTYPE=image/png:https://shekinahrevivalministries.com/wp-content/uploads/2022/05/MENS-PRAYER-GATHERING.png
END:VEVENT
BEGIN:VEVENT
DTSTART;TZID=America/New_York:20220607T143000
DTEND;TZID=America/New_York:20220607T163000
DTSTAMP:20260420T004441
CREATED:20220523T200706Z
LAST-MODIFIED:20220531T172018Z
UID:2584-1654612200-1654619400@shekinahrevivalministries.com
SUMMARY:Building a Strong Foundation (Week 1)
DESCRIPTION:
URL:https://shekinahrevivalministries.com/event/building-a-strong-foundation/
LOCATION:Shekinah Revival Ministries\, 1941 Washington Ave.\, Holland\, MI\, 49423\, United States
ATTACH;FMTTYPE=image/png:https://shekinahrevivalministries.com/wp-content/uploads/2022/05/building-a-strong-foundation.png
ORGANIZER;CN="Pastor Will Dilbert":MAILTO:pastorwill@liftingjesushigher.org
END:VEVENT
BEGIN:VEVENT
DTSTART;TZID=America/New_York:20220604T050000
DTEND;TZID=America/New_York:20220604T080000
DTSTAMP:20260420T004441
CREATED:20220411T220355Z
LAST-MODIFIED:20220411T222025Z
UID:2503-1654318800-1654329600@shekinahrevivalministries.com
SUMMARY:Walk-A-Thon
DESCRIPTION:Raise pledges toward your camp fees \n 
URL:https://shekinahrevivalministries.com/event/walk-a-thon/
LOCATION:Van Raalte Farms Park\, 1076 E. 16th St\, Holland\, MI\, 49423\, United States
ATTACH;FMTTYPE=image/jpeg:https://shekinahrevivalministries.com/wp-content/uploads/2022/04/walk-a-thon-2022.jpg
END:VEVENT
BEGIN:VEVENT
DTSTART;TZID=America/New_York:20220515T080000
DTEND;TZID=America/New_York:20220515T100000
DTSTAMP:20260420T004441
CREATED:20220425T180802Z
LAST-MODIFIED:20220425T180817Z
UID:2523-1652601600-1652608800@shekinahrevivalministries.com
SUMMARY:Home Life Group - May\, 2022
DESCRIPTION:would love to have you join us in our small groups for praise & worship\, food and fellowship
URL:https://shekinahrevivalministries.com/event/home-life-group-may-2/
LOCATION:Shekinah Revival Ministries\, 1941 Washington Ave.\, Holland\, MI\, 49423\, United States
ATTACH;FMTTYPE=image/png:https://shekinahrevivalministries.com/wp-content/uploads/2022/04/HLG-MAY-2022-1.png
END:VEVENT
BEGIN:VEVENT
DTSTART;TZID=America/New_York:20220505T110000
DTEND;TZID=America/New_York:20220505T120000
DTSTAMP:20260420T004441
CREATED:20220425T181157Z
LAST-MODIFIED:20240729T140230Z
UID:2527-1651748400-1651752000@shekinahrevivalministries.com
SUMMARY:Food For Families
DESCRIPTION:
URL:https://shekinahrevivalministries.com/event/food-for-families/
LOCATION:Shekinah Revival Ministries\, 1941 Washington Ave.\, Holland\, MI\, 49423\, United States
ATTACH;FMTTYPE=image/png:https://shekinahrevivalministries.com/wp-content/uploads/2022/04/May-2022-FFF.png
END:VEVENT
BEGIN:VEVENT
DTSTART;TZID=America/New_York:20220505T070000
DTEND;TZID=America/New_York:20220505T090000
DTSTAMP:20260420T004441
CREATED:20220502T165244Z
LAST-MODIFIED:20220502T165244Z
UID:2536-1651734000-1651741200@shekinahrevivalministries.com
SUMMARY:Senior Ministry "SHARE"
DESCRIPTION:
URL:https://shekinahrevivalministries.com/event/senior-ministry-share-2/
LOCATION:Shekinah Revival Ministries\, 1941 Washington Ave.\, Holland\, MI\, 49423\, United States
ATTACH;FMTTYPE=image/png:https://shekinahrevivalministries.com/wp-content/uploads/2022/05/Senior-Ministry-MAY-5.png
ORGANIZER;CN="Pastor Will Dilbert":MAILTO:pastorwill@liftingjesushigher.org
END:VEVENT
BEGIN:VEVENT
DTSTART;TZID=America/New_York:20220426T143000
DTEND;TZID=America/New_York:20220426T160000
DTSTAMP:20260420T004441
CREATED:20220404T170650Z
LAST-MODIFIED:20220404T170650Z
UID:2487-1650983400-1650988800@shekinahrevivalministries.com
SUMMARY:Ladies Spring Tea
DESCRIPTION:
URL:https://shekinahrevivalministries.com/event/ladies-spring-tea/
LOCATION:Shekinah Revival Ministries\, 1941 Washington Ave.\, Holland\, MI\, 49423\, United States
ATTACH;FMTTYPE=image/png:https://shekinahrevivalministries.com/wp-content/uploads/2022/04/LADIES-SPRING-TEA.png
END:VEVENT
BEGIN:VEVENT
DTSTART;TZID=America/New_York:20220417T080000
DTEND;TZID=America/New_York:20220417T100000
DTSTAMP:20260420T004441
CREATED:20220404T170527Z
LAST-MODIFIED:20220404T170527Z
UID:2484-1650182400-1650189600@shekinahrevivalministries.com
SUMMARY:Home Life Group - April
DESCRIPTION:would love to have you join us in our small groups for praise & worship\, food and fellowship
URL:https://shekinahrevivalministries.com/event/home-life-group-april-2/
LOCATION:Shekinah Revival Ministries\, 1941 Washington Ave.\, Holland\, MI\, 49423\, United States
ATTACH;FMTTYPE=image/png:https://shekinahrevivalministries.com/wp-content/uploads/2022/04/HLG-APRIL-2022.png
END:VEVENT
BEGIN:VEVENT
DTSTART;TZID=America/New_York:20220416T050000
DTEND;TZID=America/New_York:20220416T070000
DTSTAMP:20260420T004441
CREATED:20220404T170920Z
LAST-MODIFIED:20220404T170920Z
UID:2493-1650085200-1650092400@shekinahrevivalministries.com
SUMMARY:Men's Breakfast Gathering
DESCRIPTION:
URL:https://shekinahrevivalministries.com/event/mens-breakfast-gathering/
LOCATION:Shekinah Revival Ministries\, 1941 Washington Ave.\, Holland\, MI\, 49423\, United States
ATTACH;FMTTYPE=image/png:https://shekinahrevivalministries.com/wp-content/uploads/2022/04/Copy-of-MENS-BREAKFAST.png
END:VEVENT
BEGIN:VEVENT
DTSTART;TZID=America/New_York:20220414T070000
DTEND;TZID=America/New_York:20220414T090000
DTSTAMP:20260420T004441
CREATED:20220404T170817Z
LAST-MODIFIED:20220406T191041Z
UID:2490-1649919600-1649926800@shekinahrevivalministries.com
SUMMARY:Senior Ministry "SHARE"
DESCRIPTION:
URL:https://shekinahrevivalministries.com/event/senior-ministry-share/
LOCATION:Shekinah Revival Ministries\, 1941 Washington Ave.\, Holland\, MI\, 49423\, United States
ATTACH;FMTTYPE=image/jpeg:https://shekinahrevivalministries.com/wp-content/uploads/2022/04/Senior-Ministry-new-date.jpg
ORGANIZER;CN="Pastor Will Dilbert":MAILTO:pastorwill@liftingjesushigher.org
END:VEVENT
BEGIN:VEVENT
DTSTART;TZID=America/New_York:20220320T080000
DTEND;TZID=America/New_York:20220320T100000
DTSTAMP:20260420T004441
CREATED:20220308T050639Z
LAST-MODIFIED:20220308T050639Z
UID:2455-1647763200-1647770400@shekinahrevivalministries.com
SUMMARY:Home Life Group - March
DESCRIPTION:would love to have you join us in our small groups for praise & worship\, food and fellowship
URL:https://shekinahrevivalministries.com/event/home-life-group-march-2/
LOCATION:Shekinah Revival Ministries\, 1941 Washington Ave.\, Holland\, MI\, 49423\, United States
ATTACH;FMTTYPE=image/png:https://shekinahrevivalministries.com/wp-content/uploads/2022/03/HLG-MARCH-2022.png
END:VEVENT
BEGIN:VEVENT
DTSTART;TZID=America/New_York:20220220T070000
DTEND;TZID=America/New_York:20220220T090000
DTSTAMP:20260420T004441
CREATED:20220131T210307Z
LAST-MODIFIED:20220131T210307Z
UID:2391-1645340400-1645347600@shekinahrevivalministries.com
SUMMARY:Home Life Group - February
DESCRIPTION:would love to have you join us in our small groups for praise & worship\, food and fellowship
URL:https://shekinahrevivalministries.com/event/home-life-group-february-2/
LOCATION:Shekinah Revival Ministries\, 1941 Washington Ave.\, Holland\, MI\, 49423\, United States
ATTACH;FMTTYPE=image/png:https://shekinahrevivalministries.com/wp-content/uploads/2022/01/HLG-FEBRUARY-2022.png
END:VEVENT
BEGIN:VEVENT
DTSTART;TZID=America/New_York:20220212T040000
DTEND;TZID=America/New_York:20220212T070000
DTSTAMP:20260420T004441
CREATED:20220131T210519Z
LAST-MODIFIED:20220131T210519Z
UID:2394-1644638400-1644649200@shekinahrevivalministries.com
SUMMARY:Multi Media Training
DESCRIPTION:
URL:https://shekinahrevivalministries.com/event/multi-media-training/
LOCATION:Shekinah Revival Ministries\, 1941 Washington Ave.\, Holland\, MI\, 49423\, United States
ATTACH;FMTTYPE=image/png:https://shekinahrevivalministries.com/wp-content/uploads/2022/01/Multi-Media-Training-feb-12.png
END:VEVENT
BEGIN:VEVENT
DTSTART;TZID=America/New_York:20220207T133000
DTEND;TZID=America/New_York:20220207T143000
DTSTAMP:20260420T004441
CREATED:20220124T192456Z
LAST-MODIFIED:20220124T192456Z
UID:2382-1644240600-1644244200@shekinahrevivalministries.com
SUMMARY:Intercessory Gathering
DESCRIPTION:
URL:https://shekinahrevivalministries.com/event/intercessory-gathering/
LOCATION:Shekinah Revival Ministries\, 1941 Washington Ave.\, Holland\, MI\, 49423\, United States
ATTACH;FMTTYPE=image/png:https://shekinahrevivalministries.com/wp-content/uploads/2022/01/Intercessory-Gathering-FEB-7.png
ORGANIZER;CN="Pastor Will Dilbert":MAILTO:pastorwill@liftingjesushigher.org
END:VEVENT
BEGIN:VEVENT
DTSTART;TZID=America/New_York:20220203T060000
DTEND;TZID=America/New_York:20220203T080000
DTSTAMP:20260420T004441
CREATED:20220124T192223Z
LAST-MODIFIED:20220124T192223Z
UID:2379-1643868000-1643875200@shekinahrevivalministries.com
SUMMARY:SHARE Event
DESCRIPTION:
URL:https://shekinahrevivalministries.com/event/share-event/
LOCATION:Shekinah Revival Ministries\, 1941 Washington Ave.\, Holland\, MI\, 49423\, United States
ATTACH;FMTTYPE=image/png:https://shekinahrevivalministries.com/wp-content/uploads/2022/01/Senior-Ministry-FEB-3.png
END:VEVENT
BEGIN:VEVENT
DTSTART;TZID=America/New_York:20220128T180000
DTEND;TZID=America/New_York:20220128T193000
DTSTAMP:20260420T004441
CREATED:20211227T194023Z
LAST-MODIFIED:20211227T194023Z
UID:2345-1643392800-1643398200@shekinahrevivalministries.com
SUMMARY:Powershift Gathering
DESCRIPTION:Midnight hour prayer service
URL:https://shekinahrevivalministries.com/event/powershift-gathering-2/
LOCATION:Shekinah Revival Ministries\, 1941 Washington Ave.\, Holland\, MI\, 49423\, United States
ATTACH;FMTTYPE=image/jpeg:https://shekinahrevivalministries.com/wp-content/uploads/2021/12/power-shift-page-002.jpg
ORGANIZER;CN="Deb Grasman":MAILTO:office@liftingjesushigher.org
END:VEVENT
BEGIN:VEVENT
DTSTART;TZID=America/New_York:20220116T070000
DTEND;TZID=America/New_York:20220116T090000
DTSTAMP:20260420T004441
CREATED:20211227T173909Z
LAST-MODIFIED:20211227T174228Z
UID:2330-1642316400-1642323600@shekinahrevivalministries.com
SUMMARY:Home Life Group - January
DESCRIPTION:would love to have you join us in our small groups for praise & worship\, food and fellowship
URL:https://shekinahrevivalministries.com/event/home-life-group-january-2/
LOCATION:Shekinah Revival Ministries\, 1941 Washington Ave.\, Holland\, MI\, 49423\, United States
ATTACH;FMTTYPE=image/png:https://shekinahrevivalministries.com/wp-content/uploads/2021/12/HLG-JANUARY-2022.png
END:VEVENT
BEGIN:VEVENT
DTSTART;TZID=America/New_York:20211223T030000
DTEND;TZID=America/New_York:20211231T120000
DTSTAMP:20260420T004441
CREATED:20211220T191534Z
LAST-MODIFIED:20211220T191534Z
UID:2321-1640228400-1640952000@shekinahrevivalministries.com
SUMMARY:Christmas Hours
DESCRIPTION:Thursday: December 23 (Close at 10:00 AM) \nSunday: December 26 (AM Service Only) \nMonday-Friday: December 27-31 (Closed) \nWednesday: December 29 (No Wednesday Service)
URL:https://shekinahrevivalministries.com/event/christmas-hours/
LOCATION:MI
ATTACH;FMTTYPE=image/png:https://shekinahrevivalministries.com/wp-content/uploads/2021/12/Christmas-Hours.png
END:VEVENT
BEGIN:VEVENT
DTSTART;TZID=America/New_York:20211214T131500
DTEND;TZID=America/New_York:20211214T143000
DTSTAMP:20260420T004441
CREATED:20211122T030427Z
LAST-MODIFIED:20211122T030427Z
UID:2287-1639487700-1639492200@shekinahrevivalministries.com
SUMMARY:Evening of Elegance
DESCRIPTION:
URL:https://shekinahrevivalministries.com/event/evening-of-elegance/
LOCATION:Shekinah Revival Ministries\, 1941 Washington Ave.\, Holland\, MI\, 49423\, United States
ATTACH;FMTTYPE=image/png:https://shekinahrevivalministries.com/wp-content/uploads/2021/11/evening-of-elegance.png
ORGANIZER;CN="Deb Grasman":MAILTO:office@liftingjesushigher.org
END:VEVENT
BEGIN:VEVENT
DTSTART;TZID=America/New_York:20211212T130000
DTEND;TZID=America/New_York:20211212T150000
DTSTAMP:20260420T004441
CREATED:20211122T030607Z
LAST-MODIFIED:20211122T030607Z
UID:2290-1639314000-1639321200@shekinahrevivalministries.com
SUMMARY:Speak Jesus - Time of Worship
DESCRIPTION:
URL:https://shekinahrevivalministries.com/event/speak-jesus-time-of-worship/
LOCATION:Shekinah Revival Ministries\, 1941 Washington Ave.\, Holland\, MI\, 49423\, United States
ATTACH;FMTTYPE=image/png:https://shekinahrevivalministries.com/wp-content/uploads/2021/11/ADULT-CHRISTMAS-WORSHIP-DEC12.png
END:VEVENT
BEGIN:VEVENT
DTSTART;TZID=America/New_York:20211211T060000
DTEND;TZID=America/New_York:20211211T080000
DTSTAMP:20260420T004441
CREATED:20211116T215702Z
LAST-MODIFIED:20211116T215702Z
UID:2277-1639202400-1639209600@shekinahrevivalministries.com
SUMMARY:Seniors 55+ Christmas Luncheon
DESCRIPTION:All food is provided\, sign up at the narthex by December 8!
URL:https://shekinahrevivalministries.com/event/seniors-55-christmas-luncheon/
LOCATION:Shekinah Revival Ministries\, 1941 Washington Ave.\, Holland\, MI\, 49423\, United States
ATTACH;FMTTYPE=image/png:https://shekinahrevivalministries.com/wp-content/uploads/2021/11/Senior-Christmas-Luncheon.png
ORGANIZER;CN="Deb Grasman":MAILTO:office@liftingjesushigher.org
END:VEVENT
BEGIN:VEVENT
DTSTART;TZID=America/New_York:20211205T130000
DTEND;TZID=America/New_York:20211205T143000
DTSTAMP:20260420T004441
CREATED:20211109T042158Z
LAST-MODIFIED:20211109T042516Z
UID:2216-1638709200-1638714600@shekinahrevivalministries.com
SUMMARY:Children's Ministry - Animals' Christmas Story
DESCRIPTION:
URL:https://shekinahrevivalministries.com/event/childrens-ministry-christmas/
LOCATION:Shekinah Revival Ministries\, 1941 Washington Ave.\, Holland\, MI\, 49423\, United States
ATTACH;FMTTYPE=image/jpeg:https://shekinahrevivalministries.com/wp-content/uploads/2021/11/radd-tidings.jpg
ORGANIZER;CN="Deb Grasman":MAILTO:office@liftingjesushigher.org
END:VEVENT
BEGIN:VEVENT
DTSTART;TZID=America/New_York:20211121T070000
DTEND;TZID=America/New_York:20211121T083000
DTSTAMP:20260420T004441
CREATED:20211109T042359Z
LAST-MODIFIED:20211109T042703Z
UID:2219-1637478000-1637483400@shekinahrevivalministries.com
SUMMARY:Never Enough - Chili Cook Off Fundraiser
DESCRIPTION:
URL:https://shekinahrevivalministries.com/event/never-enough-chili-cook-off-fundraiser/
LOCATION:Shekinah Revival Ministries\, 1941 Washington Ave.\, Holland\, MI\, 49423\, United States
ATTACH;FMTTYPE=image/png:https://shekinahrevivalministries.com/wp-content/uploads/2021/11/chili-cook-off-1.png
ORGANIZER;CN="Deb Grasman":MAILTO:office@liftingjesushigher.org
END:VEVENT
BEGIN:VEVENT
DTSTART;TZID=America/New_York:20211120T040000
DTEND;TZID=America/New_York:20211120T080000
DTSTAMP:20260420T004441
CREATED:20211109T042012Z
LAST-MODIFIED:20211109T042012Z
UID:2213-1637380800-1637395200@shekinahrevivalministries.com
SUMMARY:SOZO Basic Training
DESCRIPTION:Sign up in the Narthex
URL:https://shekinahrevivalministries.com/event/sozo-basic-training/
LOCATION:Shekinah Revival Ministries\, 1941 Washington Ave.\, Holland\, MI\, 49423\, United States
ATTACH;FMTTYPE=image/jpeg:https://shekinahrevivalministries.com/wp-content/uploads/2021/11/SOZO-Training-Flyer-page-003.jpg
END:VEVENT
BEGIN:VEVENT
DTSTART;TZID=America/New_York:20211114T130000
DTEND;TZID=America/New_York:20211114T150000
DTSTAMP:20260420T004441
CREATED:20211111T014649Z
LAST-MODIFIED:20211111T014819Z
UID:2255-1636894800-1636902000@shekinahrevivalministries.com
SUMMARY:2022 Mission Conference
DESCRIPTION:
URL:https://shekinahrevivalministries.com/event/2022-mission-conference/
LOCATION:Shekinah Revival Ministries\, 1941 Washington Ave.\, Holland\, MI\, 49423\, United States
ATTACH;FMTTYPE=image/jpeg:https://shekinahrevivalministries.com/wp-content/uploads/2021/11/LARGER-W-SRM.jpg
END:VEVENT
BEGIN:VEVENT
DTSTART;TZID=America/New_York:20211105T190000
DTEND;TZID=America/New_York:20211105T203000
DTSTAMP:20260420T004441
CREATED:20211025T172820Z
LAST-MODIFIED:20211025T173053Z
UID:2194-1636138800-1636144200@shekinahrevivalministries.com
SUMMARY:Powershift Gathering
DESCRIPTION:Midnight hour prayer service
URL:https://shekinahrevivalministries.com/event/powershift-gathering/
LOCATION:Shekinah Revival Ministries\, 1941 Washington Ave.\, Holland\, MI\, 49423\, United States
ATTACH;FMTTYPE=image/png:https://shekinahrevivalministries.com/wp-content/uploads/2021/10/Powershift-Gathering-Flyer.png
ORGANIZER;CN="Deb Grasman":MAILTO:office@liftingjesushigher.org
END:VEVENT
END:VCALENDAR