BEGIN:VCALENDAR
VERSION:2.0
PRODID:-//Shekinah Revival Ministries - ECPv6.15.18//NONSGML v1.0//EN
CALSCALE:GREGORIAN
METHOD:PUBLISH
X-WR-CALNAME:Shekinah Revival Ministries
X-ORIGINAL-URL:https://shekinahrevivalministries.com
X-WR-CALDESC:Events for Shekinah Revival Ministries
REFRESH-INTERVAL;VALUE=DURATION:PT1H
X-Robots-Tag:noindex
X-PUBLISHED-TTL:PT1H
BEGIN:VTIMEZONE
TZID:America/New_York
BEGIN:DAYLIGHT
TZOFFSETFROM:-0500
TZOFFSETTO:-0400
TZNAME:EDT
DTSTART:20190310T070000
END:DAYLIGHT
BEGIN:STANDARD
TZOFFSETFROM:-0400
TZOFFSETTO:-0500
TZNAME:EST
DTSTART:20191103T060000
END:STANDARD
BEGIN:DAYLIGHT
TZOFFSETFROM:-0500
TZOFFSETTO:-0400
TZNAME:EDT
DTSTART:20200308T070000
END:DAYLIGHT
BEGIN:STANDARD
TZOFFSETFROM:-0400
TZOFFSETTO:-0500
TZNAME:EST
DTSTART:20201101T060000
END:STANDARD
BEGIN:DAYLIGHT
TZOFFSETFROM:-0500
TZOFFSETTO:-0400
TZNAME:EDT
DTSTART:20210314T070000
END:DAYLIGHT
BEGIN:STANDARD
TZOFFSETFROM:-0400
TZOFFSETTO:-0500
TZNAME:EST
DTSTART:20211107T060000
END:STANDARD
BEGIN:DAYLIGHT
TZOFFSETFROM:-0500
TZOFFSETTO:-0400
TZNAME:EDT
DTSTART:20220313T070000
END:DAYLIGHT
BEGIN:STANDARD
TZOFFSETFROM:-0400
TZOFFSETTO:-0500
TZNAME:EST
DTSTART:20221106T060000
END:STANDARD
END:VTIMEZONE
BEGIN:VEVENT
DTSTART;VALUE=DATE:20210410
DTEND;VALUE=DATE:20210412
DTSTAMP:20260420T093935
CREATED:20210322T184844Z
LAST-MODIFIED:20210322T184844Z
UID:1734-1618084800-1618171199@shekinahrevivalministries.com
SUMMARY:Prophets Kathy Campbell & Charity Campbell
DESCRIPTION:Please join us for 2 great days! \nSunday- 9:30AM & 6PM Services | Monday – 7PM
URL:https://shekinahrevivalministries.com/event/prophets-kathy-campbell-charity-campbell/
LOCATION:Shekinah Revival Ministries\, 1941 Washington Ave.\, Holland\, MI\, 49423\, United States
ATTACH;FMTTYPE=image/jpeg:https://shekinahrevivalministries.com/wp-content/uploads/2021/03/Campbell-POSTER.jpg
ORGANIZER;CN="Deb Grasman":MAILTO:office@liftingjesushigher.org
END:VEVENT
BEGIN:VEVENT
DTSTART;TZID=America/New_York:20210406T140000
DTEND;TZID=America/New_York:20210406T163000
DTSTAMP:20260420T093935
CREATED:20210215T203429Z
LAST-MODIFIED:20210215T203429Z
UID:1656-1617717600-1617726600@shekinahrevivalministries.com
SUMMARY:WMSSM Course - Class 4
DESCRIPTION:see class details about how to sign up here: https://shekinahrevivalministries.com/wmssm/ \n 
URL:https://shekinahrevivalministries.com/event/wmssm-course-class-4/
LOCATION:Shekinah Revival Ministries\, 1941 Washington Ave.\, Holland\, MI\, 49423\, United States
ATTACH;FMTTYPE=image/png:https://shekinahrevivalministries.com/wp-content/uploads/2021/02/dreams-n-vision-side-3.png
ORGANIZER;CN="Deb Grasman":MAILTO:office@liftingjesushigher.org
END:VEVENT
BEGIN:VEVENT
DTSTART;TZID=America/New_York:20210330T140000
DTEND;TZID=America/New_York:20210330T163000
DTSTAMP:20260420T093935
CREATED:20210215T195140Z
LAST-MODIFIED:20210215T195513Z
UID:1641-1617112800-1617121800@shekinahrevivalministries.com
SUMMARY:WMSSM Course - Class 3
DESCRIPTION:see class details about how to sign up here: https://shekinahrevivalministries.com/wmssm/ \n 
URL:https://shekinahrevivalministries.com/event/wmssm-course-class-3/
LOCATION:Shekinah Revival Ministries\, 1941 Washington Ave.\, Holland\, MI\, 49423\, United States
ATTACH;FMTTYPE=image/png:https://shekinahrevivalministries.com/wp-content/uploads/2021/02/dreams-n-vision-side-3.png
ORGANIZER;CN="Deb Grasman":MAILTO:office@liftingjesushigher.org
END:VEVENT
BEGIN:VEVENT
DTSTART;TZID=America/New_York:20210327T050000
DTEND;TZID=America/New_York:20210327T090000
DTSTAMP:20260420T093935
CREATED:20210215T190641Z
LAST-MODIFIED:20210215T190947Z
UID:1625-1616821200-1616835600@shekinahrevivalministries.com
SUMMARY:The Tabernacle of David - Saturday School
DESCRIPTION:
URL:https://shekinahrevivalministries.com/event/the-tabernacle-of-david-saturday-school/
LOCATION:MI
ATTACH;FMTTYPE=image/png:https://shekinahrevivalministries.com/wp-content/uploads/2021/02/Tabernacle-of-David2.png
END:VEVENT
BEGIN:VEVENT
DTSTART;TZID=America/New_York:20210321T083000
DTEND;TZID=America/New_York:20210321T103000
DTSTAMP:20260420T093935
CREATED:20210315T165643Z
LAST-MODIFIED:20210315T165750Z
UID:1727-1616315400-1616322600@shekinahrevivalministries.com
SUMMARY:Home Life Group - March
DESCRIPTION:would love to have you join us in our small groups for praise & worship\, food and fellowship
URL:https://shekinahrevivalministries.com/event/home-life-group-march/
LOCATION:Shekinah Revival Ministries\, 1941 Washington Ave.\, Holland\, MI\, 49423\, United States
ATTACH;FMTTYPE=image/png:https://shekinahrevivalministries.com/wp-content/uploads/2021/03/HLG-MAR-2021.png
END:VEVENT
BEGIN:VEVENT
DTSTART;TZID=America/New_York:20210316T140000
DTEND;TZID=America/New_York:20210316T163000
DTSTAMP:20260420T093935
CREATED:20210215T195110Z
LAST-MODIFIED:20210215T195535Z
UID:1639-1615903200-1615912200@shekinahrevivalministries.com
SUMMARY:WMSSM Course - Class 2
DESCRIPTION:see class details about how to sign up here: https://shekinahrevivalministries.com/wmssm/ \n 
URL:https://shekinahrevivalministries.com/event/wmssm-course-class-2/
LOCATION:Shekinah Revival Ministries\, 1941 Washington Ave.\, Holland\, MI\, 49423\, United States
ATTACH;FMTTYPE=image/png:https://shekinahrevivalministries.com/wp-content/uploads/2021/02/dreams-n-vision-side-3.png
ORGANIZER;CN="Deb Grasman":MAILTO:office@liftingjesushigher.org
END:VEVENT
BEGIN:VEVENT
DTSTART;TZID=America/New_York:20210313T050000
DTEND;TZID=America/New_York:20210313T070000
DTSTAMP:20260420T093935
CREATED:20210223T010454Z
LAST-MODIFIED:20210224T011142Z
UID:1699-1615611600-1615618800@shekinahrevivalministries.com
SUMMARY:Men's Ministry Gathering
DESCRIPTION:
URL:https://shekinahrevivalministries.com/event/mens-ministry-gathering/
LOCATION:Shekinah Revival Ministries\, 1941 Washington Ave.\, Holland\, MI\, 49423\, United States
ATTACH;FMTTYPE=image/png:https://shekinahrevivalministries.com/wp-content/uploads/2021/02/Mens-Breakfast-2021.png
END:VEVENT
BEGIN:VEVENT
DTSTART;TZID=America/New_York:20210309T130000
DTEND;TZID=America/New_York:20210309T153000
DTSTAMP:20260420T093935
CREATED:20210215T195046Z
LAST-MODIFIED:20210215T195615Z
UID:1635-1615294800-1615303800@shekinahrevivalministries.com
SUMMARY:WMSSM Course - Class 1
DESCRIPTION:see class details about how to sign up here: https://shekinahrevivalministries.com/wmssm/ \n 
URL:https://shekinahrevivalministries.com/event/wmssm-course-class-1/
LOCATION:Shekinah Revival Ministries\, 1941 Washington Ave.\, Holland\, MI\, 49423\, United States
ATTACH;FMTTYPE=image/png:https://shekinahrevivalministries.com/wp-content/uploads/2021/02/dreams-n-vision-side-3.png
ORGANIZER;CN="Deb Grasman":MAILTO:office@liftingjesushigher.org
END:VEVENT
BEGIN:VEVENT
DTSTART;TZID=America/New_York:20210221T073000
DTEND;TZID=America/New_York:20210221T090000
DTSTAMP:20260420T093935
CREATED:20210201T214613Z
LAST-MODIFIED:20210201T214613Z
UID:1574-1613892600-1613898000@shekinahrevivalministries.com
SUMMARY:Home Life Group - February
DESCRIPTION:would love to have you join us in our small groups for praise & worship\, food and fellowship
URL:https://shekinahrevivalministries.com/event/home-life-group-february/
LOCATION:MI
ATTACH;FMTTYPE=image/png:https://shekinahrevivalministries.com/wp-content/uploads/2021/02/HLG-FEB-2021.png
END:VEVENT
BEGIN:VEVENT
DTSTART;TZID=America/New_York:20210117T080000
DTEND;TZID=America/New_York:20210117T100000
DTSTAMP:20260420T093935
CREATED:20201218T221609Z
LAST-MODIFIED:20201218T231740Z
UID:1363-1610870400-1610877600@shekinahrevivalministries.com
SUMMARY:Home Life Group - January
DESCRIPTION:would love to have you join us in our small groups for praise & worship\, food and fellowship
URL:https://shekinahrevivalministries.com/event/home-life-group-january/
LOCATION:MI
ATTACH;FMTTYPE=image/png:https://shekinahrevivalministries.com/wp-content/uploads/2020/12/HLG-JAN-2021.png
END:VEVENT
BEGIN:VEVENT
DTSTART;TZID=America/New_York:20210111T140000
DTEND;TZID=America/New_York:20210111T160000
DTSTAMP:20260420T093935
CREATED:20201229T050357Z
LAST-MODIFIED:20201229T050728Z
UID:1428-1610373600-1610380800@shekinahrevivalministries.com
SUMMARY:Dr. Mark Barclay "I Predict" 2021
DESCRIPTION:  \n 
URL:https://shekinahrevivalministries.com/event/dr-mark-barclay-i-predict-2021/
LOCATION:Shekinah Revival Ministries\, 1941 Washington Ave.\, Holland\, MI\, 49423\, United States
ATTACH;FMTTYPE=image/jpeg:https://shekinahrevivalministries.com/wp-content/uploads/2020/12/Post-Card-2-I-PREDICT-ON-MONDAY-Copy.jpg
END:VEVENT
BEGIN:VEVENT
DTSTART;TZID=America/New_York:20210110T130000
DTEND;TZID=America/New_York:20210110T150000
DTSTAMP:20260420T093935
CREATED:20201229T051419Z
LAST-MODIFIED:20201229T051419Z
UID:1439-1610283600-1610290800@shekinahrevivalministries.com
SUMMARY:Dr. Mark Barclay - PM Service
DESCRIPTION:
URL:https://shekinahrevivalministries.com/event/dr-mark-barclay-pm-service/
LOCATION:Shekinah Revival Ministries\, 1941 Washington Ave.\, Holland\, MI\, 49423\, United States
ATTACH;FMTTYPE=image/jpeg:https://shekinahrevivalministries.com/wp-content/uploads/2020/12/Post-Card-poster-Copy.jpg
END:VEVENT
BEGIN:VEVENT
DTSTART;TZID=America/New_York:20210110T043000
DTEND;TZID=America/New_York:20210110T183000
DTSTAMP:20260420T093935
CREATED:20201229T051133Z
LAST-MODIFIED:20201229T051509Z
UID:1434-1610253000-1610303400@shekinahrevivalministries.com
SUMMARY:Dr. Mark Barclay - AM Service
DESCRIPTION:
URL:https://shekinahrevivalministries.com/event/dr-mark-barclay/
LOCATION:Shekinah Revival Ministries\, 1941 Washington Ave.\, Holland\, MI\, 49423\, United States
ATTACH;FMTTYPE=image/jpeg:https://shekinahrevivalministries.com/wp-content/uploads/2020/12/Post-Card-poster-Copy.jpg
END:VEVENT
BEGIN:VEVENT
DTSTART;TZID=America/New_York:20201220T080000
DTEND;TZID=America/New_York:20201220T100000
DTSTAMP:20260420T093935
CREATED:20201218T221111Z
LAST-MODIFIED:20201218T231729Z
UID:1346-1608451200-1608458400@shekinahrevivalministries.com
SUMMARY:Home Life Group - December
DESCRIPTION:would love to have you join us in our small groups for praise & worship\, food and fellowship
URL:https://shekinahrevivalministries.com/event/home-life-group-december/
LOCATION:MI
ATTACH;FMTTYPE=image/png:https://shekinahrevivalministries.com/wp-content/uploads/2020/12/HLG-DEC-2020.png
END:VEVENT
END:VCALENDAR