BEGIN:VCALENDAR
VERSION:2.0
PRODID:-//Shekinah Revival Ministries - ECPv6.15.18//NONSGML v1.0//EN
CALSCALE:GREGORIAN
METHOD:PUBLISH
X-ORIGINAL-URL:https://shekinahrevivalministries.com
X-WR-CALDESC:Events for Shekinah Revival Ministries
REFRESH-INTERVAL;VALUE=DURATION:PT1H
X-Robots-Tag:noindex
X-PUBLISHED-TTL:PT1H
BEGIN:VTIMEZONE
TZID:America/New_York
BEGIN:DAYLIGHT
TZOFFSETFROM:-0500
TZOFFSETTO:-0400
TZNAME:EDT
DTSTART:20210314T070000
END:DAYLIGHT
BEGIN:STANDARD
TZOFFSETFROM:-0400
TZOFFSETTO:-0500
TZNAME:EST
DTSTART:20211107T060000
END:STANDARD
BEGIN:DAYLIGHT
TZOFFSETFROM:-0500
TZOFFSETTO:-0400
TZNAME:EDT
DTSTART:20220313T070000
END:DAYLIGHT
BEGIN:STANDARD
TZOFFSETFROM:-0400
TZOFFSETTO:-0500
TZNAME:EST
DTSTART:20221106T060000
END:STANDARD
BEGIN:DAYLIGHT
TZOFFSETFROM:-0500
TZOFFSETTO:-0400
TZNAME:EDT
DTSTART:20230312T070000
END:DAYLIGHT
BEGIN:STANDARD
TZOFFSETFROM:-0400
TZOFFSETTO:-0500
TZNAME:EST
DTSTART:20231105T060000
END:STANDARD
END:VTIMEZONE
BEGIN:VEVENT
DTSTART;TZID=America/New_York:20220604T050000
DTEND;TZID=America/New_York:20220604T080000
DTSTAMP:20260425T112809
CREATED:20220411T220355Z
LAST-MODIFIED:20220411T222025Z
UID:2503-1654318800-1654329600@shekinahrevivalministries.com
SUMMARY:Walk-A-Thon
DESCRIPTION:Raise pledges toward your camp fees \n 
URL:https://shekinahrevivalministries.com/event/walk-a-thon/
LOCATION:Van Raalte Farms Park\, 1076 E. 16th St\, Holland\, MI\, 49423\, United States
ATTACH;FMTTYPE=image/jpeg:https://shekinahrevivalministries.com/wp-content/uploads/2022/04/walk-a-thon-2022.jpg
END:VEVENT
BEGIN:VEVENT
DTSTART;TZID=America/New_York:20220607T143000
DTEND;TZID=America/New_York:20220607T163000
DTSTAMP:20260425T112809
CREATED:20220523T200706Z
LAST-MODIFIED:20220531T172018Z
UID:2584-1654612200-1654619400@shekinahrevivalministries.com
SUMMARY:Building a Strong Foundation (Week 1)
DESCRIPTION:
URL:https://shekinahrevivalministries.com/event/building-a-strong-foundation/
LOCATION:Shekinah Revival Ministries\, 1941 Washington Ave.\, Holland\, MI\, 49423\, United States
ATTACH;FMTTYPE=image/png:https://shekinahrevivalministries.com/wp-content/uploads/2022/05/building-a-strong-foundation.png
ORGANIZER;CN="Pastor Will Dilbert":MAILTO:pastorwill@liftingjesushigher.org
END:VEVENT
BEGIN:VEVENT
DTSTART;TZID=America/New_York:20220609T140000
DTEND;TZID=America/New_York:20220609T150000
DTSTAMP:20260425T112809
CREATED:20220523T194231Z
LAST-MODIFIED:20220531T171957Z
UID:2578-1654783200-1654786800@shekinahrevivalministries.com
SUMMARY:Men's Prayer Gathering
DESCRIPTION:
URL:https://shekinahrevivalministries.com/event/mens-prayer-gathering/
LOCATION:Shekinah Revival Ministries\, 1941 Washington Ave.\, Holland\, MI\, 49423\, United States
ATTACH;FMTTYPE=image/png:https://shekinahrevivalministries.com/wp-content/uploads/2022/05/MENS-PRAYER-GATHERING.png
END:VEVENT
BEGIN:VEVENT
DTSTART;TZID=America/New_York:20220611T060000
DTEND;TZID=America/New_York:20220611T080000
DTSTAMP:20260425T112809
CREATED:20220523T203950Z
LAST-MODIFIED:20220531T170354Z
UID:2595-1654927200-1654934400@shekinahrevivalministries.com
SUMMARY:Senior Ministry "SHARE"
DESCRIPTION:
URL:https://shekinahrevivalministries.com/event/senior-ministry-share-3/
LOCATION:Shekinah Revival Ministries\, 1941 Washington Ave.\, Holland\, MI\, 49423\, United States
ATTACH;FMTTYPE=image/png:https://shekinahrevivalministries.com/wp-content/uploads/2022/05/updated-SHARE-poster.png
ORGANIZER;CN="Pastor Will Dilbert":MAILTO:pastorwill@liftingjesushigher.org
END:VEVENT
BEGIN:VEVENT
DTSTART;TZID=America/New_York:20220612T124500
DTEND;TZID=America/New_York:20220612T133000
DTSTAMP:20260425T112809
CREATED:20220523T200348Z
LAST-MODIFIED:20220523T200348Z
UID:2581-1655037900-1655040600@shekinahrevivalministries.com
SUMMARY:Banner Waving Class
DESCRIPTION:
URL:https://shekinahrevivalministries.com/event/banner-waving-class/
LOCATION:Shekinah Revival Ministries\, 1941 Washington Ave.\, Holland\, MI\, 49423\, United States
ATTACH;FMTTYPE=image/png:https://shekinahrevivalministries.com/wp-content/uploads/2022/05/Banner-Waving-Class-JUNE-12.png
END:VEVENT
BEGIN:VEVENT
DTSTART;TZID=America/New_York:20220614T143000
DTEND;TZID=America/New_York:20220614T163000
DTSTAMP:20260425T112809
CREATED:20220523T200814Z
LAST-MODIFIED:20220531T172037Z
UID:2589-1655217000-1655224200@shekinahrevivalministries.com
SUMMARY:Building a Strong Foundation (Week 2)
DESCRIPTION:
URL:https://shekinahrevivalministries.com/event/building-a-strong-foundation-week-2/
LOCATION:Shekinah Revival Ministries\, 1941 Washington Ave.\, Holland\, MI\, 49423\, United States
ATTACH;FMTTYPE=image/png:https://shekinahrevivalministries.com/wp-content/uploads/2022/05/building-a-strong-foundation.png
ORGANIZER;CN="Pastor Will Dilbert":MAILTO:pastorwill@liftingjesushigher.org
END:VEVENT
BEGIN:VEVENT
DTSTART;TZID=America/New_York:20220619T080000
DTEND;TZID=America/New_York:20220619T100000
DTSTAMP:20260425T112809
CREATED:20220613T183509Z
LAST-MODIFIED:20220613T183509Z
UID:2693-1655625600-1655632800@shekinahrevivalministries.com
SUMMARY:Home Life Group - June\, 2022
DESCRIPTION:would love to have you join us in our small groups for praise & worship\, food and fellowship
URL:https://shekinahrevivalministries.com/event/home-life-group-june-2022/
LOCATION:Shekinah Revival Ministries\, 1941 Washington Ave.\, Holland\, MI\, 49423\, United States
ATTACH;FMTTYPE=image/png:https://shekinahrevivalministries.com/wp-content/uploads/2022/06/HLG-JUN-2022.png
END:VEVENT
BEGIN:VEVENT
DTSTART;TZID=America/New_York:20220621T143000
DTEND;TZID=America/New_York:20220621T163000
DTSTAMP:20260425T112809
CREATED:20220523T200905Z
LAST-MODIFIED:20220531T172056Z
UID:2591-1655821800-1655829000@shekinahrevivalministries.com
SUMMARY:Building a Strong Foundation (Week 3)
DESCRIPTION:
URL:https://shekinahrevivalministries.com/event/building-a-strong-foundation-week-3/
LOCATION:Shekinah Revival Ministries\, 1941 Washington Ave.\, Holland\, MI\, 49423\, United States
ATTACH;FMTTYPE=image/png:https://shekinahrevivalministries.com/wp-content/uploads/2022/05/building-a-strong-foundation.png
ORGANIZER;CN="Pastor Will Dilbert":MAILTO:pastorwill@liftingjesushigher.org
END:VEVENT
BEGIN:VEVENT
DTSTART;TZID=America/New_York:20220626T140000
DTEND;TZID=America/New_York:20220626T160000
DTSTAMP:20260425T112809
CREATED:20220531T170850Z
LAST-MODIFIED:20220606T164736Z
UID:2666-1656252000-1656259200@shekinahrevivalministries.com
SUMMARY:2022 Graduates
DESCRIPTION:Come while we honor the graduating class of 2022!
URL:https://shekinahrevivalministries.com/event/2022-graduates/
LOCATION:Shekinah Revival Ministries\, 1941 Washington Ave.\, Holland\, MI\, 49423\, United States
ATTACH;FMTTYPE=image/png:https://shekinahrevivalministries.com/wp-content/uploads/2022/05/2022-graduates-1.png
END:VEVENT
BEGIN:VEVENT
DTSTART;TZID=America/New_York:20220628T143000
DTEND;TZID=America/New_York:20220628T163000
DTSTAMP:20260425T112809
CREATED:20220523T201104Z
LAST-MODIFIED:20220531T172114Z
UID:2593-1656426600-1656433800@shekinahrevivalministries.com
SUMMARY:Building a Strong Foundation (Week 4)
DESCRIPTION:
URL:https://shekinahrevivalministries.com/event/building-a-strong-foundation-week-4/
LOCATION:Shekinah Revival Ministries\, 1941 Washington Ave.\, Holland\, MI\, 49423\, United States
ATTACH;FMTTYPE=image/png:https://shekinahrevivalministries.com/wp-content/uploads/2022/05/building-a-strong-foundation.png
ORGANIZER;CN="Pastor Will Dilbert":MAILTO:pastorwill@liftingjesushigher.org
END:VEVENT
END:VCALENDAR