BEGIN:VCALENDAR
VERSION:2.0
PRODID:-//Shekinah Revival Ministries - ECPv6.15.18//NONSGML v1.0//EN
CALSCALE:GREGORIAN
METHOD:PUBLISH
X-WR-CALNAME:Shekinah Revival Ministries
X-ORIGINAL-URL:https://shekinahrevivalministries.com
X-WR-CALDESC:Events for Shekinah Revival Ministries
REFRESH-INTERVAL;VALUE=DURATION:PT1H
X-Robots-Tag:noindex
X-PUBLISHED-TTL:PT1H
BEGIN:VTIMEZONE
TZID:America/New_York
BEGIN:DAYLIGHT
TZOFFSETFROM:-0500
TZOFFSETTO:-0400
TZNAME:EDT
DTSTART:20210314T070000
END:DAYLIGHT
BEGIN:STANDARD
TZOFFSETFROM:-0400
TZOFFSETTO:-0500
TZNAME:EST
DTSTART:20211107T060000
END:STANDARD
BEGIN:DAYLIGHT
TZOFFSETFROM:-0500
TZOFFSETTO:-0400
TZNAME:EDT
DTSTART:20220313T070000
END:DAYLIGHT
BEGIN:STANDARD
TZOFFSETFROM:-0400
TZOFFSETTO:-0500
TZNAME:EST
DTSTART:20221106T060000
END:STANDARD
BEGIN:DAYLIGHT
TZOFFSETFROM:-0500
TZOFFSETTO:-0400
TZNAME:EDT
DTSTART:20230312T070000
END:DAYLIGHT
BEGIN:STANDARD
TZOFFSETFROM:-0400
TZOFFSETTO:-0500
TZNAME:EST
DTSTART:20231105T060000
END:STANDARD
END:VTIMEZONE
BEGIN:VEVENT
DTSTART;TZID=America/New_York:20220802T143000
DTEND;TZID=America/New_York:20220802T163000
DTSTAMP:20260425T075315
CREATED:20220718T005329Z
LAST-MODIFIED:20220718T162643Z
UID:2751-1659450600-1659457800@shekinahrevivalministries.com
SUMMARY:Building a Strong Foundation
DESCRIPTION:sign-up to this class below through breeze or in the narthex at church \nhttps://shekinah.breezechms.com/form/a05c2a
URL:https://shekinahrevivalministries.com/event/building-a-strong-foundation-2/
LOCATION:Zoom Event
ATTACH;FMTTYPE=image/png:https://shekinahrevivalministries.com/wp-content/uploads/2022/07/1.png
ORGANIZER;CN="Pastor Will Dilbert":MAILTO:pastorwill@liftingjesushigher.org
END:VEVENT
BEGIN:VEVENT
DTSTART;TZID=America/New_York:20220804T070000
DTEND;TZID=America/New_York:20220804T090000
DTSTAMP:20260425T075315
CREATED:20220801T171800Z
LAST-MODIFIED:20220801T171800Z
UID:2789-1659596400-1659603600@shekinahrevivalministries.com
SUMMARY:Senior Ministry "SHARE"
DESCRIPTION:
URL:https://shekinahrevivalministries.com/event/senior-ministry-share-5/
LOCATION:Shekinah Revival Ministries\, 1941 Washington Ave.\, Holland\, MI\, 49423\, United States
ATTACH;FMTTYPE=image/png:https://shekinahrevivalministries.com/wp-content/uploads/2022/08/Senior-Ministry-AUG-4.png
ORGANIZER;CN="Pastor Will Dilbert":MAILTO:pastorwill@liftingjesushigher.org
END:VEVENT
BEGIN:VEVENT
DTSTART;TZID=America/New_York:20220808T143000
DTEND;TZID=America/New_York:20220808T163000
DTSTAMP:20260425T075315
CREATED:20220801T171630Z
LAST-MODIFIED:20220801T171630Z
UID:2786-1659969000-1659976200@shekinahrevivalministries.com
SUMMARY:Intercessory Gathering
DESCRIPTION:
URL:https://shekinahrevivalministries.com/event/intercessory-gathering-3/
LOCATION:Shekinah Revival Ministries\, 1941 Washington Ave.\, Holland\, MI\, 49423\, United States
ATTACH;FMTTYPE=image/png:https://shekinahrevivalministries.com/wp-content/uploads/2022/08/Intercessory-Gathering-Aug-8.png
ORGANIZER;CN="Pastor Will Dilbert":MAILTO:pastorwill@liftingjesushigher.org
END:VEVENT
BEGIN:VEVENT
DTSTART;TZID=America/New_York:20220809T143000
DTEND;TZID=America/New_York:20220809T163000
DTSTAMP:20260425T075315
CREATED:20220718T163053Z
LAST-MODIFIED:20220718T163053Z
UID:2764-1660055400-1660062600@shekinahrevivalministries.com
SUMMARY:Building a Strong Foundation (Week 2)
DESCRIPTION:
URL:https://shekinahrevivalministries.com/event/building-a-strong-foundation-week-2-2/
LOCATION:Zoom Event
ATTACH;FMTTYPE=image/png:https://shekinahrevivalministries.com/wp-content/uploads/2022/07/1.png
ORGANIZER;CN="Pastor Will Dilbert":MAILTO:pastorwill@liftingjesushigher.org
END:VEVENT
BEGIN:VEVENT
DTSTART;TZID=America/New_York:20220816T143000
DTEND;TZID=America/New_York:20220816T163000
DTSTAMP:20260425T075315
CREATED:20220718T163128Z
LAST-MODIFIED:20220718T163128Z
UID:2766-1660660200-1660667400@shekinahrevivalministries.com
SUMMARY:Building a Strong Foundation (Week 3)
DESCRIPTION:
URL:https://shekinahrevivalministries.com/event/building-a-strong-foundation-week-3-2/
LOCATION:Zoom Event
ATTACH;FMTTYPE=image/png:https://shekinahrevivalministries.com/wp-content/uploads/2022/07/1.png
ORGANIZER;CN="Pastor Will Dilbert":MAILTO:pastorwill@liftingjesushigher.org
END:VEVENT
BEGIN:VEVENT
DTSTART;VALUE=DATE:20220820
DTEND;VALUE=DATE:20220822
DTSTAMP:20260425T075315
CREATED:20220718T165111Z
LAST-MODIFIED:20220718T165111Z
UID:2772-1661025600-1661111999@shekinahrevivalministries.com
SUMMARY:Kathy & Charity Campbell
DESCRIPTION:
URL:https://shekinahrevivalministries.com/event/kathy-charity-campbell/
LOCATION:Shekinah Revival Ministries\, 1941 Washington Ave.\, Holland\, MI\, 49423\, United States
ATTACH;FMTTYPE=image/png:https://shekinahrevivalministries.com/wp-content/uploads/2022/07/KATHY-CHARITY-CAMPBELL.png
END:VEVENT
BEGIN:VEVENT
DTSTART;TZID=America/New_York:20220823T143000
DTEND;TZID=America/New_York:20220823T163000
DTSTAMP:20260425T075315
CREATED:20220718T163206Z
LAST-MODIFIED:20220718T163206Z
UID:2768-1661265000-1661272200@shekinahrevivalministries.com
SUMMARY:Building a Strong Foundation (Week 4)
DESCRIPTION:
URL:https://shekinahrevivalministries.com/event/building-a-strong-foundation-week-4-2/
LOCATION:Zoom Event
ATTACH;FMTTYPE=image/png:https://shekinahrevivalministries.com/wp-content/uploads/2022/07/1.png
ORGANIZER;CN="Pastor Will Dilbert":MAILTO:pastorwill@liftingjesushigher.org
END:VEVENT
BEGIN:VEVENT
DTSTART;VALUE=DATE:20220823
DTEND;VALUE=DATE:20220829
DTSTAMP:20260425T075315
CREATED:20220531T171140Z
LAST-MODIFIED:20220531T171140Z
UID:2669-1661284800-1661716799@shekinahrevivalministries.com
SUMMARY:Church Camp 2022
DESCRIPTION:
URL:https://shekinahrevivalministries.com/event/church-camp-2022/
LOCATION:Gull Lake Ministries\, 1800 Burlington Dr\, Hickory Corners\, MI\, 49060\, United States
ATTACH;FMTTYPE=image/jpeg:https://shekinahrevivalministries.com/wp-content/uploads/2022/05/Church-Camp-2022.jpg
END:VEVENT
BEGIN:VEVENT
DTSTART;TZID=America/New_York:20220830T143000
DTEND;TZID=America/New_York:20220830T163000
DTSTAMP:20260425T075315
CREATED:20220718T163248Z
LAST-MODIFIED:20220718T163248Z
UID:2770-1661869800-1661877000@shekinahrevivalministries.com
SUMMARY:Building a Strong Foundation (Week 5)
DESCRIPTION:
URL:https://shekinahrevivalministries.com/event/building-a-strong-foundation-week-5/
LOCATION:Zoom Event
ATTACH;FMTTYPE=image/png:https://shekinahrevivalministries.com/wp-content/uploads/2022/07/1.png
ORGANIZER;CN="Pastor Will Dilbert":MAILTO:pastorwill@liftingjesushigher.org
END:VEVENT
END:VCALENDAR