BEGIN:VCALENDAR
VERSION:2.0
PRODID:-//Shekinah Revival Ministries - ECPv6.15.18//NONSGML v1.0//EN
CALSCALE:GREGORIAN
METHOD:PUBLISH
X-WR-CALNAME:Shekinah Revival Ministries
X-ORIGINAL-URL:https://shekinahrevivalministries.com
X-WR-CALDESC:Events for Shekinah Revival Ministries
REFRESH-INTERVAL;VALUE=DURATION:PT1H
X-Robots-Tag:noindex
X-PUBLISHED-TTL:PT1H
BEGIN:VTIMEZONE
TZID:America/New_York
BEGIN:DAYLIGHT
TZOFFSETFROM:-0500
TZOFFSETTO:-0400
TZNAME:EDT
DTSTART:20220313T070000
END:DAYLIGHT
BEGIN:STANDARD
TZOFFSETFROM:-0400
TZOFFSETTO:-0500
TZNAME:EST
DTSTART:20221106T060000
END:STANDARD
BEGIN:DAYLIGHT
TZOFFSETFROM:-0500
TZOFFSETTO:-0400
TZNAME:EDT
DTSTART:20230312T070000
END:DAYLIGHT
BEGIN:STANDARD
TZOFFSETFROM:-0400
TZOFFSETTO:-0500
TZNAME:EST
DTSTART:20231105T060000
END:STANDARD
BEGIN:DAYLIGHT
TZOFFSETFROM:-0500
TZOFFSETTO:-0400
TZNAME:EDT
DTSTART:20240310T070000
END:DAYLIGHT
BEGIN:STANDARD
TZOFFSETFROM:-0400
TZOFFSETTO:-0500
TZNAME:EST
DTSTART:20241103T060000
END:STANDARD
END:VTIMEZONE
BEGIN:VEVENT
DTSTART;TZID=America/New_York:20230401T090000
DTEND;TZID=America/New_York:20230401T123000
DTSTAMP:20260424T172611
CREATED:20230319T215958Z
LAST-MODIFIED:20230319T221032Z
UID:3317-1680339600-1680352200@shekinahrevivalministries.com
SUMMARY:Health Summit - Shalom Ministries
DESCRIPTION:
URL:https://shekinahrevivalministries.com/event/health-summit-shalom-ministries/
LOCATION:Shekinah Revival Ministries\, 1941 Washington Ave.\, Holland\, MI\, 49423\, United States
ATTACH;FMTTYPE=image/png:https://shekinahrevivalministries.com/wp-content/uploads/2023/03/Health-Summit-April-1.png
END:VEVENT
BEGIN:VEVENT
DTSTART;TZID=America/New_York:20230402T180000
DTEND;TZID=America/New_York:20230402T193000
DTSTAMP:20260424T172611
CREATED:20230319T220626Z
LAST-MODIFIED:20230319T220626Z
UID:3322-1680458400-1680463800@shekinahrevivalministries.com
SUMMARY:Water Baptism
DESCRIPTION:
URL:https://shekinahrevivalministries.com/event/water-baptism/
LOCATION:Shekinah Revival Ministries\, 1941 Washington Ave.\, Holland\, MI\, 49423\, United States
ATTACH;FMTTYPE=image/png:https://shekinahrevivalministries.com/wp-content/uploads/2023/03/water-baptism-.png
END:VEVENT
BEGIN:VEVENT
DTSTART;TZID=America/New_York:20230403T143000
DTEND;TZID=America/New_York:20230403T163000
DTSTAMP:20260424T172611
CREATED:20230319T220900Z
LAST-MODIFIED:20230319T220900Z
UID:3325-1680532200-1680539400@shekinahrevivalministries.com
SUMMARY:Intercessory Gathering
DESCRIPTION:
URL:https://shekinahrevivalministries.com/event/intercessory-gathering-8/
LOCATION:Shekinah Revival Ministries\, 1941 Washington Ave.\, Holland\, MI\, 49423\, United States
ATTACH;FMTTYPE=image/png:https://shekinahrevivalministries.com/wp-content/uploads/2023/03/Intercessory-Gathering-April-3.png
ORGANIZER;CN="Pastor Will Dilbert":MAILTO:pastorwill@liftingjesushigher.org
END:VEVENT
BEGIN:VEVENT
DTSTART;TZID=America/New_York:20230406T150000
DTEND;TZID=America/New_York:20230406T163000
DTSTAMP:20260424T172611
CREATED:20230319T220308Z
LAST-MODIFIED:20230319T220308Z
UID:3319-1680793200-1680798600@shekinahrevivalministries.com
SUMMARY:Food For Families
DESCRIPTION:
URL:https://shekinahrevivalministries.com/event/food-for-families-7/
LOCATION:Shekinah Revival Ministries\, 1941 Washington Ave.\, Holland\, MI\, 49423\, United States
ATTACH;FMTTYPE=image/png:https://shekinahrevivalministries.com/wp-content/uploads/2023/03/April-8-FFF-2023.png
ORGANIZER;CN="Pastor Will Dilbert":MAILTO:pastorwill@liftingjesushigher.org
END:VEVENT
BEGIN:VEVENT
DTSTART;TZID=America/New_York:20230413T110000
DTEND;TZID=America/New_York:20230413T130000
DTSTAMP:20260424T172611
CREATED:20230327T124527Z
LAST-MODIFIED:20230412T180714Z
UID:3339-1681383600-1681390800@shekinahrevivalministries.com
SUMMARY:Senior Ministry "SHARE"
DESCRIPTION:
URL:https://shekinahrevivalministries.com/event/senior-ministry-share-10/
LOCATION:Shekinah Revival Ministries\, 1941 Washington Ave.\, Holland\, MI\, 49423\, United States
ATTACH;FMTTYPE=image/png:https://shekinahrevivalministries.com/wp-content/uploads/2023/03/APRIL-13SHARE-POSTER-.png
ORGANIZER;CN="Pastor Will Dilbert":MAILTO:pastorwill@liftingjesushigher.org
END:VEVENT
BEGIN:VEVENT
DTSTART;TZID=America/New_York:20230414T190000
DTEND;TZID=America/New_York:20230414T210000
DTSTAMP:20260424T172611
CREATED:20230403T153719Z
LAST-MODIFIED:20230403T153719Z
UID:3358-1681498800-1681506000@shekinahrevivalministries.com
SUMMARY:Healing Service
DESCRIPTION:
URL:https://shekinahrevivalministries.com/event/healing-service-6/
LOCATION:Shekinah Revival Ministries\, 1941 Washington Ave.\, Holland\, MI\, 49423\, United States
ATTACH;FMTTYPE=image/png:https://shekinahrevivalministries.com/wp-content/uploads/2023/04/Friday-Night-Healing-services-APRIL-14.png
ORGANIZER;CN="Pastor Will Dilbert":MAILTO:pastorwill@liftingjesushigher.org
END:VEVENT
BEGIN:VEVENT
DTSTART;VALUE=DATE:20230416
DTEND;VALUE=DATE:20230417
DTSTAMP:20260424T172611
CREATED:20230319T215607Z
LAST-MODIFIED:20230412T181009Z
UID:3314-1681603200-1681689599@shekinahrevivalministries.com
SUMMARY:Home Life Group - April\, 2023
DESCRIPTION:would love to have you join us in our small groups for praise & worship\, food and fellowship
URL:https://shekinahrevivalministries.com/event/home-life-group-april-2023/
LOCATION:Shekinah Revival Ministries\, 1941 Washington Ave.\, Holland\, MI\, 49423\, United States
ATTACH;FMTTYPE=image/png:https://shekinahrevivalministries.com/wp-content/uploads/2023/03/HLG-APR-2023.png
ORGANIZER;CN="Pastor Will Dilbert":MAILTO:pastorwill@liftingjesushigher.org
END:VEVENT
BEGIN:VEVENT
DTSTART;TZID=America/New_York:20230425T183000
DTEND;TZID=America/New_York:20230425T203000
DTSTAMP:20260424T172611
CREATED:20230403T153922Z
LAST-MODIFIED:20230412T180803Z
UID:3361-1682447400-1682454600@shekinahrevivalministries.com
SUMMARY:Women's Event
DESCRIPTION:
URL:https://shekinahrevivalministries.com/event/womens-event-3/
LOCATION:Shekinah Revival Ministries\, 1941 Washington Ave.\, Holland\, MI\, 49423\, United States
ATTACH;FMTTYPE=image/png:https://shekinahrevivalministries.com/wp-content/uploads/2023/04/APRIL-25.png
END:VEVENT
END:VCALENDAR