BEGIN:VCALENDAR
VERSION:2.0
PRODID:-//Shekinah Revival Ministries - ECPv6.15.18//NONSGML v1.0//EN
CALSCALE:GREGORIAN
METHOD:PUBLISH
X-WR-CALNAME:Shekinah Revival Ministries
X-ORIGINAL-URL:https://shekinahrevivalministries.com
X-WR-CALDESC:Events for Shekinah Revival Ministries
REFRESH-INTERVAL;VALUE=DURATION:PT1H
X-Robots-Tag:noindex
X-PUBLISHED-TTL:PT1H
BEGIN:VTIMEZONE
TZID:America/New_York
BEGIN:DAYLIGHT
TZOFFSETFROM:-0500
TZOFFSETTO:-0400
TZNAME:EDT
DTSTART:20220313T070000
END:DAYLIGHT
BEGIN:STANDARD
TZOFFSETFROM:-0400
TZOFFSETTO:-0500
TZNAME:EST
DTSTART:20221106T060000
END:STANDARD
BEGIN:DAYLIGHT
TZOFFSETFROM:-0500
TZOFFSETTO:-0400
TZNAME:EDT
DTSTART:20230312T070000
END:DAYLIGHT
BEGIN:STANDARD
TZOFFSETFROM:-0400
TZOFFSETTO:-0500
TZNAME:EST
DTSTART:20231105T060000
END:STANDARD
BEGIN:DAYLIGHT
TZOFFSETFROM:-0500
TZOFFSETTO:-0400
TZNAME:EDT
DTSTART:20240310T070000
END:DAYLIGHT
BEGIN:STANDARD
TZOFFSETFROM:-0400
TZOFFSETTO:-0500
TZNAME:EST
DTSTART:20241103T060000
END:STANDARD
END:VTIMEZONE
BEGIN:VEVENT
DTSTART;TZID=America/New_York:20231103T030000
DTEND;TZID=America/New_York:20231103T160000
DTSTAMP:20260424T045421
CREATED:20231023T171927Z
LAST-MODIFIED:20231023T171927Z
UID:3692-1698980400-1699027200@shekinahrevivalministries.com
SUMMARY:Food For Families
DESCRIPTION:
URL:https://shekinahrevivalministries.com/event/food-for-families-11-2/
LOCATION:Shekinah Revival Ministries\, 1941 Washington Ave.\, Holland\, MI\, 49423\, United States
ATTACH;FMTTYPE=image/png:https://shekinahrevivalministries.com/wp-content/uploads/2023/10/NOVEMBER-FFF-2023.png
END:VEVENT
BEGIN:VEVENT
DTSTART;TZID=America/New_York:20231103T180000
DTEND;TZID=America/New_York:20231103T220000
DTSTAMP:20260424T045422
CREATED:20231023T171757Z
LAST-MODIFIED:20231023T171757Z
UID:3690-1699034400-1699048800@shekinahrevivalministries.com
SUMMARY:Never Enough - Flannel Fest
DESCRIPTION:
URL:https://shekinahrevivalministries.com/event/never-enough-flannel-fest/
LOCATION:Shekinah Revival Ministries\, 1941 Washington Ave.\, Holland\, MI\, 49423\, United States
ATTACH;FMTTYPE=image/png:https://shekinahrevivalministries.com/wp-content/uploads/2023/10/NE-Flannel-Fest-Flyer-Nov-3.png
END:VEVENT
BEGIN:VEVENT
DTSTART;TZID=America/New_York:20231106T183000
DTEND;TZID=America/New_York:20231106T203000
DTSTAMP:20260424T045422
CREATED:20231023T152340Z
LAST-MODIFIED:20231023T152340Z
UID:3687-1699295400-1699302600@shekinahrevivalministries.com
SUMMARY:Intercessory Gathering
DESCRIPTION:
URL:https://shekinahrevivalministries.com/event/intercessory-gathering-9-2-2/
LOCATION:Shekinah Revival Ministries\, 1941 Washington Ave.\, Holland\, MI\, 49423\, United States
ATTACH;FMTTYPE=image/png:https://shekinahrevivalministries.com/wp-content/uploads/2023/10/Intercessory-Gathering-NOV-6.png
END:VEVENT
BEGIN:VEVENT
DTSTART;TZID=America/New_York:20231110T190000
DTEND;TZID=America/New_York:20231110T210000
DTSTAMP:20260424T045422
CREATED:20231030T130324Z
LAST-MODIFIED:20231030T130324Z
UID:3700-1699642800-1699650000@shekinahrevivalministries.com
SUMMARY:Healing Service
DESCRIPTION:
URL:https://shekinahrevivalministries.com/event/healing-service-9-2-2/
LOCATION:Shekinah Revival Ministries\, 1941 Washington Ave.\, Holland\, MI\, 49423\, United States
ATTACH;FMTTYPE=image/png:https://shekinahrevivalministries.com/wp-content/uploads/2023/10/Friday-Night-Healing-services-NOV-10.png
ORGANIZER;CN="Pastor Will Dilbert":MAILTO:pastorwill@liftingjesushigher.org
END:VEVENT
BEGIN:VEVENT
DTSTART;TZID=America/New_York:20231112T180000
DTEND;TZID=America/New_York:20231112T200000
DTSTAMP:20260424T045422
CREATED:20231030T130104Z
LAST-MODIFIED:20231030T130104Z
UID:3699-1699812000-1699819200@shekinahrevivalministries.com
SUMMARY:Family Prophetic Night
DESCRIPTION:
URL:https://shekinahrevivalministries.com/event/family-prophetic-night-2-2/
LOCATION:Shekinah Revival Ministries\, 1941 Washington Ave.\, Holland\, MI\, 49423\, United States
ATTACH;FMTTYPE=image/png:https://shekinahrevivalministries.com/wp-content/uploads/2023/10/Family-Prophetic-Night-NOV-12.png
END:VEVENT
BEGIN:VEVENT
DTSTART;TZID=America/New_York:20231116T183000
DTEND;TZID=America/New_York:20231116T203000
DTSTAMP:20260424T045422
CREATED:20231105T235245Z
LAST-MODIFIED:20231105T235245Z
UID:3717-1700159400-1700166600@shekinahrevivalministries.com
SUMMARY:Men's Gathering
DESCRIPTION:
URL:https://shekinahrevivalministries.com/event/mens-gathering/
LOCATION:Terrainables\, 3904 58th St\, Holland\, MI\, 49423\, United States
ATTACH;FMTTYPE=image/png:https://shekinahrevivalministries.com/wp-content/uploads/2023/11/Mens-Gathering-NOV-16-2023.png
END:VEVENT
BEGIN:VEVENT
DTSTART;TZID=America/New_York:20231119T000000
DTEND;TZID=America/New_York:20231119T000000
DTSTAMP:20260424T045422
CREATED:20231030T130211Z
LAST-MODIFIED:20231030T130211Z
UID:3701-1700352000-1700352000@shekinahrevivalministries.com
SUMMARY:Home Life Group - November
DESCRIPTION:would love to have you join us in our small groups for food and fellowship
URL:https://shekinahrevivalministries.com/event/home-life-group-september-2-3/
LOCATION:MI
ATTACH;FMTTYPE=image/png:https://shekinahrevivalministries.com/wp-content/uploads/2023/10/HLG-NOVEMBER-2023.png
ORGANIZER;CN="Pastor Will Dilbert":MAILTO:pastorwill@liftingjesushigher.org
END:VEVENT
END:VCALENDAR