BEGIN:VCALENDAR
VERSION:2.0
PRODID:-//Shekinah Revival Ministries - ECPv6.15.18//NONSGML v1.0//EN
CALSCALE:GREGORIAN
METHOD:PUBLISH
X-WR-CALNAME:Shekinah Revival Ministries
X-ORIGINAL-URL:https://shekinahrevivalministries.com
X-WR-CALDESC:Events for Shekinah Revival Ministries
REFRESH-INTERVAL;VALUE=DURATION:PT1H
X-Robots-Tag:noindex
X-PUBLISHED-TTL:PT1H
BEGIN:VTIMEZONE
TZID:America/New_York
BEGIN:DAYLIGHT
TZOFFSETFROM:-0500
TZOFFSETTO:-0400
TZNAME:EDT
DTSTART:20220313T070000
END:DAYLIGHT
BEGIN:STANDARD
TZOFFSETFROM:-0400
TZOFFSETTO:-0500
TZNAME:EST
DTSTART:20221106T060000
END:STANDARD
BEGIN:DAYLIGHT
TZOFFSETFROM:-0500
TZOFFSETTO:-0400
TZNAME:EDT
DTSTART:20230312T070000
END:DAYLIGHT
BEGIN:STANDARD
TZOFFSETFROM:-0400
TZOFFSETTO:-0500
TZNAME:EST
DTSTART:20231105T060000
END:STANDARD
BEGIN:DAYLIGHT
TZOFFSETFROM:-0500
TZOFFSETTO:-0400
TZNAME:EDT
DTSTART:20240310T070000
END:DAYLIGHT
BEGIN:STANDARD
TZOFFSETFROM:-0400
TZOFFSETTO:-0500
TZNAME:EST
DTSTART:20241103T060000
END:STANDARD
END:VTIMEZONE
BEGIN:VEVENT
DTSTART;TZID=America/New_York:20231207T150000
DTEND;TZID=America/New_York:20231207T163000
DTSTAMP:20260424T031431
CREATED:20231119T215114Z
LAST-MODIFIED:20231119T215114Z
UID:3737-1701961200-1701966600@shekinahrevivalministries.com
SUMMARY:Food For Families
DESCRIPTION:
URL:https://shekinahrevivalministries.com/event/food-for-families-11-2-2/
LOCATION:MI
ATTACH;FMTTYPE=image/png:https://shekinahrevivalministries.com/wp-content/uploads/2023/11/DECEMBER-7-fff.png
END:VEVENT
BEGIN:VEVENT
DTSTART;TZID=America/New_York:20231210T180000
DTEND;TZID=America/New_York:20231210T193000
DTSTAMP:20260424T031431
CREATED:20231105T235610Z
LAST-MODIFIED:20231105T235610Z
UID:3724-1702231200-1702236600@shekinahrevivalministries.com
SUMMARY:Children's Christmas Program
DESCRIPTION:
URL:https://shekinahrevivalministries.com/event/childrens-christmas-program-2/
LOCATION:Shekinah Revival Ministries\, 1941 Washington Ave.\, Holland\, MI\, 49423\, United States
ATTACH;FMTTYPE=image/png:https://shekinahrevivalministries.com/wp-content/uploads/2023/11/Childrens-Christmas-Program-DEC-10.png
END:VEVENT
BEGIN:VEVENT
DTSTART;TZID=America/New_York:20231212T183000
DTEND;TZID=America/New_York:20231212T203000
DTSTAMP:20260424T031431
CREATED:20231119T215305Z
LAST-MODIFIED:20231119T215305Z
UID:3740-1702405800-1702413000@shekinahrevivalministries.com
SUMMARY:Ladies Event
DESCRIPTION:
URL:https://shekinahrevivalministries.com/event/ladies-event-2/
LOCATION:Shekinah Revival Ministries\, 1941 Washington Ave.\, Holland\, MI\, 49423\, United States
ATTACH;FMTTYPE=image/png:https://shekinahrevivalministries.com/wp-content/uploads/2023/11/Womens-Cmas-Event-dec-12.png
END:VEVENT
BEGIN:VEVENT
DTSTART;TZID=America/New_York:20231216T100000
DTEND;TZID=America/New_York:20231216T140000
DTSTAMP:20260424T031431
CREATED:20231105T235450Z
LAST-MODIFIED:20231105T235450Z
UID:3721-1702720800-1702735200@shekinahrevivalministries.com
SUMMARY:Date Day Childcare
DESCRIPTION:
URL:https://shekinahrevivalministries.com/event/date-day-childcare/
LOCATION:Shekinah Revival Ministries\, 1941 Washington Ave.\, Holland\, MI\, 49423\, United States
ATTACH;FMTTYPE=image/png:https://shekinahrevivalministries.com/wp-content/uploads/2023/11/Date-Day-Childcare-DEC-16.png
END:VEVENT
BEGIN:VEVENT
DTSTART;TZID=America/New_York:20231217T000000
DTEND;TZID=America/New_York:20231217T000000
DTSTAMP:20260424T031431
CREATED:20231204T182558Z
LAST-MODIFIED:20231204T182558Z
UID:3763-1702771200-1702771200@shekinahrevivalministries.com
SUMMARY:Home Life Group - December
DESCRIPTION:would love to have you join us in our small groups for food and fellowship
URL:https://shekinahrevivalministries.com/event/home-life-group-september-2-3-2/
LOCATION:MI
ATTACH;FMTTYPE=image/png:https://shekinahrevivalministries.com/wp-content/uploads/2023/12/HLG-DECEMBER-2023.png
ORGANIZER;CN="Pastor Will Dilbert":MAILTO:pastorwill@liftingjesushigher.org
END:VEVENT
END:VCALENDAR