BEGIN:VCALENDAR
VERSION:2.0
PRODID:-//Shekinah Revival Ministries - ECPv6.15.18//NONSGML v1.0//EN
CALSCALE:GREGORIAN
METHOD:PUBLISH
X-ORIGINAL-URL:https://shekinahrevivalministries.com
X-WR-CALDESC:Events for Shekinah Revival Ministries
REFRESH-INTERVAL;VALUE=DURATION:PT1H
X-Robots-Tag:noindex
X-PUBLISHED-TTL:PT1H
BEGIN:VTIMEZONE
TZID:America/New_York
BEGIN:DAYLIGHT
TZOFFSETFROM:-0500
TZOFFSETTO:-0400
TZNAME:EDT
DTSTART:20230312T070000
END:DAYLIGHT
BEGIN:STANDARD
TZOFFSETFROM:-0400
TZOFFSETTO:-0500
TZNAME:EST
DTSTART:20231105T060000
END:STANDARD
BEGIN:DAYLIGHT
TZOFFSETFROM:-0500
TZOFFSETTO:-0400
TZNAME:EDT
DTSTART:20240310T070000
END:DAYLIGHT
BEGIN:STANDARD
TZOFFSETFROM:-0400
TZOFFSETTO:-0500
TZNAME:EST
DTSTART:20241103T060000
END:STANDARD
BEGIN:DAYLIGHT
TZOFFSETFROM:-0500
TZOFFSETTO:-0400
TZNAME:EDT
DTSTART:20250309T070000
END:DAYLIGHT
BEGIN:STANDARD
TZOFFSETFROM:-0400
TZOFFSETTO:-0500
TZNAME:EST
DTSTART:20251102T060000
END:STANDARD
END:VTIMEZONE
BEGIN:VEVENT
DTSTART;TZID=America/New_York:20240404T000000
DTEND;TZID=America/New_York:20240404T000000
DTSTAMP:20260423T205035
CREATED:20240318T001539Z
LAST-MODIFIED:20240318T001539Z
UID:3933-1712188800-1712188800@shekinahrevivalministries.com
SUMMARY:Food for Families
DESCRIPTION:
URL:https://shekinahrevivalministries.com/event/food-for-families-12-2-2/
LOCATION:Shekinah Revival Ministries\, 1941 Washington Ave.\, Holland\, MI\, 49423\, United States
ATTACH;FMTTYPE=image/png:https://shekinahrevivalministries.com/wp-content/uploads/2024/03/APRIL-FFF-2024.png
END:VEVENT
BEGIN:VEVENT
DTSTART;TZID=America/New_York:20240414T180000
DTEND;TZID=America/New_York:20240414T200000
DTSTAMP:20260423T205035
CREATED:20240318T001837Z
LAST-MODIFIED:20240318T200908Z
UID:3939-1713117600-1713124800@shekinahrevivalministries.com
SUMMARY:Family Prophetic Night
DESCRIPTION:
URL:https://shekinahrevivalministries.com/event/family-prophetic-night-3/
LOCATION:Shekinah Revival Ministries\, 1941 Washington Ave.\, Holland\, MI\, 49423\, United States
ATTACH;FMTTYPE=image/png:https://shekinahrevivalministries.com/wp-content/uploads/2024/03/Family-Prophetic-Night-APRIL-14.png
END:VEVENT
BEGIN:VEVENT
DTSTART;TZID=America/New_York:20240421T000000
DTEND;TZID=America/New_York:20240421T000000
DTSTAMP:20260423T205035
CREATED:20240401T155322Z
LAST-MODIFIED:20240401T155322Z
UID:3964-1713657600-1713657600@shekinahrevivalministries.com
SUMMARY:Home Life Group - April
DESCRIPTION:would love to have you join us in our small groups for food and fellowship
URL:https://shekinahrevivalministries.com/event/home-life-group-september-2-3-2-2-2-2/
LOCATION:Shekinah Revival Ministries\, 1941 Washington Ave.\, Holland\, MI\, 49423\, United States
ATTACH;FMTTYPE=image/png:https://shekinahrevivalministries.com/wp-content/uploads/2024/04/HLG-APRIL-2024.png
ORGANIZER;CN="Pastor Will Dilbert":MAILTO:pastorwill@liftingjesushigher.org
END:VEVENT
BEGIN:VEVENT
DTSTART;TZID=America/New_York:20240423T000000
DTEND;TZID=America/New_York:20240423T000000
DTSTAMP:20260423T205035
CREATED:20240325T133404Z
LAST-MODIFIED:20240325T133500Z
UID:3947-1713830400-1713830400@shekinahrevivalministries.com
SUMMARY:Ladies Event
DESCRIPTION:
URL:https://shekinahrevivalministries.com/event/ladies-event-2-2-2/
LOCATION:Shekinah Revival Ministries\, 1941 Washington Ave.\, Holland\, MI\, 49423\, United States
ATTACH;FMTTYPE=image/png:https://shekinahrevivalministries.com/wp-content/uploads/2024/03/Ladies-Event-April-23.png
END:VEVENT
BEGIN:VEVENT
DTSTART;TZID=America/New_York:20240428T000000
DTEND;TZID=America/New_York:20240428T000000
DTSTAMP:20260423T205036
CREATED:20240401T154921Z
LAST-MODIFIED:20240401T154932Z
UID:3958-1714262400-1714262400@shekinahrevivalministries.com
SUMMARY:Water Baptism
DESCRIPTION:
URL:https://shekinahrevivalministries.com/event/water-baptism-2-2/
LOCATION:Shekinah Revival Ministries\, 1941 Washington Ave.\, Holland\, MI\, 49423\, United States
ATTACH;FMTTYPE=image/png:https://shekinahrevivalministries.com/wp-content/uploads/2024/04/Water-Baptism-April-28.png
END:VEVENT
END:VCALENDAR