BEGIN:VCALENDAR
VERSION:2.0
PRODID:-//Shekinah Revival Ministries - ECPv6.15.18//NONSGML v1.0//EN
CALSCALE:GREGORIAN
METHOD:PUBLISH
X-ORIGINAL-URL:https://shekinahrevivalministries.com
X-WR-CALDESC:Events for Shekinah Revival Ministries
REFRESH-INTERVAL;VALUE=DURATION:PT1H
X-Robots-Tag:noindex
X-PUBLISHED-TTL:PT1H
BEGIN:VTIMEZONE
TZID:America/New_York
BEGIN:DAYLIGHT
TZOFFSETFROM:-0500
TZOFFSETTO:-0400
TZNAME:EDT
DTSTART:20230312T070000
END:DAYLIGHT
BEGIN:STANDARD
TZOFFSETFROM:-0400
TZOFFSETTO:-0500
TZNAME:EST
DTSTART:20231105T060000
END:STANDARD
BEGIN:DAYLIGHT
TZOFFSETFROM:-0500
TZOFFSETTO:-0400
TZNAME:EDT
DTSTART:20240310T070000
END:DAYLIGHT
BEGIN:STANDARD
TZOFFSETFROM:-0400
TZOFFSETTO:-0500
TZNAME:EST
DTSTART:20241103T060000
END:STANDARD
BEGIN:DAYLIGHT
TZOFFSETFROM:-0500
TZOFFSETTO:-0400
TZNAME:EDT
DTSTART:20250309T070000
END:DAYLIGHT
BEGIN:STANDARD
TZOFFSETFROM:-0400
TZOFFSETTO:-0500
TZNAME:EST
DTSTART:20251102T060000
END:STANDARD
END:VTIMEZONE
BEGIN:VEVENT
DTSTART;TZID=America/New_York:20240502T150000
DTEND;TZID=America/New_York:20240502T163000
DTSTAMP:20260423T191223
CREATED:20240415T122840Z
LAST-MODIFIED:20240429T134941Z
UID:3982-1714662000-1714667400@shekinahrevivalministries.com
SUMMARY:Food for Families
DESCRIPTION:
URL:https://shekinahrevivalministries.com/event/food-for-families-12-2-2-2/
LOCATION:Shekinah Revival Ministries\, 1941 Washington Ave.\, Holland\, MI\, 49423\, United States
ATTACH;FMTTYPE=image/png:https://shekinahrevivalministries.com/wp-content/uploads/2024/04/MAY-FFF-2024.png
END:VEVENT
BEGIN:VEVENT
DTSTART;TZID=America/New_York:20240504T090000
DTEND;TZID=America/New_York:20240504T113000
DTSTAMP:20260423T191223
CREATED:20240401T155111Z
LAST-MODIFIED:20240401T155138Z
UID:3961-1714813200-1714822200@shekinahrevivalministries.com
SUMMARY:Intercessory Breakfast
DESCRIPTION:
URL:https://shekinahrevivalministries.com/event/intercessory-breakfast-2/
LOCATION:Shekinah Revival Ministries\, 1941 Washington Ave.\, Holland\, MI\, 49423\, United States
ATTACH;FMTTYPE=image/png:https://shekinahrevivalministries.com/wp-content/uploads/2024/04/Intercessory-Breakfast-May-4.png
ORGANIZER;CN="Pastor Will Dilbert":MAILTO:pastorwill@liftingjesushigher.org
END:VEVENT
BEGIN:VEVENT
DTSTART;TZID=America/New_York:20240519T000000
DTEND;TZID=America/New_York:20240519T000000
DTSTAMP:20260423T191223
CREATED:20240429T134636Z
LAST-MODIFIED:20240429T134636Z
UID:3997-1716076800-1716076800@shekinahrevivalministries.com
SUMMARY:Home Life Group - May
DESCRIPTION:would love to have you join us in our small groups for food and fellowship
URL:https://shekinahrevivalministries.com/event/home-life-group-september-2-3-2-2-2-2-2/
LOCATION:MI
ATTACH;FMTTYPE=image/png:https://shekinahrevivalministries.com/wp-content/uploads/2024/04/HLG-MAY-2024.png
ORGANIZER;CN="Pastor Will Dilbert":MAILTO:pastorwill@liftingjesushigher.org
END:VEVENT
BEGIN:VEVENT
DTSTART;TZID=America/New_York:20240519T000000
DTEND;TZID=America/New_York:20240519T000000
DTSTAMP:20260423T191223
CREATED:20240506T134852Z
LAST-MODIFIED:20240506T134852Z
UID:4011-1716076800-1716076800@shekinahrevivalministries.com
SUMMARY:Meet & Greet the Pastors
DESCRIPTION:
URL:https://shekinahrevivalministries.com/event/meet-greet-the-pastors-2/
LOCATION:Shekinah Revival Ministries\, 1941 Washington Ave.\, Holland\, MI\, 49423\, United States
ATTACH;FMTTYPE=image/png:https://shekinahrevivalministries.com/wp-content/uploads/2024/05/MEET-GREET-MAY-19.png
END:VEVENT
END:VCALENDAR