BEGIN:VCALENDAR
VERSION:2.0
PRODID:-//Shekinah Revival Ministries - ECPv6.15.18//NONSGML v1.0//EN
CALSCALE:GREGORIAN
METHOD:PUBLISH
X-WR-CALNAME:Shekinah Revival Ministries
X-ORIGINAL-URL:https://shekinahrevivalministries.com
X-WR-CALDESC:Events for Shekinah Revival Ministries
REFRESH-INTERVAL;VALUE=DURATION:PT1H
X-Robots-Tag:noindex
X-PUBLISHED-TTL:PT1H
BEGIN:VTIMEZONE
TZID:America/New_York
BEGIN:DAYLIGHT
TZOFFSETFROM:-0500
TZOFFSETTO:-0400
TZNAME:EDT
DTSTART:20230312T070000
END:DAYLIGHT
BEGIN:STANDARD
TZOFFSETFROM:-0400
TZOFFSETTO:-0500
TZNAME:EST
DTSTART:20231105T060000
END:STANDARD
BEGIN:DAYLIGHT
TZOFFSETFROM:-0500
TZOFFSETTO:-0400
TZNAME:EDT
DTSTART:20240310T070000
END:DAYLIGHT
BEGIN:STANDARD
TZOFFSETFROM:-0400
TZOFFSETTO:-0500
TZNAME:EST
DTSTART:20241103T060000
END:STANDARD
BEGIN:DAYLIGHT
TZOFFSETFROM:-0500
TZOFFSETTO:-0400
TZNAME:EDT
DTSTART:20250309T070000
END:DAYLIGHT
BEGIN:STANDARD
TZOFFSETFROM:-0400
TZOFFSETTO:-0500
TZNAME:EST
DTSTART:20251102T060000
END:STANDARD
END:VTIMEZONE
BEGIN:VEVENT
DTSTART;TZID=America/New_York:20240601T090000
DTEND;TZID=America/New_York:20240601T120000
DTSTAMP:20260423T174309
CREATED:20240506T135148Z
LAST-MODIFIED:20240506T135148Z
UID:4014-1717232400-1717243200@shekinahrevivalministries.com
SUMMARY:Walk-A-Thon
DESCRIPTION:Raise pledges toward your camp fees \n 
URL:https://shekinahrevivalministries.com/event/walk-a-thon-2-2/
LOCATION:Van Raalte Farms Park\, 1076 E. 16th St\, Holland\, MI\, 49423\, United States
ATTACH;FMTTYPE=image/png:https://shekinahrevivalministries.com/wp-content/uploads/2024/05/Walkathon-June-1.png
END:VEVENT
BEGIN:VEVENT
DTSTART;TZID=America/New_York:20240606T100000
DTEND;TZID=America/New_York:20240606T120000
DTSTAMP:20260423T174309
CREATED:20240520T151814Z
LAST-MODIFIED:20240520T151814Z
UID:4034-1717668000-1717675200@shekinahrevivalministries.com
SUMMARY:Senior Ministry “SHARE”
DESCRIPTION:
URL:https://shekinahrevivalministries.com/event/senior-ministry-share-11-2-3/
LOCATION:Shekinah Revival Ministries\, 1941 Washington Ave.\, Holland\, MI\, 49423\, United States
ATTACH;FMTTYPE=image/png:https://shekinahrevivalministries.com/wp-content/uploads/2024/05/SHARE-JUNE-6.png
ORGANIZER;CN="Pastor Will Dilbert":MAILTO:pastorwill@liftingjesushigher.org
END:VEVENT
BEGIN:VEVENT
DTSTART;TZID=America/New_York:20240606T150000
DTEND;TZID=America/New_York:20240606T163000
DTSTAMP:20260423T174309
CREATED:20240520T151935Z
LAST-MODIFIED:20240520T151935Z
UID:4037-1717686000-1717691400@shekinahrevivalministries.com
SUMMARY:Food for Families
DESCRIPTION:
URL:https://shekinahrevivalministries.com/event/food-for-families-12-2-2-2-2/
LOCATION:Shekinah Revival Ministries\, 1941 Washington Ave.\, Holland\, MI\, 49423\, United States
ATTACH;FMTTYPE=image/png:https://shekinahrevivalministries.com/wp-content/uploads/2024/05/JUNE-FFF-2024.png
END:VEVENT
BEGIN:VEVENT
DTSTART;TZID=America/New_York:20240607T190000
DTEND;TZID=America/New_York:20240607T210000
DTSTAMP:20260423T174309
CREATED:20240520T151625Z
LAST-MODIFIED:20240520T151625Z
UID:4031-1717786800-1717794000@shekinahrevivalministries.com
SUMMARY:Healing Service
DESCRIPTION:
URL:https://shekinahrevivalministries.com/event/healing-service-9-2-2-2-2-2-2/
LOCATION:Shekinah Revival Ministries\, 1941 Washington Ave.\, Holland\, MI\, 49423\, United States
ATTACH;FMTTYPE=image/png:https://shekinahrevivalministries.com/wp-content/uploads/2024/05/Friday-Night-Healing-services-June-7.png
ORGANIZER;CN="Pastor Will Dilbert":MAILTO:pastorwill@liftingjesushigher.org
END:VEVENT
BEGIN:VEVENT
DTSTART;TZID=America/New_York:20240613T180000
DTEND;TZID=America/New_York:20240613T200000
DTSTAMP:20260423T174309
CREATED:20240520T151453Z
LAST-MODIFIED:20240520T151453Z
UID:4028-1718301600-1718308800@shekinahrevivalministries.com
SUMMARY:Men's Gathering
DESCRIPTION:
URL:https://shekinahrevivalministries.com/event/mens-gathering-2/
LOCATION:Terrainables\, 3904 58th St\, Holland\, MI\, 49423\, United States
ATTACH;FMTTYPE=image/png:https://shekinahrevivalministries.com/wp-content/uploads/2024/05/Mens-Burger-Bash-June-13.png
END:VEVENT
BEGIN:VEVENT
DTSTART;TZID=America/New_York:20240620T170000
DTEND;TZID=America/New_York:20240620T200000
DTSTAMP:20260423T174309
CREATED:20240603T133714Z
LAST-MODIFIED:20240603T133714Z
UID:4065-1718902800-1718913600@shekinahrevivalministries.com
SUMMARY:Village Inn - Youth Fundraiser
DESCRIPTION:
URL:https://shekinahrevivalministries.com/event/village-inn-youth-fundraiser/
LOCATION:Village Inn\, 934 Washington Ave\, Holland\, MI\, 49423\, United States
ATTACH;FMTTYPE=image/png:https://shekinahrevivalministries.com/wp-content/uploads/2024/06/NE-Village-lnn-Fundraising-June-20-July-25.png
END:VEVENT
BEGIN:VEVENT
DTSTART;TZID=America/New_York:20240623T180000
DTEND;TZID=America/New_York:20240623T200000
DTSTAMP:20260423T174309
CREATED:20240603T133339Z
LAST-MODIFIED:20240603T133339Z
UID:4062-1719165600-1719172800@shekinahrevivalministries.com
SUMMARY:Graduation Service
DESCRIPTION:
URL:https://shekinahrevivalministries.com/event/graduation-service/
LOCATION:Shekinah Revival Ministries\, 1941 Washington Ave.\, Holland\, MI\, 49423\, United States
ATTACH;FMTTYPE=image/png:https://shekinahrevivalministries.com/wp-content/uploads/2024/06/GRADUATES-JUNE-23.png
ORGANIZER;CN="Pastor Will Dilbert":MAILTO:pastorwill@liftingjesushigher.org
END:VEVENT
BEGIN:VEVENT
DTSTART;TZID=America/New_York:20240624T183000
DTEND;TZID=America/New_York:20240624T203000
DTSTAMP:20260423T174309
CREATED:20240610T135221Z
LAST-MODIFIED:20240617T124112Z
UID:4082-1719253800-1719261000@shekinahrevivalministries.com
SUMMARY:Intercessory Gathering
DESCRIPTION:
URL:https://shekinahrevivalministries.com/event/intercessory-gathering-9-2-2-2-2/
LOCATION:Shekinah Revival Ministries\, 1941 Washington Ave.\, Holland\, MI\, 49423\, United States
ATTACH;FMTTYPE=image/png:https://shekinahrevivalministries.com/wp-content/uploads/2024/06/Intercessory-Gathering-June-24-.png
ORGANIZER;CN="Pastor Will Dilbert":MAILTO:pastorwill@liftingjesushigher.org
END:VEVENT
END:VCALENDAR