BEGIN:VCALENDAR
VERSION:2.0
PRODID:-//Shekinah Revival Ministries - ECPv6.15.18//NONSGML v1.0//EN
CALSCALE:GREGORIAN
METHOD:PUBLISH
X-ORIGINAL-URL:https://shekinahrevivalministries.com
X-WR-CALDESC:Events for Shekinah Revival Ministries
REFRESH-INTERVAL;VALUE=DURATION:PT1H
X-Robots-Tag:noindex
X-PUBLISHED-TTL:PT1H
BEGIN:VTIMEZONE
TZID:America/New_York
BEGIN:DAYLIGHT
TZOFFSETFROM:-0500
TZOFFSETTO:-0400
TZNAME:EDT
DTSTART:20230312T070000
END:DAYLIGHT
BEGIN:STANDARD
TZOFFSETFROM:-0400
TZOFFSETTO:-0500
TZNAME:EST
DTSTART:20231105T060000
END:STANDARD
BEGIN:DAYLIGHT
TZOFFSETFROM:-0500
TZOFFSETTO:-0400
TZNAME:EDT
DTSTART:20240310T070000
END:DAYLIGHT
BEGIN:STANDARD
TZOFFSETFROM:-0400
TZOFFSETTO:-0500
TZNAME:EST
DTSTART:20241103T060000
END:STANDARD
BEGIN:DAYLIGHT
TZOFFSETFROM:-0500
TZOFFSETTO:-0400
TZNAME:EDT
DTSTART:20250309T070000
END:DAYLIGHT
BEGIN:STANDARD
TZOFFSETFROM:-0400
TZOFFSETTO:-0500
TZNAME:EST
DTSTART:20251102T060000
END:STANDARD
END:VTIMEZONE
BEGIN:VEVENT
DTSTART;TZID=America/New_York:20240707T180000
DTEND;TZID=America/New_York:20240707T200000
DTSTAMP:20260423T161311
CREATED:20240630T191428Z
LAST-MODIFIED:20240630T191428Z
UID:4115-1720375200-1720382400@shekinahrevivalministries.com
SUMMARY:4th of July Celebration
DESCRIPTION:
URL:https://shekinahrevivalministries.com/event/4th-of-july-celebration/
LOCATION:Shekinah Revival Ministries\, 1941 Washington Ave.\, Holland\, MI\, 49423\, United States
ATTACH;FMTTYPE=image/png:https://shekinahrevivalministries.com/wp-content/uploads/2024/06/4th-of-July-Celebration-july-7.png
END:VEVENT
BEGIN:VEVENT
DTSTART;TZID=America/New_York:20240711T150000
DTEND;TZID=America/New_York:20240711T160000
DTSTAMP:20260423T161311
CREATED:20240624T143525Z
LAST-MODIFIED:20240624T143525Z
UID:4099-1720710000-1720713600@shekinahrevivalministries.com
SUMMARY:Food for Families
DESCRIPTION:
URL:https://shekinahrevivalministries.com/event/food-for-families-12-2-2-2-2-2/
LOCATION:Shekinah Revival Ministries\, 1941 Washington Ave.\, Holland\, MI\, 49423\, United States
ATTACH;FMTTYPE=image/png:https://shekinahrevivalministries.com/wp-content/uploads/2024/06/JULY-FFF-2024.png
END:VEVENT
BEGIN:VEVENT
DTSTART;TZID=America/New_York:20240718T110000
DTEND;TZID=America/New_York:20240718T130000
DTSTAMP:20260423T161311
CREATED:20240630T185934Z
LAST-MODIFIED:20240630T185934Z
UID:4106-1721300400-1721307600@shekinahrevivalministries.com
SUMMARY:Senior Ministry “SHARE”
DESCRIPTION:
URL:https://shekinahrevivalministries.com/event/senior-ministry-share-11-2-3-2/
LOCATION:Shekinah Revival Ministries\, 1941 Washington Ave.\, Holland\, MI\, 49423\, United States
ATTACH;FMTTYPE=image/png:https://shekinahrevivalministries.com/wp-content/uploads/2024/06/SHARE-JULY-18.png
ORGANIZER;CN="Pastor Will Dilbert":MAILTO:pastorwill@liftingjesushigher.org
END:VEVENT
BEGIN:VEVENT
DTSTART;TZID=America/New_York:20240719T190000
DTEND;TZID=America/New_York:20240719T210000
DTSTAMP:20260423T161311
CREATED:20240630T185728Z
LAST-MODIFIED:20240630T185728Z
UID:4103-1721415600-1721422800@shekinahrevivalministries.com
SUMMARY:Healing Service
DESCRIPTION:
URL:https://shekinahrevivalministries.com/event/healing-service-9-2-2-2-2-2-2-2/
LOCATION:Shekinah Revival Ministries\, 1941 Washington Ave.\, Holland\, MI\, 49423\, United States
ATTACH;FMTTYPE=image/png:https://shekinahrevivalministries.com/wp-content/uploads/2024/06/Friday-Night-Healing-Service-JULY-19.png
ORGANIZER;CN="Pastor Will Dilbert":MAILTO:pastorwill@liftingjesushigher.org
END:VEVENT
BEGIN:VEVENT
DTSTART;TZID=America/New_York:20240721T000000
DTEND;TZID=America/New_York:20240721T000000
DTSTAMP:20260423T161311
CREATED:20240630T190624Z
LAST-MODIFIED:20240630T190624Z
UID:4109-1721520000-1721520000@shekinahrevivalministries.com
SUMMARY:Home Life Group - July
DESCRIPTION:would love to have you join us in our small groups for food and fellowship
URL:https://shekinahrevivalministries.com/event/home-life-group-september-2-3-2-2-2-2-2-2/
LOCATION:MI
ATTACH;FMTTYPE=image/png:https://shekinahrevivalministries.com/wp-content/uploads/2024/06/HLG-JULY-2024.png
ORGANIZER;CN="Pastor Will Dilbert":MAILTO:pastorwill@liftingjesushigher.org
END:VEVENT
BEGIN:VEVENT
DTSTART;TZID=America/New_York:20240725T170000
DTEND;TZID=America/New_York:20240725T200000
DTSTAMP:20260423T161311
CREATED:20240603T133855Z
LAST-MODIFIED:20240707T201857Z
UID:4070-1721926800-1721937600@shekinahrevivalministries.com
SUMMARY:Village Inn - Youth Fundraiser
DESCRIPTION:
URL:https://shekinahrevivalministries.com/event/village-inn-youth-fundraiser-2/
LOCATION:Village Inn\, 934 Washington Ave\, Holland\, MI\, 49423\, United States
ATTACH;FMTTYPE=image/png:https://shekinahrevivalministries.com/wp-content/uploads/2024/06/NE-Village-lnn-Fundraiser-July-25.png
END:VEVENT
BEGIN:VEVENT
DTSTART;TZID=America/New_York:20240727T000000
DTEND;TZID=America/New_York:20240727T000000
DTSTAMP:20260423T161311
CREATED:20240630T191110Z
LAST-MODIFIED:20240630T191110Z
UID:4112-1722038400-1722038400@shekinahrevivalministries.com
SUMMARY:Bake Sale - Youth Fundraiser
DESCRIPTION:
URL:https://shekinahrevivalministries.com/event/bake-sale-youth-fundraiser/
LOCATION:Shekinah Revival Ministries\, 1941 Washington Ave.\, Holland\, MI\, 49423\, United States
ATTACH;FMTTYPE=image/png:https://shekinahrevivalministries.com/wp-content/uploads/2024/06/NE-Bake-Sale-july-21.png
END:VEVENT
BEGIN:VEVENT
DTSTART;TZID=America/New_York:20240729T183000
DTEND;TZID=America/New_York:20240729T203000
DTSTAMP:20260423T161311
CREATED:20240707T195923Z
LAST-MODIFIED:20240707T200034Z
UID:4132-1722277800-1722285000@shekinahrevivalministries.com
SUMMARY:Intercessory Gathering
DESCRIPTION:
URL:https://shekinahrevivalministries.com/event/intercessory-gathering-9-2-2-2-2-2/
LOCATION:Shekinah Revival Ministries\, 1941 Washington Ave.\, Holland\, MI\, 49423\, United States
ATTACH;FMTTYPE=image/png:https://shekinahrevivalministries.com/wp-content/uploads/2024/07/Intercessory-Gathering-July-29.png
ORGANIZER;CN="Pastor Will Dilbert":MAILTO:pastorwill@liftingjesushigher.org
END:VEVENT
BEGIN:VEVENT
DTSTART;TZID=America/New_York:20240730T180000
DTEND;TZID=America/New_York:20240730T203000
DTSTAMP:20260423T161311
CREATED:20240707T202427Z
LAST-MODIFIED:20240707T202427Z
UID:4137-1722362400-1722371400@shekinahrevivalministries.com
SUMMARY:Women's Event - Ladies Burger Bash
DESCRIPTION:
URL:https://shekinahrevivalministries.com/event/womens-event-4-2/
LOCATION:Shekinah Revival Ministries\, 1941 Washington Ave.\, Holland\, MI\, 49423\, United States
ATTACH;FMTTYPE=image/png:https://shekinahrevivalministries.com/wp-content/uploads/2024/07/Ladies-Burger-Bash-July-30.png
END:VEVENT
END:VCALENDAR