BEGIN:VCALENDAR
VERSION:2.0
PRODID:-//Shekinah Revival Ministries - ECPv6.15.18//NONSGML v1.0//EN
CALSCALE:GREGORIAN
METHOD:PUBLISH
X-WR-CALNAME:Shekinah Revival Ministries
X-ORIGINAL-URL:https://shekinahrevivalministries.com
X-WR-CALDESC:Events for Shekinah Revival Ministries
REFRESH-INTERVAL;VALUE=DURATION:PT1H
X-Robots-Tag:noindex
X-PUBLISHED-TTL:PT1H
BEGIN:VTIMEZONE
TZID:America/New_York
BEGIN:DAYLIGHT
TZOFFSETFROM:-0500
TZOFFSETTO:-0400
TZNAME:EDT
DTSTART:20230312T070000
END:DAYLIGHT
BEGIN:STANDARD
TZOFFSETFROM:-0400
TZOFFSETTO:-0500
TZNAME:EST
DTSTART:20231105T060000
END:STANDARD
BEGIN:DAYLIGHT
TZOFFSETFROM:-0500
TZOFFSETTO:-0400
TZNAME:EDT
DTSTART:20240310T070000
END:DAYLIGHT
BEGIN:STANDARD
TZOFFSETFROM:-0400
TZOFFSETTO:-0500
TZNAME:EST
DTSTART:20241103T060000
END:STANDARD
BEGIN:DAYLIGHT
TZOFFSETFROM:-0500
TZOFFSETTO:-0400
TZNAME:EDT
DTSTART:20250309T070000
END:DAYLIGHT
BEGIN:STANDARD
TZOFFSETFROM:-0400
TZOFFSETTO:-0500
TZNAME:EST
DTSTART:20251102T060000
END:STANDARD
END:VTIMEZONE
BEGIN:VEVENT
DTSTART;TZID=America/New_York:20240801T150000
DTEND;TZID=America/New_York:20240801T163000
DTSTAMP:20260423T143233
CREATED:20240729T131137Z
LAST-MODIFIED:20240729T131137Z
UID:4156-1722524400-1722529800@shekinahrevivalministries.com
SUMMARY:Food for Families
DESCRIPTION:
URL:https://shekinahrevivalministries.com/event/food-for-families-12-2-2-2-2-2-2/
LOCATION:Shekinah Revival Ministries\, 1941 Washington Ave.\, Holland\, MI\, 49423\, United States
ATTACH;FMTTYPE=image/png:https://shekinahrevivalministries.com/wp-content/uploads/2024/07/August-FFF-2024.png
END:VEVENT
BEGIN:VEVENT
DTSTART;TZID=America/New_York:20240808T110000
DTEND;TZID=America/New_York:20240808T130000
DTSTAMP:20260423T143233
CREATED:20240729T131319Z
LAST-MODIFIED:20240729T131319Z
UID:4159-1723114800-1723122000@shekinahrevivalministries.com
SUMMARY:Senior Ministry “SHARE”
DESCRIPTION:
URL:https://shekinahrevivalministries.com/event/senior-ministry-share-11-2-3-2-2/
LOCATION:Shekinah Revival Ministries\, 1941 Washington Ave.\, Holland\, MI\, 49423\, United States
ATTACH;FMTTYPE=image/png:https://shekinahrevivalministries.com/wp-content/uploads/2024/07/SHARE-AUG-8.png
ORGANIZER;CN="Pastor Will Dilbert":MAILTO:pastorwill@liftingjesushigher.org
END:VEVENT
BEGIN:VEVENT
DTSTART;TZID=America/New_York:20240811T180000
DTEND;TZID=America/New_York:20240811T200000
DTSTAMP:20260423T143233
CREATED:20240617T130159Z
LAST-MODIFIED:20240617T130159Z
UID:4091-1723399200-1723406400@shekinahrevivalministries.com
SUMMARY:Family Prophetic Night
DESCRIPTION:
URL:https://shekinahrevivalministries.com/event/family-prophetic-night-3-2/
LOCATION:Shekinah Revival Ministries\, 1941 Washington Ave.\, Holland\, MI\, 49423\, United States
ATTACH;FMTTYPE=image/png:https://shekinahrevivalministries.com/wp-content/uploads/2024/06/Family-Prophetic-Night-AUG-11.png
END:VEVENT
BEGIN:VEVENT
DTSTART;TZID=America/New_York:20240818T000000
DTEND;TZID=America/New_York:20240818T000000
DTSTAMP:20260423T143233
CREATED:20240729T131443Z
LAST-MODIFIED:20240729T131443Z
UID:4162-1723939200-1723939200@shekinahrevivalministries.com
SUMMARY:Prophets Kathy & Charity Campbell
DESCRIPTION:
URL:https://shekinahrevivalministries.com/event/prophets-kathy-charity-campbell-2-2/
LOCATION:Shekinah Revival Ministries\, 1941 Washington Ave.\, Holland\, MI\, 49423\, United States
ATTACH;FMTTYPE=image/png:https://shekinahrevivalministries.com/wp-content/uploads/2024/07/Kathy-Charity-Campbell-Aug-18.png
END:VEVENT
BEGIN:VEVENT
DTSTART;TZID=America/New_York:20240821T000000
DTEND;TZID=America/New_York:20240825T000000
DTSTAMP:20260423T143233
CREATED:20240429T134804Z
LAST-MODIFIED:20240429T134804Z
UID:4000-1724198400-1724544000@shekinahrevivalministries.com
SUMMARY:Church Camp 2024
DESCRIPTION:
URL:https://shekinahrevivalministries.com/event/church-camp-2023-2/
LOCATION:Gull Lake Ministries\, 1800 Burlington Dr\, Hickory Corners\, MI\, 49060\, United States
ATTACH;FMTTYPE=image/png:https://shekinahrevivalministries.com/wp-content/uploads/2024/04/Camp-Poster-2024-.png
END:VEVENT
BEGIN:VEVENT
DTSTART;TZID=America/New_York:20240830T190000
DTEND;TZID=America/New_York:20240830T213000
DTSTAMP:20260423T143233
CREATED:20240819T143557Z
LAST-MODIFIED:20240819T143557Z
UID:4195-1725044400-1725053400@shekinahrevivalministries.com
SUMMARY:Apostle Tim Sheets
DESCRIPTION:Livestream with Apostle Tim Sheets \n 
URL:https://shekinahrevivalministries.com/event/apostle-tim-sheets-2/
LOCATION:Shekinah Revival Ministries\, 1941 Washington Ave.\, Holland\, MI\, 49423\, United States
ATTACH;FMTTYPE=image/png:https://shekinahrevivalministries.com/wp-content/uploads/2024/08/LIVESTREAM-HEALING-SUMMIT-AUG-30.png
END:VEVENT
END:VCALENDAR