BEGIN:VCALENDAR
VERSION:2.0
PRODID:-//Shekinah Revival Ministries - ECPv6.15.18//NONSGML v1.0//EN
CALSCALE:GREGORIAN
METHOD:PUBLISH
X-WR-CALNAME:Shekinah Revival Ministries
X-ORIGINAL-URL:https://shekinahrevivalministries.com
X-WR-CALDESC:Events for Shekinah Revival Ministries
REFRESH-INTERVAL;VALUE=DURATION:PT1H
X-Robots-Tag:noindex
X-PUBLISHED-TTL:PT1H
BEGIN:VTIMEZONE
TZID:America/New_York
BEGIN:DAYLIGHT
TZOFFSETFROM:-0500
TZOFFSETTO:-0400
TZNAME:EDT
DTSTART:20230312T070000
END:DAYLIGHT
BEGIN:STANDARD
TZOFFSETFROM:-0400
TZOFFSETTO:-0500
TZNAME:EST
DTSTART:20231105T060000
END:STANDARD
BEGIN:DAYLIGHT
TZOFFSETFROM:-0500
TZOFFSETTO:-0400
TZNAME:EDT
DTSTART:20240310T070000
END:DAYLIGHT
BEGIN:STANDARD
TZOFFSETFROM:-0400
TZOFFSETTO:-0500
TZNAME:EST
DTSTART:20241103T060000
END:STANDARD
BEGIN:DAYLIGHT
TZOFFSETFROM:-0500
TZOFFSETTO:-0400
TZNAME:EDT
DTSTART:20250309T070000
END:DAYLIGHT
BEGIN:STANDARD
TZOFFSETFROM:-0400
TZOFFSETTO:-0500
TZNAME:EST
DTSTART:20251102T060000
END:STANDARD
END:VTIMEZONE
BEGIN:VEVENT
DTSTART;VALUE=DATE:20240930
DTEND;VALUE=DATE:20241003
DTSTAMP:20260423T111144
CREATED:20240915T193057Z
LAST-MODIFIED:20240915T193057Z
UID:4241-1727654400-1727913599@shekinahrevivalministries.com
SUMMARY:Corporate Fast
DESCRIPTION:
URL:https://shekinahrevivalministries.com/event/corporate-fast/
LOCATION:MI
ATTACH;FMTTYPE=image/png:https://shekinahrevivalministries.com/wp-content/uploads/2024/09/CORPORATE-FAST-PG-1-SEPT-30-OCT-2.png
ORGANIZER;CN="Pastor Will Dilbert":MAILTO:pastorwill@liftingjesushigher.org
END:VEVENT
BEGIN:VEVENT
DTSTART;TZID=America/New_York:20241003T110000
DTEND;TZID=America/New_York:20241003T130000
DTSTAMP:20260423T111144
CREATED:20240915T192626Z
LAST-MODIFIED:20240915T192626Z
UID:4232-1727953200-1727960400@shekinahrevivalministries.com
SUMMARY:Senior Ministry “SHARE”
DESCRIPTION:
URL:https://shekinahrevivalministries.com/event/senior-ministry-share-11-2-3-2-2-2-2/
LOCATION:Shekinah Revival Ministries\, 1941 Washington Ave.\, Holland\, MI\, 49423\, United States
ATTACH;FMTTYPE=image/png:https://shekinahrevivalministries.com/wp-content/uploads/2024/09/SHARE-EVENT-OCT-3.png
ORGANIZER;CN="Pastor Will Dilbert":MAILTO:pastorwill@liftingjesushigher.org
END:VEVENT
BEGIN:VEVENT
DTSTART;TZID=America/New_York:20241003T150000
DTEND;TZID=America/New_York:20241003T163000
DTSTAMP:20260423T111144
CREATED:20240930T131337Z
LAST-MODIFIED:20240930T131357Z
UID:4253-1727967600-1727973000@shekinahrevivalministries.com
SUMMARY:Food for Families
DESCRIPTION:
URL:https://shekinahrevivalministries.com/event/food-for-families-12-2-2-2-2-2-2-2-2/
LOCATION:Shekinah Revival Ministries\, 1941 Washington Ave.\, Holland\, MI\, 49423\, United States
ATTACH;FMTTYPE=image/png:https://shekinahrevivalministries.com/wp-content/uploads/2024/09/October-FFF-2024.png
END:VEVENT
BEGIN:VEVENT
DTSTART;TZID=America/New_York:20241006T000000
DTEND;TZID=America/New_York:20241006T000000
DTSTAMP:20260423T111144
CREATED:20240930T131210Z
LAST-MODIFIED:20240930T131210Z
UID:4254-1728172800-1728172800@shekinahrevivalministries.com
SUMMARY:Water Baptism
DESCRIPTION:
URL:https://shekinahrevivalministries.com/event/water-baptism-2-2-2/
LOCATION:Shekinah Revival Ministries\, 1941 Washington Ave.\, Holland\, MI\, 49423\, United States
ATTACH;FMTTYPE=image/png:https://shekinahrevivalministries.com/wp-content/uploads/2024/09/Water-Baptism-OCT-6.png
END:VEVENT
BEGIN:VEVENT
DTSTART;TZID=America/New_York:20241011T190000
DTEND;TZID=America/New_York:20241011T210000
DTSTAMP:20260423T111144
CREATED:20240923T205254Z
LAST-MODIFIED:20240923T205254Z
UID:4244-1728673200-1728680400@shekinahrevivalministries.com
SUMMARY:Healing Service
DESCRIPTION:
URL:https://shekinahrevivalministries.com/event/healing-service-9-2-2-2-2-2-2-2-2-2/
LOCATION:Shekinah Revival Ministries\, 1941 Washington Ave.\, Holland\, MI\, 49423\, United States
ATTACH;FMTTYPE=image/png:https://shekinahrevivalministries.com/wp-content/uploads/2024/09/FRIDAY-NIGHT-HEALING-OCT-11.png
ORGANIZER;CN="Pastor Will Dilbert":MAILTO:pastorwill@liftingjesushigher.org
END:VEVENT
BEGIN:VEVENT
DTSTART;TZID=America/New_York:20241020T000000
DTEND;TZID=America/New_York:20241020T000000
DTSTAMP:20260423T111144
CREATED:20240930T131515Z
LAST-MODIFIED:20240930T131515Z
UID:4252-1729382400-1729382400@shekinahrevivalministries.com
SUMMARY:Home Life Group - October
DESCRIPTION:would love to have you join us in our small groups for food and fellowship
URL:https://shekinahrevivalministries.com/event/home-life-group-september-2-3-2-2-2-2-2-2-2/
LOCATION:MI
ATTACH;FMTTYPE=image/png:https://shekinahrevivalministries.com/wp-content/uploads/2024/09/HLG-OCTOBER-2024.png
ORGANIZER;CN="Pastor Will Dilbert":MAILTO:pastorwill@liftingjesushigher.org
END:VEVENT
BEGIN:VEVENT
DTSTART;TZID=America/New_York:20241025T180000
DTEND;TZID=America/New_York:20241025T210000
DTSTAMP:20260423T111144
CREATED:20241006T205912Z
LAST-MODIFIED:20241006T205912Z
UID:4279-1729879200-1729890000@shekinahrevivalministries.com
SUMMARY:Fall Fest - Youth Event
DESCRIPTION:
URL:https://shekinahrevivalministries.com/event/fall-fest-youth-event/
LOCATION:Shekinah Revival Ministries\, 1941 Washington Ave.\, Holland\, MI\, 49423\, United States
ATTACH;FMTTYPE=image/png:https://shekinahrevivalministries.com/wp-content/uploads/2024/10/NE-FALL-FEST-OCT-25.png
END:VEVENT
BEGIN:VEVENT
DTSTART;TZID=America/New_York:20241028T183000
DTEND;TZID=America/New_York:20241028T203000
DTSTAMP:20260423T111144
CREATED:20241021T125052Z
LAST-MODIFIED:20241021T125052Z
UID:4308-1730140200-1730147400@shekinahrevivalministries.com
SUMMARY:Intercessory Gathering
DESCRIPTION:
URL:https://shekinahrevivalministries.com/event/intercessory-gathering-9-2-2-2-2-2-2-2/
LOCATION:Shekinah Revival Ministries\, 1941 Washington Ave.\, Holland\, MI\, 49423\, United States
ATTACH;FMTTYPE=image/png:https://shekinahrevivalministries.com/wp-content/uploads/2024/10/Intercessory-Gathering-OCT-28.png
ORGANIZER;CN="Pastor Will Dilbert":MAILTO:pastorwill@liftingjesushigher.org
END:VEVENT
BEGIN:VEVENT
DTSTART;TZID=America/New_York:20241031T180000
DTEND;TZID=America/New_York:20241031T200000
DTSTAMP:20260423T111144
CREATED:20241006T205746Z
LAST-MODIFIED:20241006T205746Z
UID:4276-1730397600-1730404800@shekinahrevivalministries.com
SUMMARY:Hallelujah Night
DESCRIPTION:
URL:https://shekinahrevivalministries.com/event/hallelujah-night-2-2/
LOCATION:Rollxscape Skating Center\, 12521 James St\, Holland\, MI\, 49424\, United States
ATTACH;FMTTYPE=image/png:https://shekinahrevivalministries.com/wp-content/uploads/2024/10/Hallelujah-Night-Oct-31.png
END:VEVENT
END:VCALENDAR