BEGIN:VCALENDAR
VERSION:2.0
PRODID:-//Shekinah Revival Ministries - ECPv6.15.18//NONSGML v1.0//EN
CALSCALE:GREGORIAN
METHOD:PUBLISH
X-WR-CALNAME:Shekinah Revival Ministries
X-ORIGINAL-URL:https://shekinahrevivalministries.com
X-WR-CALDESC:Events for Shekinah Revival Ministries
REFRESH-INTERVAL;VALUE=DURATION:PT1H
X-Robots-Tag:noindex
X-PUBLISHED-TTL:PT1H
BEGIN:VTIMEZONE
TZID:America/New_York
BEGIN:DAYLIGHT
TZOFFSETFROM:-0500
TZOFFSETTO:-0400
TZNAME:EDT
DTSTART:20230312T070000
END:DAYLIGHT
BEGIN:STANDARD
TZOFFSETFROM:-0400
TZOFFSETTO:-0500
TZNAME:EST
DTSTART:20231105T060000
END:STANDARD
BEGIN:DAYLIGHT
TZOFFSETFROM:-0500
TZOFFSETTO:-0400
TZNAME:EDT
DTSTART:20240310T070000
END:DAYLIGHT
BEGIN:STANDARD
TZOFFSETFROM:-0400
TZOFFSETTO:-0500
TZNAME:EST
DTSTART:20241103T060000
END:STANDARD
BEGIN:DAYLIGHT
TZOFFSETFROM:-0500
TZOFFSETTO:-0400
TZNAME:EDT
DTSTART:20250309T070000
END:DAYLIGHT
BEGIN:STANDARD
TZOFFSETFROM:-0400
TZOFFSETTO:-0500
TZNAME:EST
DTSTART:20251102T060000
END:STANDARD
END:VTIMEZONE
BEGIN:VEVENT
DTSTART;TZID=America/New_York:20241102T090000
DTEND;TZID=America/New_York:20241102T113000
DTSTAMP:20260423T093041
CREATED:20241013T210938Z
LAST-MODIFIED:20241013T210939Z
UID:4290-1730538000-1730547000@shekinahrevivalministries.com
SUMMARY:Men's Breakfast
DESCRIPTION:
URL:https://shekinahrevivalministries.com/event/mens-breakfast-2-2/
LOCATION:Shekinah Revival Ministries\, 1941 Washington Ave.\, Holland\, MI\, 49423\, United States
ATTACH;FMTTYPE=image/png:https://shekinahrevivalministries.com/wp-content/uploads/2024/10/Mens-Breakfast-NOV-2.png
END:VEVENT
BEGIN:VEVENT
DTSTART;TZID=America/New_York:20241103T180000
DTEND;TZID=America/New_York:20241103T200000
DTSTAMP:20260423T093041
CREATED:20241013T210818Z
LAST-MODIFIED:20241013T210818Z
UID:4287-1730656800-1730664000@shekinahrevivalministries.com
SUMMARY:Family Prophetic Night
DESCRIPTION:
URL:https://shekinahrevivalministries.com/event/family-prophetic-night-3-2-2/
LOCATION:Shekinah Revival Ministries\, 1941 Washington Ave.\, Holland\, MI\, 49423\, United States
ATTACH;FMTTYPE=image/png:https://shekinahrevivalministries.com/wp-content/uploads/2024/10/Family-Prophetic-Night-NOV-3.png
END:VEVENT
BEGIN:VEVENT
DTSTART;TZID=America/New_York:20241107T150000
DTEND;TZID=America/New_York:20241107T163000
DTSTAMP:20260423T093041
CREATED:20241021T124945Z
LAST-MODIFIED:20241021T124945Z
UID:4309-1730991600-1730997000@shekinahrevivalministries.com
SUMMARY:Food for Families
DESCRIPTION:
URL:https://shekinahrevivalministries.com/event/food-for-families-12-2-2-2-2-2-2-2-2-2/
LOCATION:Shekinah Revival Ministries\, 1941 Washington Ave.\, Holland\, MI\, 49423\, United States
ATTACH;FMTTYPE=image/png:https://shekinahrevivalministries.com/wp-content/uploads/2024/10/November-7-FFF-.png
END:VEVENT
BEGIN:VEVENT
DTSTART;TZID=America/New_York:20241108T190000
DTEND;TZID=America/New_York:20241108T210000
DTSTAMP:20260423T093041
CREATED:20241021T125212Z
LAST-MODIFIED:20241021T125212Z
UID:4307-1731092400-1731099600@shekinahrevivalministries.com
SUMMARY:Healing Service
DESCRIPTION:
URL:https://shekinahrevivalministries.com/event/healing-service-9-2-2-2-2-2-2-2-2-2-2/
LOCATION:Shekinah Revival Ministries\, 1941 Washington Ave.\, Holland\, MI\, 49423\, United States
ATTACH;FMTTYPE=image/png:https://shekinahrevivalministries.com/wp-content/uploads/2024/10/FRIDAY-NIGHT-HEALING-NOV-8.png
ORGANIZER;CN="Pastor Will Dilbert":MAILTO:pastorwill@liftingjesushigher.org
END:VEVENT
BEGIN:VEVENT
DTSTART;TZID=America/New_York:20241117T000000
DTEND;TZID=America/New_York:20241117T000000
DTSTAMP:20260423T093041
CREATED:20241104T220607Z
LAST-MODIFIED:20241104T220607Z
UID:4334-1731801600-1731801600@shekinahrevivalministries.com
SUMMARY:Bake Sale - Youth Fundraiser
DESCRIPTION:
URL:https://shekinahrevivalministries.com/event/bake-sale-youth-fundraiser-2/
LOCATION:Shekinah Revival Ministries\, 1941 Washington Ave.\, Holland\, MI\, 49423\, United States
ATTACH;FMTTYPE=image/png:https://shekinahrevivalministries.com/wp-content/uploads/2024/11/Bake-Sale-Nov-17.png
END:VEVENT
BEGIN:VEVENT
DTSTART;TZID=America/New_York:20241117T000000
DTEND;TZID=America/New_York:20241117T000000
DTSTAMP:20260423T093041
CREATED:20241104T220835Z
LAST-MODIFIED:20241104T220835Z
UID:4330-1731801600-1731801600@shekinahrevivalministries.com
SUMMARY:Home Life Group - November
DESCRIPTION:would love to have you join us in our small groups for food and fellowship
URL:https://shekinahrevivalministries.com/event/home-life-group-september-2-3-2-2-2-2-2-2-2-2/
LOCATION:MI
ATTACH;FMTTYPE=image/png:https://shekinahrevivalministries.com/wp-content/uploads/2024/11/HLG-NOV-17.png
ORGANIZER;CN="Pastor Will Dilbert":MAILTO:pastorwill@liftingjesushigher.org
END:VEVENT
BEGIN:VEVENT
DTSTART;TZID=America/New_York:20241125T183000
DTEND;TZID=America/New_York:20241125T203000
DTSTAMP:20260423T093041
CREATED:20241104T231015Z
LAST-MODIFIED:20241104T231015Z
UID:4331-1732559400-1732566600@shekinahrevivalministries.com
SUMMARY:Intercessory Gathering
DESCRIPTION:
URL:https://shekinahrevivalministries.com/event/intercessory-gathering-9-2-2-2-2-2-2-2-2/
LOCATION:Shekinah Revival Ministries\, 1941 Washington Ave.\, Holland\, MI\, 49423\, United States
ATTACH;FMTTYPE=image/png:https://shekinahrevivalministries.com/wp-content/uploads/2024/11/Intercessory-Gathering-NOV-25.png
ORGANIZER;CN="Pastor Will Dilbert":MAILTO:pastorwill@liftingjesushigher.org
END:VEVENT
END:VCALENDAR