BEGIN:VCALENDAR
VERSION:2.0
PRODID:-//Shekinah Revival Ministries - ECPv6.15.18//NONSGML v1.0//EN
CALSCALE:GREGORIAN
METHOD:PUBLISH
X-ORIGINAL-URL:https://shekinahrevivalministries.com
X-WR-CALDESC:Events for Shekinah Revival Ministries
REFRESH-INTERVAL;VALUE=DURATION:PT1H
X-Robots-Tag:noindex
X-PUBLISHED-TTL:PT1H
BEGIN:VTIMEZONE
TZID:America/New_York
BEGIN:DAYLIGHT
TZOFFSETFROM:-0500
TZOFFSETTO:-0400
TZNAME:EDT
DTSTART:20240310T070000
END:DAYLIGHT
BEGIN:STANDARD
TZOFFSETFROM:-0400
TZOFFSETTO:-0500
TZNAME:EST
DTSTART:20241103T060000
END:STANDARD
BEGIN:DAYLIGHT
TZOFFSETFROM:-0500
TZOFFSETTO:-0400
TZNAME:EDT
DTSTART:20250309T070000
END:DAYLIGHT
BEGIN:STANDARD
TZOFFSETFROM:-0400
TZOFFSETTO:-0500
TZNAME:EST
DTSTART:20251102T060000
END:STANDARD
BEGIN:DAYLIGHT
TZOFFSETFROM:-0500
TZOFFSETTO:-0400
TZNAME:EDT
DTSTART:20260308T070000
END:DAYLIGHT
BEGIN:STANDARD
TZOFFSETFROM:-0400
TZOFFSETTO:-0500
TZNAME:EST
DTSTART:20261101T060000
END:STANDARD
END:VTIMEZONE
BEGIN:VEVENT
DTSTART;TZID=America/New_York:20250502T000000
DTEND;TZID=America/New_York:20250503T000000
DTSTAMP:20260422T231326
CREATED:20250324T005122Z
LAST-MODIFIED:20250324T005653Z
UID:4608-1746144000-1746230400@shekinahrevivalministries.com
SUMMARY:Children Spring Retreat
DESCRIPTION:
URL:https://shekinahrevivalministries.com/event/kick-spring-retreat/
LOCATION:Shekinah Revival Ministries\, 1941 Washington Ave.\, Holland\, MI\, 49423\, United States
ATTACH;FMTTYPE=image/jpeg:https://shekinahrevivalministries.com/wp-content/uploads/2025/03/KICK-Spring-Retreat-May-2-3.jpg
END:VEVENT
BEGIN:VEVENT
DTSTART;TZID=America/New_York:20250518T000000
DTEND;TZID=America/New_York:20250518T000000
DTSTAMP:20260422T231326
CREATED:20250428T143330Z
LAST-MODIFIED:20250428T143330Z
UID:4665-1747526400-1747526400@shekinahrevivalministries.com
SUMMARY:Bake Sale - Youth Fundraiser
DESCRIPTION:
URL:https://shekinahrevivalministries.com/event/bake-sale-youth-fundraiser-2-2-2/
LOCATION:Shekinah Revival Ministries\, 1941 Washington Ave.\, Holland\, MI\, 49423\, United States
ATTACH;FMTTYPE=image/png:https://shekinahrevivalministries.com/wp-content/uploads/2025/04/Bake-Sale-May-18.png
END:VEVENT
BEGIN:VEVENT
DTSTART;TZID=America/New_York:20250518T000000
DTEND;TZID=America/New_York:20250518T000000
DTSTAMP:20260422T231326
CREATED:20250512T124036Z
LAST-MODIFIED:20250512T124036Z
UID:4695-1747526400-1747526400@shekinahrevivalministries.com
SUMMARY:Home Life Group - May
DESCRIPTION:would love to have you join us in our small groups for food and fellowship
URL:https://shekinahrevivalministries.com/event/home-life-group-september-2-3-2-2-2-2-2-2-2-2-3-2-2-2/
LOCATION:MI
ATTACH;FMTTYPE=image/jpeg:https://shekinahrevivalministries.com/wp-content/uploads/2025/05/HLG-MAY-2025.jpg
ORGANIZER;CN="Pastor Will Dilbert":MAILTO:pastorwill@liftingjesushigher.org
END:VEVENT
END:VCALENDAR