BEGIN:VCALENDAR
VERSION:2.0
PRODID:-//Shekinah Revival Ministries - ECPv6.15.18//NONSGML v1.0//EN
CALSCALE:GREGORIAN
METHOD:PUBLISH
X-WR-CALNAME:Shekinah Revival Ministries
X-ORIGINAL-URL:https://shekinahrevivalministries.com
X-WR-CALDESC:Events for Shekinah Revival Ministries
REFRESH-INTERVAL;VALUE=DURATION:PT1H
X-Robots-Tag:noindex
X-PUBLISHED-TTL:PT1H
BEGIN:VTIMEZONE
TZID:America/New_York
BEGIN:DAYLIGHT
TZOFFSETFROM:-0500
TZOFFSETTO:-0400
TZNAME:EDT
DTSTART:20240310T070000
END:DAYLIGHT
BEGIN:STANDARD
TZOFFSETFROM:-0400
TZOFFSETTO:-0500
TZNAME:EST
DTSTART:20241103T060000
END:STANDARD
BEGIN:DAYLIGHT
TZOFFSETFROM:-0500
TZOFFSETTO:-0400
TZNAME:EDT
DTSTART:20250309T070000
END:DAYLIGHT
BEGIN:STANDARD
TZOFFSETFROM:-0400
TZOFFSETTO:-0500
TZNAME:EST
DTSTART:20251102T060000
END:STANDARD
BEGIN:DAYLIGHT
TZOFFSETFROM:-0500
TZOFFSETTO:-0400
TZNAME:EDT
DTSTART:20260308T070000
END:DAYLIGHT
BEGIN:STANDARD
TZOFFSETFROM:-0400
TZOFFSETTO:-0500
TZNAME:EST
DTSTART:20261101T060000
END:STANDARD
END:VTIMEZONE
BEGIN:VEVENT
DTSTART;VALUE=DATE:20250629
DTEND;VALUE=DATE:20250721
DTSTAMP:20260422T192408
CREATED:20250707T130729Z
LAST-MODIFIED:20250707T130729Z
UID:4808-1751155200-1753055999@shekinahrevivalministries.com
SUMMARY:Children's Ministry Pop Can Drive
DESCRIPTION:
URL:https://shekinahrevivalministries.com/event/childrens-ministry-pop-can-drive/
LOCATION:Shekinah Revival Ministries\, 1941 Washington Ave.\, Holland\, MI\, 49423\, United States
ATTACH;FMTTYPE=image/png:https://shekinahrevivalministries.com/wp-content/uploads/2025/07/Pop-Can-Childrens-Fundraiser-PG-1.png
END:VEVENT
BEGIN:VEVENT
DTSTART;TZID=America/New_York:20250710T150000
DTEND;TZID=America/New_York:20250710T163000
DTSTAMP:20260422T192408
CREATED:20250623T160202Z
LAST-MODIFIED:20250623T160202Z
UID:4776-1752159600-1752165000@shekinahrevivalministries.com
SUMMARY:Food for Families
DESCRIPTION:
URL:https://shekinahrevivalministries.com/event/food-for-families-12-2-2-2-2-2-2-2-2-2-2-2-2-2-2-2-2/
LOCATION:Shekinah Revival Ministries\, 1941 Washington Ave.\, Holland\, MI\, 49423\, United States
ATTACH;FMTTYPE=image/png:https://shekinahrevivalministries.com/wp-content/uploads/2025/06/FFF-JULY-10.png
END:VEVENT
BEGIN:VEVENT
DTSTART;TZID=America/New_York:20250720T000000
DTEND;TZID=America/New_York:20250720T000000
DTSTAMP:20260422T192408
CREATED:20250714T141254Z
LAST-MODIFIED:20250714T141254Z
UID:4821-1752969600-1752969600@shekinahrevivalministries.com
SUMMARY:Home Life Group - July
DESCRIPTION:would love to have you join us in our small groups for food and fellowship
URL:https://shekinahrevivalministries.com/event/home-life-group-september-2-3-2-2-2-2-2-2-2-2-3-2-2-2-2-2/
LOCATION:MI
ATTACH;FMTTYPE=image/jpeg:https://shekinahrevivalministries.com/wp-content/uploads/2025/07/HLG-JULY-2025-done.jpg
ORGANIZER;CN="Pastor Will Dilbert":MAILTO:pastorwill@liftingjesushigher.org
END:VEVENT
BEGIN:VEVENT
DTSTART;TZID=America/New_York:20250724T170000
DTEND;TZID=America/New_York:20250724T200000
DTSTAMP:20260422T192408
CREATED:20250714T141513Z
LAST-MODIFIED:20250714T141513Z
UID:4824-1753376400-1753387200@shekinahrevivalministries.com
SUMMARY:Village Inn - Youth Fundraiser
DESCRIPTION:
URL:https://shekinahrevivalministries.com/event/village-inn-youth-fundraiser-2-2/
LOCATION:Village Inn\, 934 Washington Ave\, Holland\, MI\, 49423\, United States
ATTACH;FMTTYPE=image/png:https://shekinahrevivalministries.com/wp-content/uploads/2025/07/NE-Village-lnn-Fundraising-July-24.png
END:VEVENT
BEGIN:VEVENT
DTSTART;TZID=America/New_York:20250728T183000
DTEND;TZID=America/New_York:20250728T203000
DTSTAMP:20260422T192408
CREATED:20250714T142232Z
LAST-MODIFIED:20250714T142232Z
UID:4830-1753727400-1753734600@shekinahrevivalministries.com
SUMMARY:Intercessory Gathering
DESCRIPTION:
URL:https://shekinahrevivalministries.com/event/intercessory-gathering-9-2-2-2-2-2-2-2-2-2-2-2-2-2-2/
LOCATION:Shekinah Revival Ministries\, 1941 Washington Ave.\, Holland\, MI\, 49423\, United States
ATTACH;FMTTYPE=image/jpeg:https://shekinahrevivalministries.com/wp-content/uploads/2025/07/Intercessory-Gathering-July-28.jpg
ORGANIZER;CN="Pastor Will Dilbert":MAILTO:pastorwill@liftingjesushigher.org
END:VEVENT
END:VCALENDAR