BEGIN:VCALENDAR
VERSION:2.0
PRODID:-//Shekinah Revival Ministries - ECPv6.15.18//NONSGML v1.0//EN
CALSCALE:GREGORIAN
METHOD:PUBLISH
X-WR-CALNAME:Shekinah Revival Ministries
X-ORIGINAL-URL:https://shekinahrevivalministries.com
X-WR-CALDESC:Events for Shekinah Revival Ministries
REFRESH-INTERVAL;VALUE=DURATION:PT1H
X-Robots-Tag:noindex
X-PUBLISHED-TTL:PT1H
BEGIN:VTIMEZONE
TZID:America/New_York
BEGIN:DAYLIGHT
TZOFFSETFROM:-0500
TZOFFSETTO:-0400
TZNAME:EDT
DTSTART:20240310T070000
END:DAYLIGHT
BEGIN:STANDARD
TZOFFSETFROM:-0400
TZOFFSETTO:-0500
TZNAME:EST
DTSTART:20241103T060000
END:STANDARD
BEGIN:DAYLIGHT
TZOFFSETFROM:-0500
TZOFFSETTO:-0400
TZNAME:EDT
DTSTART:20250309T070000
END:DAYLIGHT
BEGIN:STANDARD
TZOFFSETFROM:-0400
TZOFFSETTO:-0500
TZNAME:EST
DTSTART:20251102T060000
END:STANDARD
BEGIN:DAYLIGHT
TZOFFSETFROM:-0500
TZOFFSETTO:-0400
TZNAME:EDT
DTSTART:20260308T070000
END:DAYLIGHT
BEGIN:STANDARD
TZOFFSETFROM:-0400
TZOFFSETTO:-0500
TZNAME:EST
DTSTART:20261101T060000
END:STANDARD
END:VTIMEZONE
BEGIN:VEVENT
DTSTART;TZID=America/New_York:20251103T183000
DTEND;TZID=America/New_York:20251103T203000
DTSTAMP:20260422T121905
CREATED:20251020T131927Z
LAST-MODIFIED:20251020T131927Z
UID:4976-1762194600-1762201800@shekinahrevivalministries.com
SUMMARY:Intercessory Gathering
DESCRIPTION:
URL:https://shekinahrevivalministries.com/event/intercessory-gathering-9-2-2-2-2-2-2-2-2-2-2-2-2-2-2-2-2/
LOCATION:Shekinah Revival Ministries\, 1941 Washington Ave.\, Holland\, MI\, 49423\, United States
ATTACH;FMTTYPE=image/jpeg:https://shekinahrevivalministries.com/wp-content/uploads/2025/10/Intercessory-Gathering-NOVEMBER-3.jpg
ORGANIZER;CN="Pastor Will Dilbert":MAILTO:pastorwill@liftingjesushigher.org
END:VEVENT
BEGIN:VEVENT
DTSTART;TZID=America/New_York:20251106T150000
DTEND;TZID=America/New_York:20251106T163000
DTSTAMP:20260422T121905
CREATED:20251020T131811Z
LAST-MODIFIED:20251020T131811Z
UID:4977-1762441200-1762446600@shekinahrevivalministries.com
SUMMARY:Food for Families
DESCRIPTION:
URL:https://shekinahrevivalministries.com/event/food-for-families-12-2-2-2-2-2-2-2-2-2-2-2-2-2-2-2-2-2-2-3/
LOCATION:Shekinah Revival Ministries\, 1941 Washington Ave.\, Holland\, MI\, 49423\, United States
ATTACH;FMTTYPE=image/png:https://shekinahrevivalministries.com/wp-content/uploads/2025/10/FFF-NOVEMBER-6.png
END:VEVENT
BEGIN:VEVENT
DTSTART;VALUE=DATE:20251109
DTEND;VALUE=DATE:20251110
DTSTAMP:20260422T121905
CREATED:20250922T133326Z
LAST-MODIFIED:20250922T133326Z
UID:4929-1762646400-1762732799@shekinahrevivalministries.com
SUMMARY:Prophetess Gina Gholston
DESCRIPTION:
URL:https://shekinahrevivalministries.com/event/prophetess-gina-gholston-3-2/
LOCATION:Shekinah Revival Ministries\, 1941 Washington Ave.\, Holland\, MI\, 49423\, United States
ATTACH;FMTTYPE=image/png:https://shekinahrevivalministries.com/wp-content/uploads/2025/09/Gina-Gholston-Nov-9.png
END:VEVENT
BEGIN:VEVENT
DTSTART;TZID=America/New_York:20251116T000000
DTEND;TZID=America/New_York:20251116T000000
DTSTAMP:20260422T121905
CREATED:20251103T211434Z
LAST-MODIFIED:20251103T211434Z
UID:5042-1763251200-1763251200@shekinahrevivalministries.com
SUMMARY:Home Life Group - November
DESCRIPTION:would love to have you join us in our small groups for food and fellowship
URL:https://shekinahrevivalministries.com/event/home-life-group-september-2-3-2-2-2-2-2-2-2-2-3-2-2-2-2-2-2/
LOCATION:MI
ATTACH;FMTTYPE=image/png:https://shekinahrevivalministries.com/wp-content/uploads/2025/11/HLG-NOVEMBER-16.png
END:VEVENT
BEGIN:VEVENT
DTSTART;TZID=America/New_York:20251116T000000
DTEND;TZID=America/New_York:20251116T000000
DTSTAMP:20260422T121905
CREATED:20251103T211523Z
LAST-MODIFIED:20251103T211523Z
UID:5045-1763251200-1763251200@shekinahrevivalministries.com
SUMMARY:Bake Sale - Youth Fundraiser
DESCRIPTION:
URL:https://shekinahrevivalministries.com/event/bake-sale-youth-fundraiser-2-2-2-2-2-2/
LOCATION:Shekinah Revival Ministries\, 1941 Washington Ave.\, Holland\, MI\, 49423\, United States
ATTACH;FMTTYPE=image/png:https://shekinahrevivalministries.com/wp-content/uploads/2025/11/Bake-Sale-NOV-16.png
END:VEVENT
BEGIN:VEVENT
DTSTART;VALUE=DATE:20251127
DTEND;VALUE=DATE:20251128
DTSTAMP:20260422T121905
CREATED:20251116T230543Z
LAST-MODIFIED:20251116T230543Z
UID:5080-1764201600-1764287999@shekinahrevivalministries.com
SUMMARY:Thanksgiving Holiday Hours
DESCRIPTION:
URL:https://shekinahrevivalministries.com/event/thanksgiving-holiday-hours/
LOCATION:Shekinah Revival Ministries\, 1941 Washington Ave.\, Holland\, MI\, 49423\, United States
ATTACH;FMTTYPE=image/jpeg:https://shekinahrevivalministries.com/wp-content/uploads/2025/11/Thanksgiving-Holiday-Hours.jpg
END:VEVENT
END:VCALENDAR